BEGIN:VCALENDAR
VERSION:2.0
PRODID:-//Sabre//Sabre VObject 4.5.8//EN
CALSCALE:GREGORIAN
NAME:Bistum Augsburg
X-WR-CALNAME:Bistum Augsburg
BEGIN:VEVENT
UID:sabre-vobject-80359135-c4f1-4cbe-a059-2423d4903576
DTSTAMP:20260422T024458Z
SUMMARY:Rosenkranz in der Feldkapelle St. Josef
DESCRIPTION:https://pfarreien-bistum-augsburg.df-preview.de/rosenkranz-in-d
 er-feldkapelle-st-josef_id1672375
DTSTART;TZID=Europe/Berlin:20260424T180000
DURATION:PT30M
LOCATION:St. Ursula\, \, 89362 Offingen
END:VEVENT
BEGIN:VEVENT
UID:sabre-vobject-7845cd8b-1338-4070-8b15-65addf9ff95f
DTSTAMP:20260422T024458Z
SUMMARY:Vorabendmesse
DESCRIPTION:https://pfarreien-bistum-augsburg.df-preview.de/vorabendmesse_i
 d1672376
DTSTART;TZID=Europe/Berlin:20260425T183000
DURATION:PT30M
LOCATION:St. Ursula\, \, 89362 Offingen
END:VEVENT
BEGIN:VEVENT
UID:sabre-vobject-1a369489-142a-4579-8bf8-ac39e38dc11c
DTSTAMP:20260422T024458Z
SUMMARY:Vorabendmesse
DESCRIPTION:https://pfarreien-bistum-augsburg.df-preview.de/vorabendmesse_i
 d1740726
DTSTART;TZID=Europe/Berlin:20260425T183000
DURATION:PT30M
LOCATION:St. Ursula\, \, 89362 Offingen
END:VEVENT
BEGIN:VEVENT
UID:sabre-vobject-039bf6ec-b85d-4cb7-a8d6-d87d28594f3b
DTSTAMP:20260422T024458Z
SUMMARY:Rosenkranz
DESCRIPTION:https://pfarreien-bistum-augsburg.df-preview.de/rosenkranz_id16
 72377
DTSTART;TZID=Europe/Berlin:20260427T180000
DURATION:PT30M
LOCATION:St. Ursula\, \, 89362 Offingen
END:VEVENT
BEGIN:VEVENT
UID:sabre-vobject-2bbb5e17-7e57-49f7-8fa0-a419525cf944
DTSTAMP:20260422T024458Z
SUMMARY:Rosenkranz
DESCRIPTION:https://pfarreien-bistum-augsburg.df-preview.de/rosenkranz_id17
 40727
DTSTART;TZID=Europe/Berlin:20260427T180000
DURATION:PT30M
LOCATION:St. Ursula\, \, 89362 Offingen
END:VEVENT
BEGIN:VEVENT
UID:sabre-vobject-31ff9d28-60c7-4cc1-9ebc-9f7fa0a959f7
DTSTAMP:20260422T024458Z
SUMMARY:Feierliche Maiandacht
DESCRIPTION:https://pfarreien-bistum-augsburg.df-preview.de/feierliche-maia
 ndacht_id1672409
DTSTART;TZID=Europe/Berlin:20260501T183000
DURATION:PT30M
LOCATION:St. Ursula\, \, 89362 Offingen
END:VEVENT
BEGIN:VEVENT
UID:sabre-vobject-c168841f-d1b2-40e9-8a76-f1c5be1a7db2
DTSTAMP:20260422T024458Z
SUMMARY:Feierliche Maiandacht
DESCRIPTION:https://pfarreien-bistum-augsburg.df-preview.de/feierliche-maia
 ndacht_id1740731
DTSTART;TZID=Europe/Berlin:20260501T183000
DURATION:PT30M
LOCATION:St. Ursula\, \, 89362 Offingen
END:VEVENT
BEGIN:VEVENT
UID:sabre-vobject-db25077e-5e19-4a40-a18f-cf19d8262ac0
DTSTAMP:20260422T024458Z
SUMMARY:Taufe Daniel Anton Ludwig Klaus
DESCRIPTION:https://pfarreien-bistum-augsburg.df-preview.de/taufe-daniel-an
 ton-ludwig-klaus_id1742050
DTSTART;TZID=Europe/Berlin:20260503T113000
DURATION:PT30M
LOCATION:St. Ursula\, \, 89362 Offingen
END:VEVENT
BEGIN:VEVENT
UID:sabre-vobject-357a2289-e5e6-4284-991a-7556521c399e
DTSTAMP:20260422T024458Z
SUMMARY:Rosenkranz
DESCRIPTION:https://pfarreien-bistum-augsburg.df-preview.de/rosenkranz_id16
 72395
DTSTART;TZID=Europe/Berlin:20260504T180000
DURATION:PT30M
LOCATION:St. Ursula\, \, 89362 Offingen
END:VEVENT
BEGIN:VEVENT
UID:sabre-vobject-9ce5a865-8266-41f8-9faa-05f40a10a74e
DTSTAMP:20260422T024458Z
SUMMARY:Rosenkranz in der Feldkapelle St. Josef
DESCRIPTION:https://pfarreien-bistum-augsburg.df-preview.de/rosenkranz-in-d
 er-feldkapelle-st-josef_id1672396
DTSTART;TZID=Europe/Berlin:20260508T180000
DURATION:PT30M
LOCATION:St. Ursula\, \, 89362 Offingen
END:VEVENT
BEGIN:VEVENT
UID:sabre-vobject-593dffe9-1d12-4ad5-bcf2-35f61f2acdbd
DTSTAMP:20260422T024458Z
SUMMARY:Heilige Messe
DESCRIPTION:https://pfarreien-bistum-augsburg.df-preview.de/heilige-messe_i
 d1672397
DTSTART;TZID=Europe/Berlin:20260510T103000
DURATION:PT30M
LOCATION:St. Ursula\, \, 89362 Offingen
END:VEVENT
BEGIN:VEVENT
UID:sabre-vobject-0ac71489-f19d-4397-b646-e3bf9ee1e21f
DTSTAMP:20260422T024458Z
SUMMARY:Feierliche Maiandacht
DESCRIPTION:https://pfarreien-bistum-augsburg.df-preview.de/feierliche-maia
 ndacht_id1672398
DTSTART;TZID=Europe/Berlin:20260514T183000
DURATION:PT30M
LOCATION:St. Ursula\, \, 89362 Offingen
END:VEVENT
BEGIN:VEVENT
UID:sabre-vobject-ea7747e6-ae1c-42d6-843e-dedab5bcd7b9
DTSTAMP:20260422T024458Z
SUMMARY:Rosenkranz in der Feldkapelle St. Josef
DESCRIPTION:https://pfarreien-bistum-augsburg.df-preview.de/rosenkranz-in-d
 er-feldkapelle-st-josef_id1672399
DTSTART;TZID=Europe/Berlin:20260515T180000
DURATION:PT30M
LOCATION:St. Ursula\, \, 89362 Offingen
END:VEVENT
BEGIN:VEVENT
UID:sabre-vobject-355028e9-1941-4834-b560-c17d54861eb5
DTSTAMP:20260422T024458Z
SUMMARY:Rosenkranz
DESCRIPTION:https://pfarreien-bistum-augsburg.df-preview.de/rosenkranz_id16
 72400
DTSTART;TZID=Europe/Berlin:20260518T180000
DURATION:PT30M
LOCATION:St. Ursula\, \, 89362 Offingen
END:VEVENT
BEGIN:VEVENT
UID:sabre-vobject-90e971ba-8714-426e-a5f0-51d638c8a3d1
DTSTAMP:20260422T024458Z
SUMMARY:Rosenkranz in der Feldkapelle St. Josef
DESCRIPTION:https://pfarreien-bistum-augsburg.df-preview.de/rosenkranz-in-d
 er-feldkapelle-st-josef_id1672401
DTSTART;TZID=Europe/Berlin:20260522T180000
DURATION:PT30M
LOCATION:St. Ursula\, \, 89362 Offingen
END:VEVENT
BEGIN:VEVENT
UID:sabre-vobject-01f9993a-cee7-44d3-ae0f-1d2a66258af5
DTSTAMP:20260422T024458Z
SUMMARY:Rosenkranz in der Feldkapelle St. Josef
DESCRIPTION:https://pfarreien-bistum-augsburg.df-preview.de/rosenkranz-in-d
 er-feldkapelle-st-josef_id1672403
DTSTART;TZID=Europe/Berlin:20260529T180000
DURATION:PT30M
LOCATION:St. Ursula\, \, 89362 Offingen
END:VEVENT
BEGIN:VEVENT
UID:sabre-vobject-55df38a6-82e5-4edf-90dd-0b9696a37cf8
DTSTAMP:20260422T024458Z
SUMMARY:Heilige Messe
DESCRIPTION:https://pfarreien-bistum-augsburg.df-preview.de/heilige-messe_i
 d1672404
DTSTART;TZID=Europe/Berlin:20260531T090000
DURATION:PT30M
LOCATION:St. Ursula\, \, 89362 Offingen
END:VEVENT
BEGIN:VEVENT
UID:sabre-vobject-77d1227f-7fa0-428e-85e6-dbbd333f94bb
DTSTAMP:20260422T024458Z
SUMMARY:Rosenkranz
DESCRIPTION:https://pfarreien-bistum-augsburg.df-preview.de/rosenkranz_id16
 72405
DTSTART;TZID=Europe/Berlin:20260601T180000
DURATION:PT30M
LOCATION:St. Ursula\, \, 89362 Offingen
END:VEVENT
BEGIN:VEVENT
UID:sabre-vobject-90489870-f541-4886-9633-0b5184109d9a
DTSTAMP:20260422T024458Z
SUMMARY:Vorabendmesse mit Eucharistischem Segen
DESCRIPTION:https://pfarreien-bistum-augsburg.df-preview.de/vorabendmesse-m
 it-eucharistischem-segen_id1672406
DTSTART;TZID=Europe/Berlin:20260603T183000
DURATION:PT30M
LOCATION:St. Ursula\, \, 89362 Offingen
END:VEVENT
BEGIN:VEVENT
UID:sabre-vobject-c9ba3ced-a0c1-43fb-a590-292fffcf3d74
DTSTAMP:20260422T024458Z
SUMMARY:Rosenkranz in der Feldkapelle St. Josef
DESCRIPTION:https://pfarreien-bistum-augsburg.df-preview.de/rosenkranz-in-d
 er-feldkapelle-st-josef_id1672407
DTSTART;TZID=Europe/Berlin:20260605T180000
DURATION:PT30M
LOCATION:St. Ursula\, \, 89362 Offingen
END:VEVENT
BEGIN:VEVENT
UID:sabre-vobject-9cbc4885-7d60-44f2-9ae3-a09444ae2032
DTSTAMP:20260422T024458Z
SUMMARY:Rosenkranz
DESCRIPTION:https://pfarreien-bistum-augsburg.df-preview.de/rosenkranz_id16
 72402
DTSTART;TZID=Europe/Berlin:20260608T180000
DURATION:PT30M
LOCATION:St. Ursula\, \, 89362 Offingen
END:VEVENT
BEGIN:VEVENT
UID:sabre-vobject-38b14a57-f018-4be2-a83b-217dae4a4a6c
DTSTAMP:20260422T024458Z
SUMMARY:Rosenkranz in der Feldkapelle St. Josef
DESCRIPTION:https://pfarreien-bistum-augsburg.df-preview.de/rosenkranz-in-d
 er-feldkapelle-st-josef_id1672408
DTSTART;TZID=Europe/Berlin:20260612T180000
DURATION:PT30M
LOCATION:St. Ursula\, \, 89362 Offingen
END:VEVENT
BEGIN:VEVENT
UID:sabre-vobject-54a7fcc3-4544-46d4-b6ca-78fdb4c9ffeb
DTSTAMP:20260422T024458Z
SUMMARY:Heilige Messe
DESCRIPTION:https://pfarreien-bistum-augsburg.df-preview.de/heilige-messe_i
 d1672056
DTSTART;TZID=Europe/Berlin:20260614T090000
DURATION:PT30M
LOCATION:St. Ursula\, \, 89362 Offingen
END:VEVENT
BEGIN:VEVENT
UID:sabre-vobject-e1bedd55-1b54-42b7-8c99-81faa886f05e
DTSTAMP:20260422T024458Z
SUMMARY:Rosenkranz
DESCRIPTION:https://pfarreien-bistum-augsburg.df-preview.de/rosenkranz_id16
 72057
DTSTART;TZID=Europe/Berlin:20260615T180000
DURATION:PT30M
LOCATION:St. Ursula\, \, 89362 Offingen
END:VEVENT
BEGIN:VEVENT
UID:sabre-vobject-e39a2537-e02f-41e3-91dc-45ed92d58169
DTSTAMP:20260422T024458Z
SUMMARY:Rosenkranz in der Feldkapelle St. Josef
DESCRIPTION:https://pfarreien-bistum-augsburg.df-preview.de/rosenkranz-in-d
 er-feldkapelle-st-josef_id1672123
DTSTART;TZID=Europe/Berlin:20260619T180000
DURATION:PT30M
LOCATION:St. Ursula\, \, 89362 Offingen
END:VEVENT
BEGIN:VEVENT
UID:sabre-vobject-f995f9c6-8f63-4d88-af8a-c059831f6768
DTSTAMP:20260422T024458Z
SUMMARY:Rosenkranz
DESCRIPTION:https://pfarreien-bistum-augsburg.df-preview.de/rosenkranz_id16
 72055
DTSTART;TZID=Europe/Berlin:20260622T180000
DURATION:PT30M
LOCATION:St. Ursula\, \, 89362 Offingen
END:VEVENT
BEGIN:VEVENT
UID:sabre-vobject-ecf5297f-1fbf-463d-8c08-e232668ec546
DTSTAMP:20260422T024458Z
SUMMARY:Rosenkranz in der Feldkapelle St. Josef
DESCRIPTION:https://pfarreien-bistum-augsburg.df-preview.de/rosenkranz-in-d
 er-feldkapelle-st-josef_id1672124
DTSTART;TZID=Europe/Berlin:20260626T180000
DURATION:PT30M
LOCATION:St. Ursula\, \, 89362 Offingen
END:VEVENT
BEGIN:VEVENT
UID:sabre-vobject-1a1589d3-8b92-403f-9f73-0d204defef1e
DTSTAMP:20260422T024458Z
SUMMARY:Heilige Messe
DESCRIPTION:https://pfarreien-bistum-augsburg.df-preview.de/heilige-messe_i
 d1672125
DTSTART;TZID=Europe/Berlin:20260628T090000
DURATION:PT30M
LOCATION:St. Ursula\, \, 89362 Offingen
END:VEVENT
BEGIN:VEVENT
UID:sabre-vobject-1952ac3d-271f-43c1-b232-113a80b3b5cb
DTSTAMP:20260422T024458Z
SUMMARY:Rosenkranz
DESCRIPTION:https://pfarreien-bistum-augsburg.df-preview.de/rosenkranz_id16
 72126
DTSTART;TZID=Europe/Berlin:20260629T180000
DURATION:PT30M
LOCATION:St. Ursula\, \, 89362 Offingen
END:VEVENT
BEGIN:VEVENT
UID:sabre-vobject-3f2e0dd1-08f6-4e6b-8c66-e9f791edf10b
DTSTAMP:20260422T024458Z
SUMMARY:Rosenkranz in der Feldkapelle St. Josef
DESCRIPTION:https://pfarreien-bistum-augsburg.df-preview.de/rosenkranz-in-d
 er-feldkapelle-st-josef_id1672127
DTSTART;TZID=Europe/Berlin:20260703T180000
DURATION:PT30M
LOCATION:St. Ursula\, \, 89362 Offingen
END:VEVENT
BEGIN:VEVENT
UID:sabre-vobject-78b492bb-9f03-49ae-b2d2-edc64e181f6b
DTSTAMP:20260422T024458Z
SUMMARY:Rosenkranz
DESCRIPTION:https://pfarreien-bistum-augsburg.df-preview.de/rosenkranz_id16
 72153
DTSTART;TZID=Europe/Berlin:20260706T180000
DURATION:PT30M
LOCATION:St. Ursula\, \, 89362 Offingen
END:VEVENT
BEGIN:VEVENT
UID:sabre-vobject-0a6480de-67c3-472e-a28f-9086c1815c05
DTSTAMP:20260422T024458Z
SUMMARY:Rosenkranz in der Feldkapelle St. Josef
DESCRIPTION:https://pfarreien-bistum-augsburg.df-preview.de/rosenkranz-in-d
 er-feldkapelle-st-josef_id1672173
DTSTART;TZID=Europe/Berlin:20260710T180000
DURATION:PT30M
LOCATION:St. Ursula\, \, 89362 Offingen
END:VEVENT
BEGIN:VEVENT
UID:sabre-vobject-bec7f132-3b01-4593-b310-9d2c6eb394a9
DTSTAMP:20260422T024458Z
SUMMARY:Heilige Messe
DESCRIPTION:https://pfarreien-bistum-augsburg.df-preview.de/heilige-messe_i
 d1672174
DTSTART;TZID=Europe/Berlin:20260712T103000
DURATION:PT30M
LOCATION:St. Ursula\, \, 89362 Offingen
END:VEVENT
BEGIN:VEVENT
UID:sabre-vobject-08cc5507-eccc-42fc-a3e4-d5b413a74e0a
DTSTAMP:20260422T024458Z
SUMMARY:Rosenkranz
DESCRIPTION:https://pfarreien-bistum-augsburg.df-preview.de/rosenkranz_id16
 72175
DTSTART;TZID=Europe/Berlin:20260713T180000
DURATION:PT30M
LOCATION:St. Ursula\, \, 89362 Offingen
END:VEVENT
BEGIN:VEVENT
UID:sabre-vobject-c3edbf66-7c94-4cf6-8a7f-1d517258cc97
DTSTAMP:20260422T024458Z
SUMMARY:Rosenkranz in der Feldkapelle St. Josef
DESCRIPTION:https://pfarreien-bistum-augsburg.df-preview.de/rosenkranz-in-d
 er-feldkapelle-st-josef_id1672176
DTSTART;TZID=Europe/Berlin:20260717T180000
DURATION:PT30M
LOCATION:St. Ursula\, \, 89362 Offingen
END:VEVENT
BEGIN:VEVENT
UID:sabre-vobject-db6a29ab-31e5-4adf-b052-69b5f8f6643c
DTSTAMP:20260422T024458Z
SUMMARY:Heilige Messe
DESCRIPTION:https://pfarreien-bistum-augsburg.df-preview.de/heilige-messe_i
 d1672177
DTSTART;TZID=Europe/Berlin:20260719T090000
DURATION:PT30M
LOCATION:St. Ursula\, \, 89362 Offingen
END:VEVENT
BEGIN:VEVENT
UID:sabre-vobject-ffef55cb-9e71-41ba-83c1-79df3aff19c5
DTSTAMP:20260422T024458Z
SUMMARY:Rosenkranz
DESCRIPTION:https://pfarreien-bistum-augsburg.df-preview.de/rosenkranz_id16
 72178
DTSTART;TZID=Europe/Berlin:20260720T180000
DURATION:PT30M
LOCATION:St. Ursula\, \, 89362 Offingen
END:VEVENT
BEGIN:VEVENT
UID:sabre-vobject-3050a3ad-f979-4088-9bd0-fafd61a6f2ef
DTSTAMP:20260422T024458Z
SUMMARY:Rosenkranz in der Feldkapelle St. Josef
DESCRIPTION:https://pfarreien-bistum-augsburg.df-preview.de/rosenkranz-in-d
 er-feldkapelle-st-josef_id1672180
DTSTART;TZID=Europe/Berlin:20260724T180000
DURATION:PT30M
LOCATION:St. Ursula\, \, 89362 Offingen
END:VEVENT
BEGIN:VEVENT
UID:sabre-vobject-5b03d305-e750-4d0e-9479-3f1382b4c552
DTSTAMP:20260422T024458Z
SUMMARY:Heilige Messe in der Feldkapelle St. Josef
DESCRIPTION:https://pfarreien-bistum-augsburg.df-preview.de/heilige-messe-i
 n-der-feldkapelle-st-josef_id1672183
DTSTART;TZID=Europe/Berlin:20260724T183000
DURATION:PT30M
LOCATION:St. Ursula\, \, 89362 Offingen
END:VEVENT
BEGIN:VEVENT
UID:sabre-vobject-e2727ffa-054c-43a8-9094-1a878cbfa147
DTSTAMP:20260422T024458Z
SUMMARY:Heilige Messe \n150 jähriges Bestehen der FFW Schnuttenbach
DESCRIPTION:https://pfarreien-bistum-augsburg.df-preview.de/heilige-messe-1
 50-jaehriges-bestehen-der-ffw-schnuttenbach_id1672184
DTSTART;TZID=Europe/Berlin:20260726T090000
DURATION:PT30M
LOCATION:St. Ursula\, \, 89362 Offingen
END:VEVENT
BEGIN:VEVENT
UID:sabre-vobject-730968a8-839f-46d3-861a-443be46ac67e
DTSTAMP:20260422T024458Z
SUMMARY:Rosenkranz
DESCRIPTION:https://pfarreien-bistum-augsburg.df-preview.de/rosenkranz_id16
 72185
DTSTART;TZID=Europe/Berlin:20260727T180000
DURATION:PT30M
LOCATION:St. Ursula\, \, 89362 Offingen
END:VEVENT
BEGIN:VEVENT
UID:sabre-vobject-20c69fce-d46a-4bd9-b1f0-384cd80bab9f
DTSTAMP:20260422T024458Z
SUMMARY:Rosenkranz in der Feldkapelle St. Josef
DESCRIPTION:https://pfarreien-bistum-augsburg.df-preview.de/rosenkranz-in-d
 er-feldkapelle-st-josef_id1672186
DTSTART;TZID=Europe/Berlin:20260731T180000
DURATION:PT30M
LOCATION:St. Ursula\, \, 89362 Offingen
END:VEVENT
BEGIN:VEVENT
UID:sabre-vobject-3f2da5b0-fef7-4882-87f1-5c28025a753d
DTSTAMP:20260422T024458Z
SUMMARY:Heilige Messe
DESCRIPTION:https://pfarreien-bistum-augsburg.df-preview.de/heilige-messe_i
 d1672219
DTSTART;TZID=Europe/Berlin:20260802T103000
DURATION:PT30M
LOCATION:St. Ursula\, \, 89362 Offingen
END:VEVENT
BEGIN:VEVENT
UID:sabre-vobject-7b2def2d-181f-4c80-ab4a-fdc12c47e332
DTSTAMP:20260422T024458Z
SUMMARY:Rosenkranz
DESCRIPTION:https://pfarreien-bistum-augsburg.df-preview.de/rosenkranz_id16
 72215
DTSTART;TZID=Europe/Berlin:20260803T180000
DURATION:PT30M
LOCATION:St. Ursula\, \, 89362 Offingen
END:VEVENT
BEGIN:VEVENT
UID:sabre-vobject-9e4ecd77-409d-4813-ad7c-921684aaf7ba
DTSTAMP:20260422T024458Z
SUMMARY:Rosenkranz in der Feldkapelle St. Josef
DESCRIPTION:https://pfarreien-bistum-augsburg.df-preview.de/rosenkranz-in-d
 er-feldkapelle-st-josef_id1672216
DTSTART;TZID=Europe/Berlin:20260807T180000
DURATION:PT30M
LOCATION:St. Ursula\, \, 89362 Offingen
END:VEVENT
BEGIN:VEVENT
UID:sabre-vobject-ba381289-5265-443e-8ade-f008351da318
DTSTAMP:20260422T024458Z
SUMMARY:Rosenkranz
DESCRIPTION:https://pfarreien-bistum-augsburg.df-preview.de/rosenkranz_id16
 72217
DTSTART;TZID=Europe/Berlin:20260810T180000
DURATION:PT30M
LOCATION:St. Ursula\, \, 89362 Offingen
END:VEVENT
BEGIN:VEVENT
UID:sabre-vobject-d4075ce6-8b99-4933-ad1d-826b045349eb
DTSTAMP:20260422T024458Z
SUMMARY:Rosenkranz in der Feldkapelle St. Josef
DESCRIPTION:https://pfarreien-bistum-augsburg.df-preview.de/rosenkranz-in-d
 er-feldkapelle-st-josef_id1672218
DTSTART;TZID=Europe/Berlin:20260814T180000
DURATION:PT30M
LOCATION:St. Ursula\, \, 89362 Offingen
END:VEVENT
BEGIN:VEVENT
UID:sabre-vobject-c9cb7299-d9fd-462b-b373-81b69aab6f64
DTSTAMP:20260422T024458Z
SUMMARY:Rosenkranz
DESCRIPTION:https://pfarreien-bistum-augsburg.df-preview.de/rosenkranz_id16
 72238
DTSTART;TZID=Europe/Berlin:20260817T180000
DURATION:PT30M
LOCATION:St. Ursula\, \, 89362 Offingen
END:VEVENT
BEGIN:VEVENT
UID:sabre-vobject-6ed4e2f7-3a7c-4cb1-b980-ee96da7bc744
DTSTAMP:20260422T024458Z
SUMMARY:Rosenkranz in der Feldkapelle St. Josef
DESCRIPTION:https://pfarreien-bistum-augsburg.df-preview.de/rosenkranz-in-d
 er-feldkapelle-st-josef_id1672239
DTSTART;TZID=Europe/Berlin:20260821T180000
DURATION:PT30M
LOCATION:St. Ursula\, \, 89362 Offingen
END:VEVENT
BEGIN:VEVENT
UID:sabre-vobject-d664e551-6027-4843-9269-9853500a1f16
DTSTAMP:20260422T024458Z
SUMMARY:Rosenkranz
DESCRIPTION:https://pfarreien-bistum-augsburg.df-preview.de/rosenkranz_id16
 72240
DTSTART;TZID=Europe/Berlin:20260824T180000
DURATION:PT30M
LOCATION:St. Ursula\, \, 89362 Offingen
END:VEVENT
BEGIN:VEVENT
UID:sabre-vobject-e0af580c-de60-4320-8d4e-2786c719129e
DTSTAMP:20260422T024458Z
SUMMARY:Rosenkranz in der Feldkapelle St. Josef
DESCRIPTION:https://pfarreien-bistum-augsburg.df-preview.de/rosenkranz-in-d
 er-feldkapelle-st-josef_id1672262
DTSTART;TZID=Europe/Berlin:20260828T180000
DURATION:PT30M
LOCATION:St. Ursula\, \, 89362 Offingen
END:VEVENT
BEGIN:VEVENT
UID:sabre-vobject-8f1957fb-4374-40ed-a019-7367522959fd
DTSTAMP:20260422T024458Z
SUMMARY:Trauung Verena und Markus Beurer
DESCRIPTION:https://pfarreien-bistum-augsburg.df-preview.de/trauung-verena-
 und-markus-beurer_id1672263
DTSTART;TZID=Europe/Berlin:20260829T130000
DURATION:PT30M
LOCATION:St. Ursula\, \, 89362 Offingen
END:VEVENT
BEGIN:VEVENT
UID:sabre-vobject-2e2b2e6a-c9c1-4f21-9574-be8125b0eebb
DTSTAMP:20260422T024458Z
SUMMARY:Rosenkranz
DESCRIPTION:https://pfarreien-bistum-augsburg.df-preview.de/rosenkranz_id16
 72264
DTSTART;TZID=Europe/Berlin:20260831T180000
DURATION:PT30M
LOCATION:St. Ursula\, \, 89362 Offingen
END:VEVENT
BEGIN:VEVENT
UID:sabre-vobject-08281902-dde2-41b3-85f5-9674b91600ae
DTSTAMP:20260422T024458Z
SUMMARY:Rosenkranz in der Feldkapelle St. Josef
DESCRIPTION:https://pfarreien-bistum-augsburg.df-preview.de/rosenkranz-in-d
 er-feldkapelle-st-josef_id1672265
DTSTART;TZID=Europe/Berlin:20260904T180000
DURATION:PT30M
LOCATION:St. Ursula\, \, 89362 Offingen
END:VEVENT
BEGIN:VEVENT
UID:sabre-vobject-dc13790e-5a15-4741-9799-350ec2103480
DTSTAMP:20260422T024458Z
SUMMARY:Rosenkranz
DESCRIPTION:https://pfarreien-bistum-augsburg.df-preview.de/rosenkranz_id16
 72266
DTSTART;TZID=Europe/Berlin:20260907T180000
DURATION:PT30M
LOCATION:St. Ursula\, \, 89362 Offingen
END:VEVENT
BEGIN:VEVENT
UID:sabre-vobject-33abf9f4-7967-49ce-94c3-adc5a78c50b0
DTSTAMP:20260422T024458Z
SUMMARY:Rosenkranz in der Feldkapelle St. Josef
DESCRIPTION:https://pfarreien-bistum-augsburg.df-preview.de/rosenkranz-in-d
 er-feldkapelle-st-josef_id1672267
DTSTART;TZID=Europe/Berlin:20260911T180000
DURATION:PT30M
LOCATION:St. Ursula\, \, 89362 Offingen
END:VEVENT
BEGIN:VEVENT
UID:sabre-vobject-e7f81566-c0cc-48d3-b331-2986a4420572
DTSTAMP:20260422T024458Z
SUMMARY:Rosenkranz
DESCRIPTION:https://pfarreien-bistum-augsburg.df-preview.de/rosenkranz_id16
 72268
DTSTART;TZID=Europe/Berlin:20260914T180000
DURATION:PT30M
LOCATION:St. Ursula\, \, 89362 Offingen
END:VEVENT
BEGIN:VEVENT
UID:sabre-vobject-66079844-42db-4bcd-80de-c8c8902d0b3c
DTSTAMP:20260422T024458Z
SUMMARY:Rosenkranz in der Feldkapelle St. Josef
DESCRIPTION:https://pfarreien-bistum-augsburg.df-preview.de/rosenkranz-in-d
 er-feldkapelle-st-josef_id1672287
DTSTART;TZID=Europe/Berlin:20260918T180000
DURATION:PT30M
LOCATION:St. Ursula\, \, 89362 Offingen
END:VEVENT
BEGIN:VEVENT
UID:sabre-vobject-4e78b189-8046-46b1-ad32-5067f85849c8
DTSTAMP:20260422T024458Z
SUMMARY:Rosenkranz
DESCRIPTION:https://pfarreien-bistum-augsburg.df-preview.de/rosenkranz_id16
 72288
DTSTART;TZID=Europe/Berlin:20260921T180000
DURATION:PT30M
LOCATION:St. Ursula\, \, 89362 Offingen
END:VEVENT
BEGIN:VEVENT
UID:sabre-vobject-4ace8a74-30cf-4fb2-9205-3a8893b8908d
DTSTAMP:20260422T024458Z
SUMMARY:Rosenkranz in der Feldkapelle St. Josef
DESCRIPTION:https://pfarreien-bistum-augsburg.df-preview.de/rosenkranz-in-d
 er-feldkapelle-st-josef_id1672289
DTSTART;TZID=Europe/Berlin:20260925T180000
DURATION:PT30M
LOCATION:St. Ursula\, \, 89362 Offingen
END:VEVENT
BEGIN:VEVENT
UID:sabre-vobject-a213eac8-7806-45f3-8f48-ff26e591392d
DTSTAMP:20260422T024458Z
SUMMARY:Rosenkranz
DESCRIPTION:https://pfarreien-bistum-augsburg.df-preview.de/rosenkranz_id16
 72314
DTSTART;TZID=Europe/Berlin:20260928T180000
DURATION:PT30M
LOCATION:St. Ursula\, \, 89362 Offingen
END:VEVENT
BEGIN:VEVENT
UID:sabre-vobject-68b6c09f-3510-46ef-8dfc-b52e3f96412a
DTSTAMP:20260422T024458Z
SUMMARY:Rosenkranz in der Feldkapelle St. Josef
DESCRIPTION:https://pfarreien-bistum-augsburg.df-preview.de/rosenkranz-in-d
 er-feldkapelle-st-josef_id1672315
DTSTART;TZID=Europe/Berlin:20261002T180000
DURATION:PT30M
LOCATION:St. Ursula\, \, 89362 Offingen
END:VEVENT
BEGIN:VEVENT
UID:sabre-vobject-c6e40871-4e40-4d31-8a98-64d567f3fd4e
DTSTAMP:20260422T024458Z
SUMMARY:Rosenkranz
DESCRIPTION:https://pfarreien-bistum-augsburg.df-preview.de/rosenkranz_id16
 72316
DTSTART;TZID=Europe/Berlin:20261005T180000
DURATION:PT30M
LOCATION:St. Ursula\, \, 89362 Offingen
END:VEVENT
BEGIN:VEVENT
UID:sabre-vobject-a69982f8-532a-4c23-877b-093e125ac13b
DTSTAMP:20260422T024458Z
SUMMARY:Rosenkranz in der Feldkapelle St. Josef
DESCRIPTION:https://pfarreien-bistum-augsburg.df-preview.de/rosenkranz-in-d
 er-feldkapelle-st-josef_id1672317
DTSTART;TZID=Europe/Berlin:20261009T180000
DURATION:PT30M
LOCATION:St. Ursula\, \, 89362 Offingen
END:VEVENT
BEGIN:VEVENT
UID:sabre-vobject-cdd9d8b9-ae8e-4522-b3dd-17a87b88342f
DTSTAMP:20260422T024458Z
SUMMARY:Rosenkranz
DESCRIPTION:https://pfarreien-bistum-augsburg.df-preview.de/rosenkranz_id16
 72318
DTSTART;TZID=Europe/Berlin:20261012T180000
DURATION:PT30M
LOCATION:St. Ursula\, \, 89362 Offingen
END:VEVENT
BEGIN:VEVENT
UID:sabre-vobject-4e400cf3-637e-4e00-9085-dfae42996ff4
DTSTAMP:20260422T024458Z
SUMMARY:Rosenkranz in der Feldkapelle St. Josef
DESCRIPTION:https://pfarreien-bistum-augsburg.df-preview.de/rosenkranz-in-d
 er-feldkapelle-st-josef_id1672319
DTSTART;TZID=Europe/Berlin:20261016T180000
DURATION:PT30M
LOCATION:St. Ursula\, \, 89362 Offingen
END:VEVENT
BEGIN:VEVENT
UID:sabre-vobject-64219f7c-8dbf-4c28-bcdd-ac0e506bb760
DTSTAMP:20260422T024458Z
SUMMARY:Rosenkranz
DESCRIPTION:https://pfarreien-bistum-augsburg.df-preview.de/rosenkranz_id16
 72320
DTSTART;TZID=Europe/Berlin:20261019T180000
DURATION:PT30M
LOCATION:St. Ursula\, \, 89362 Offingen
END:VEVENT
BEGIN:VEVENT
UID:sabre-vobject-3232ccc8-2055-4875-bd79-b68f656e9c3c
DTSTAMP:20260422T024458Z
SUMMARY:Rosenkranz in der Feldkapelle St. Josef
DESCRIPTION:https://pfarreien-bistum-augsburg.df-preview.de/rosenkranz-in-d
 er-feldkapelle-st-josef_id1672321
DTSTART;TZID=Europe/Berlin:20261023T180000
DURATION:PT30M
LOCATION:St. Ursula\, \, 89362 Offingen
END:VEVENT
BEGIN:VEVENT
UID:sabre-vobject-30b2f4b3-5fe5-4547-bff6-99189d51440f
DTSTAMP:20260422T024458Z
SUMMARY:Rosenkranz
DESCRIPTION:https://pfarreien-bistum-augsburg.df-preview.de/rosenkranz_id16
 72322
DTSTART;TZID=Europe/Berlin:20261026T170000
DURATION:PT30M
LOCATION:St. Ursula\, \, 89362 Offingen
END:VEVENT
BEGIN:VEVENT
UID:sabre-vobject-7fb082e0-b10f-4cc6-b46d-219e3b9c37d1
DTSTAMP:20260422T024458Z
SUMMARY:Rosenkranz in der Feldkapelle St. Josef
DESCRIPTION:https://pfarreien-bistum-augsburg.df-preview.de/rosenkranz-in-d
 er-feldkapelle-st-josef_id1672323
DTSTART;TZID=Europe/Berlin:20261030T180000
DURATION:PT30M
LOCATION:St. Ursula\, \, 89362 Offingen
END:VEVENT
BEGIN:VEVENT
UID:sabre-vobject-4985c30f-2801-451d-89ce-b24014062d32
DTSTAMP:20260422T024458Z
SUMMARY:Rosenkranz
DESCRIPTION:https://pfarreien-bistum-augsburg.df-preview.de/rosenkranz_id16
 72324
DTSTART;TZID=Europe/Berlin:20261102T170000
DURATION:PT30M
LOCATION:St. Ursula\, \, 89362 Offingen
END:VEVENT
BEGIN:VEVENT
UID:sabre-vobject-898edd13-db75-4963-9c39-dc502722febc
DTSTAMP:20260422T024458Z
SUMMARY:Rosenkranz in der Feldkapelle St. Josef
DESCRIPTION:https://pfarreien-bistum-augsburg.df-preview.de/rosenkranz-in-d
 er-feldkapelle-st-josef_id1672325
DTSTART;TZID=Europe/Berlin:20261106T180000
DURATION:PT30M
LOCATION:St. Ursula\, \, 89362 Offingen
END:VEVENT
BEGIN:VEVENT
UID:sabre-vobject-ed8e95f8-8f78-4523-a13e-b4e254202f35
DTSTAMP:20260422T024458Z
SUMMARY:Rosenkranz
DESCRIPTION:https://pfarreien-bistum-augsburg.df-preview.de/rosenkranz_id16
 72326
DTSTART;TZID=Europe/Berlin:20261109T170000
DURATION:PT30M
LOCATION:St. Ursula\, \, 89362 Offingen
END:VEVENT
BEGIN:VEVENT
UID:sabre-vobject-2c9d7661-f880-46da-885e-991d0970300d
DTSTAMP:20260422T024458Z
SUMMARY:Rosenkranz in der Feldkapelle St. Josef
DESCRIPTION:https://pfarreien-bistum-augsburg.df-preview.de/rosenkranz-in-d
 er-feldkapelle-st-josef_id1672356
DTSTART;TZID=Europe/Berlin:20261113T180000
DURATION:PT30M
LOCATION:St. Ursula\, \, 89362 Offingen
END:VEVENT
BEGIN:VEVENT
UID:sabre-vobject-79942dfb-f2b3-4970-8edd-ec623e0457e5
DTSTAMP:20260422T024458Z
SUMMARY:Rosenkranz
DESCRIPTION:https://pfarreien-bistum-augsburg.df-preview.de/rosenkranz_id16
 72357
DTSTART;TZID=Europe/Berlin:20261116T170000
DURATION:PT30M
LOCATION:St. Ursula\, \, 89362 Offingen
END:VEVENT
BEGIN:VEVENT
UID:sabre-vobject-d4d322f5-d918-422e-8312-cfb732519c27
DTSTAMP:20260422T024458Z
SUMMARY:Rosenkranz in der Feldkapelle St. Josef
DESCRIPTION:https://pfarreien-bistum-augsburg.df-preview.de/rosenkranz-in-d
 er-feldkapelle-st-josef_id1672358
DTSTART;TZID=Europe/Berlin:20261120T180000
DURATION:PT30M
LOCATION:St. Ursula\, \, 89362 Offingen
END:VEVENT
BEGIN:VEVENT
UID:sabre-vobject-f166d14a-de9c-4aa3-9535-446ee1f0b819
DTSTAMP:20260422T024458Z
SUMMARY:Rosenkranz
DESCRIPTION:https://pfarreien-bistum-augsburg.df-preview.de/rosenkranz_id16
 72359
DTSTART;TZID=Europe/Berlin:20261123T170000
DURATION:PT30M
LOCATION:St. Ursula\, \, 89362 Offingen
END:VEVENT
BEGIN:VEVENT
UID:sabre-vobject-8895b178-5be9-43be-acd7-0982cfb6010d
DTSTAMP:20260422T024458Z
SUMMARY:Rosenkranz in der Feldkapelle St. Josef
DESCRIPTION:https://pfarreien-bistum-augsburg.df-preview.de/rosenkranz-in-d
 er-feldkapelle-st-josef_id1672360
DTSTART;TZID=Europe/Berlin:20261127T180000
DURATION:PT30M
LOCATION:St. Ursula\, \, 89362 Offingen
END:VEVENT
BEGIN:VEVENT
UID:sabre-vobject-8c03aac9-d793-4c47-8dfe-41568dcf2618
DTSTAMP:20260422T024458Z
SUMMARY:Rosenkranz
DESCRIPTION:https://pfarreien-bistum-augsburg.df-preview.de/rosenkranz_id16
 72361
DTSTART;TZID=Europe/Berlin:20261130T170000
DURATION:PT30M
LOCATION:St. Ursula\, \, 89362 Offingen
END:VEVENT
BEGIN:VEVENT
UID:sabre-vobject-45737e70-06df-491f-9caa-b9f56a2b8855
DTSTAMP:20260422T024458Z
SUMMARY:Rosenkranz in der Feldkapelle St. Josef
DESCRIPTION:https://pfarreien-bistum-augsburg.df-preview.de/rosenkranz-in-d
 er-feldkapelle-st-josef_id1672714
DTSTART;TZID=Europe/Berlin:20261204T180000
DURATION:PT30M
LOCATION:St. Ursula\, \, 89362 Offingen
END:VEVENT
BEGIN:VEVENT
UID:sabre-vobject-85a52e18-e96e-4de4-bd1c-cc2b3186cac3
DTSTAMP:20260422T024458Z
SUMMARY:Rosenkranz
DESCRIPTION:https://pfarreien-bistum-augsburg.df-preview.de/rosenkranz_id16
 72715
DTSTART;TZID=Europe/Berlin:20261207T170000
DURATION:PT30M
LOCATION:St. Ursula\, \, 89362 Offingen
END:VEVENT
BEGIN:VEVENT
UID:sabre-vobject-3757a3e6-9b36-4559-b1c2-030bdd50e552
DTSTAMP:20260422T024458Z
SUMMARY:Rosenkranz in der Feldkapelle St. Josef
DESCRIPTION:https://pfarreien-bistum-augsburg.df-preview.de/rosenkranz-in-d
 er-feldkapelle-st-josef_id1672441
DTSTART;TZID=Europe/Berlin:20261211T180000
DURATION:PT30M
LOCATION:St. Ursula\, \, 89362 Offingen
END:VEVENT
BEGIN:VEVENT
UID:sabre-vobject-8af33570-ed9d-40d4-987b-e0621f9b3312
DTSTAMP:20260422T024458Z
SUMMARY:Rosenkranz
DESCRIPTION:https://pfarreien-bistum-augsburg.df-preview.de/rosenkranz_id16
 72442
DTSTART;TZID=Europe/Berlin:20261214T170000
DURATION:PT30M
LOCATION:St. Ursula\, \, 89362 Offingen
END:VEVENT
BEGIN:VEVENT
UID:sabre-vobject-d5014721-562d-489d-a164-a1755d518d9e
DTSTAMP:20260422T024458Z
SUMMARY:Rosenkranz in der Feldkapelle St. Josef
DESCRIPTION:https://pfarreien-bistum-augsburg.df-preview.de/rosenkranz-in-d
 er-feldkapelle-st-josef_id1672443
DTSTART;TZID=Europe/Berlin:20261218T180000
DURATION:PT30M
LOCATION:St. Ursula\, \, 89362 Offingen
END:VEVENT
BEGIN:VEVENT
UID:sabre-vobject-708571b3-d04c-4d30-8683-2ef9f647a333
DTSTAMP:20260422T024458Z
SUMMARY:Rosenkranz
DESCRIPTION:https://pfarreien-bistum-augsburg.df-preview.de/rosenkranz_id16
 72444
DTSTART;TZID=Europe/Berlin:20261221T170000
DURATION:PT30M
LOCATION:St. Ursula\, \, 89362 Offingen
END:VEVENT
BEGIN:VEVENT
UID:sabre-vobject-50113751-5efd-40f2-a7d1-1e770e82bd12
DTSTAMP:20260422T024458Z
SUMMARY:Rosenkranz in der Feldkapelle St. Josef
DESCRIPTION:https://pfarreien-bistum-augsburg.df-preview.de/rosenkranz-in-d
 er-feldkapelle-st-josef_id1672445
DTSTART;TZID=Europe/Berlin:20261225T180000
DURATION:PT30M
LOCATION:St. Ursula\, \, 89362 Offingen
END:VEVENT
BEGIN:VEVENT
UID:sabre-vobject-dc7bc735-ec02-46dc-ac98-86796387815a
DTSTAMP:20260422T024458Z
SUMMARY:Rosenkranz
DESCRIPTION:https://pfarreien-bistum-augsburg.df-preview.de/rosenkranz_id16
 72446
DTSTART;TZID=Europe/Berlin:20261228T170000
DURATION:PT30M
LOCATION:St. Ursula\, \, 89362 Offingen
END:VEVENT
END:VCALENDAR
