BEGIN:VCALENDAR
VERSION:2.0
PRODID:-//Sabre//Sabre VObject 4.5.8//EN
CALSCALE:GREGORIAN
NAME:Bistum Augsburg
X-WR-CALNAME:Bistum Augsburg
BEGIN:VEVENT
UID:sabre-vobject-dc5fcaef-4150-494b-98ba-4daf441b981e
DTSTAMP:20260422T133812Z
SUMMARY:Stille Anbetung vor dem Allerheiligsten in der Annakapelle
DESCRIPTION:https://pfarreien-bistum-augsburg.df-preview.de/stille-anbetung
 -vor-dem-allerheiligsten-in-der-annakapelle_id1742117
DTSTART;TZID=Europe/Berlin:20260422T140000
DURATION:PT30M
LOCATION:St. Martin
END:VEVENT
BEGIN:VEVENT
UID:sabre-vobject-baa16766-44b8-4973-a236-345027b0c6e1
DTSTAMP:20260422T133812Z
SUMMARY:Rosenkranz
DESCRIPTION:https://pfarreien-bistum-augsburg.df-preview.de/rosenkranz_id17
 41674
DTSTART;TZID=Europe/Berlin:20260422T163000
DURATION:PT30M
LOCATION:St. Martin
END:VEVENT
BEGIN:VEVENT
UID:sabre-vobject-4fb97c3e-76a0-4985-91e4-b478ff5295df
DTSTAMP:20260422T133812Z
SUMMARY:Heilige Messe
DESCRIPTION:https://pfarreien-bistum-augsburg.df-preview.de/heilige-messe_i
 d1742070
DTSTART;TZID=Europe/Berlin:20260422T190000
DURATION:PT30M
LOCATION:St. Alexander\, Hauptstr. 17\, 86504 Merching-Unterbergen
END:VEVENT
BEGIN:VEVENT
UID:sabre-vobject-743b6710-3dce-493c-b535-ffb662db1715
DTSTAMP:20260422T133812Z
SUMMARY:Rosenkranz
DESCRIPTION:https://pfarreien-bistum-augsburg.df-preview.de/rosenkranz_id17
 41675
DTSTART;TZID=Europe/Berlin:20260423T183000
DURATION:PT30M
LOCATION:St. Martin
END:VEVENT
BEGIN:VEVENT
UID:sabre-vobject-fb7c495a-e41b-4e21-ace9-d3d96044a7ff
DTSTAMP:20260422T133812Z
SUMMARY:Heilige Messe
DESCRIPTION:https://pfarreien-bistum-augsburg.df-preview.de/heilige-messe_i
 d1741677
DTSTART;TZID=Europe/Berlin:20260423T190000
DURATION:PT30M
LOCATION:St. Martin
END:VEVENT
BEGIN:VEVENT
UID:sabre-vobject-8a862c4a-ca4f-4b0f-a04e-2242f5176ccd
DTSTAMP:20260422T133812Z
SUMMARY:Probe der Erstkommunionkinder in St. Georg
DESCRIPTION:https://pfarreien-bistum-augsburg.df-preview.de/probe-der-erstk
 ommunionkinder-in-st-georg_id1742092
DTSTART;TZID=Europe/Berlin:20260424T150000
DURATION:PT30M
LOCATION:St. Georg
END:VEVENT
BEGIN:VEVENT
UID:sabre-vobject-0bec7674-5a46-4d7d-a9a1-7c16688e1e4d
DTSTAMP:20260422T133812Z
SUMMARY:Probe der Erstkommunionkinder in St. Stephan
DESCRIPTION:https://pfarreien-bistum-augsburg.df-preview.de/probe-der-erstk
 ommunionkinder-in-st-stephan_id1742049
DTSTART;TZID=Europe/Berlin:20260424T163000
DURATION:PT30M
LOCATION:St. Stephan
END:VEVENT
BEGIN:VEVENT
UID:sabre-vobject-4521618e-2c19-4612-85e4-523395189120
DTSTAMP:20260422T133812Z
SUMMARY:Heilige Messe (für die Lebenden und Verstorbenen der Pfarreiengeme
 inschaft Merching)
DESCRIPTION:https://pfarreien-bistum-augsburg.df-preview.de/heilige-messe-f
 uer-die-lebenden-und-verstorbenen-der-pfarreiengemeinschaft-merching_id174
 1720
DTSTART;TZID=Europe/Berlin:20260424T180000
DURATION:PT30M
LOCATION:St. Johannes Baptist\, Ringstraße 42\, 86511 Schmiechen
END:VEVENT
BEGIN:VEVENT
UID:sabre-vobject-9283a95c-83c3-47c2-8740-c1ec18ea4f41
DTSTAMP:20260422T133812Z
SUMMARY:Rosenkranz
DESCRIPTION:https://pfarreien-bistum-augsburg.df-preview.de/rosenkranz_id17
 41689
DTSTART;TZID=Europe/Berlin:20260424T183000
DURATION:PT30M
LOCATION:St. Martin
END:VEVENT
BEGIN:VEVENT
UID:sabre-vobject-ef9c1d31-6b2a-4c12-8e1a-7c669c0913d7
DTSTAMP:20260422T133812Z
SUMMARY:Taufe des Kindes Benjamin Christian Mair
DESCRIPTION:https://pfarreien-bistum-augsburg.df-preview.de/taufe-des-kinde
 s-benjamin-christian-mair_id1751509
DTSTART;TZID=Europe/Berlin:20260425T140000
DURATION:PT30M
LOCATION:St. Johannes Baptist\, Ringstraße 42\, 86511 Schmiechen
END:VEVENT
BEGIN:VEVENT
UID:sabre-vobject-7b9c4be1-525e-4b17-acf7-667c9fb433c6
DTSTAMP:20260422T133812Z
SUMMARY:Rosenkranz
DESCRIPTION:https://pfarreien-bistum-augsburg.df-preview.de/rosenkranz_id17
 51551
DTSTART;TZID=Europe/Berlin:20260425T180000
DURATION:PT30M
LOCATION:St. Stephan
END:VEVENT
BEGIN:VEVENT
UID:sabre-vobject-a4a618b3-b041-4a96-9b18-44cfc9ab148c
DTSTAMP:20260422T133812Z
SUMMARY:Rosenkranz
DESCRIPTION:https://pfarreien-bistum-augsburg.df-preview.de/rosenkranz_id17
 51473
DTSTART;TZID=Europe/Berlin:20260425T183000
DURATION:PT30M
LOCATION:St. Martin
END:VEVENT
BEGIN:VEVENT
UID:sabre-vobject-3be7b884-30aa-4585-b501-6f25cad51656
DTSTAMP:20260422T133812Z
SUMMARY:Vorabendmesse
DESCRIPTION:https://pfarreien-bistum-augsburg.df-preview.de/vorabendmesse_i
 d1751565
DTSTART;TZID=Europe/Berlin:20260425T190000
DURATION:PT30M
LOCATION:St. Gangulf
END:VEVENT
BEGIN:VEVENT
UID:sabre-vobject-8c23d6b1-c15b-46fe-bc80-de0bd265d476
DTSTAMP:20260422T133812Z
SUMMARY:Heilige Messe - Erstkommunion der Kinder aus Eresried
DESCRIPTION:https://pfarreien-bistum-augsburg.df-preview.de/heilige-messe-e
 rstkommunion-der-kinder-aus-eresried_id1751472
DTSTART;TZID=Europe/Berlin:20260426T090000
DURATION:PT30M
LOCATION:St. Georg
END:VEVENT
BEGIN:VEVENT
UID:sabre-vobject-631c031e-499c-4e8c-b733-6b7a8dcffae3
DTSTAMP:20260422T133812Z
SUMMARY:Heilige Messe
DESCRIPTION:https://pfarreien-bistum-augsburg.df-preview.de/heilige-messe_i
 d1751510
DTSTART;TZID=Europe/Berlin:20260426T090000
DURATION:PT30M
LOCATION:St. Johannes Baptist\, Ringstraße 42\, 86511 Schmiechen
END:VEVENT
BEGIN:VEVENT
UID:sabre-vobject-000d9e2a-6f5c-4f51-be8f-736310252ba1
DTSTAMP:20260422T133812Z
SUMMARY:Heilige Messe
DESCRIPTION:https://pfarreien-bistum-augsburg.df-preview.de/heilige-messe_i
 d1751482
DTSTART;TZID=Europe/Berlin:20260426T103000
DURATION:PT30M
LOCATION:St. Martin
END:VEVENT
BEGIN:VEVENT
UID:sabre-vobject-430eba5c-ee30-4b85-85d3-bc2445b1a3bf
DTSTAMP:20260422T133812Z
SUMMARY:Heilige Messe - Erstkommunion - Kinder aus Steindorf und Hausen
DESCRIPTION:https://pfarreien-bistum-augsburg.df-preview.de/heilige-messe-e
 rstkommunion-kinder-aus-steindorf-und-hausen_id1751552
DTSTART;TZID=Europe/Berlin:20260426T103000
DURATION:PT30M
LOCATION:St. Stephan
END:VEVENT
BEGIN:VEVENT
UID:sabre-vobject-552ec61a-c3fe-4b3a-8b88-452b0d8c1728
DTSTAMP:20260422T133812Z
SUMMARY:Rosenkranz
DESCRIPTION:https://pfarreien-bistum-augsburg.df-preview.de/rosenkranz_id17
 51483
DTSTART;TZID=Europe/Berlin:20260427T183000
DURATION:PT30M
LOCATION:St. Martin
END:VEVENT
BEGIN:VEVENT
UID:sabre-vobject-21680217-2d94-41c0-a79c-3ec952ad273a
DTSTAMP:20260422T133812Z
SUMMARY:Rosenkranz
DESCRIPTION:https://pfarreien-bistum-augsburg.df-preview.de/rosenkranz_id17
 51484
DTSTART;TZID=Europe/Berlin:20260428T183000
DURATION:PT30M
LOCATION:St. Martin
END:VEVENT
BEGIN:VEVENT
UID:sabre-vobject-05472dee-0162-49ff-969b-06c91b47de23
DTSTAMP:20260422T133812Z
SUMMARY:Heilige Messe
DESCRIPTION:https://pfarreien-bistum-augsburg.df-preview.de/heilige-messe_i
 d1751550
DTSTART;TZID=Europe/Berlin:20260428T190000
DURATION:PT30M
LOCATION:St. Gangulf
END:VEVENT
BEGIN:VEVENT
UID:sabre-vobject-08f052c6-68df-4d64-9473-3bcb321b5023
DTSTAMP:20260422T133812Z
SUMMARY:Heilige Messe (für die Lebenden und Verstorbenen der Pfarreiengeme
 inschaft Merching)
DESCRIPTION:https://pfarreien-bistum-augsburg.df-preview.de/heilige-messe-f
 uer-die-lebenden-und-verstorbenen-der-pfarreiengemeinschaft-merching_id175
 1597
DTSTART;TZID=Europe/Berlin:20260429T090000
DURATION:PT30M
LOCATION:St. Peter und Paul\, Kirchstr. 4\, 82297 Steindorf-Hausen
END:VEVENT
BEGIN:VEVENT
UID:sabre-vobject-45c55501-f2a0-4bb4-92dc-43add30a2835
DTSTAMP:20260422T133812Z
SUMMARY:Stille Anbetung vor dem Allerheiligsten in der Annakapelle
DESCRIPTION:https://pfarreien-bistum-augsburg.df-preview.de/stille-anbetung
 -vor-dem-allerheiligsten-in-der-annakapelle_id1751485
DTSTART;TZID=Europe/Berlin:20260429T140000
DURATION:PT30M
LOCATION:St. Martin
END:VEVENT
BEGIN:VEVENT
UID:sabre-vobject-92e78018-07d4-4df8-a128-fbbf0fcbdc0a
DTSTAMP:20260422T133812Z
SUMMARY:Rosenkranz
DESCRIPTION:https://pfarreien-bistum-augsburg.df-preview.de/rosenkranz_id17
 51486
DTSTART;TZID=Europe/Berlin:20260429T163000
DURATION:PT30M
LOCATION:St. Martin
END:VEVENT
BEGIN:VEVENT
UID:sabre-vobject-142c518c-645e-47a1-abb5-d473716e0f16
DTSTAMP:20260422T133812Z
SUMMARY:Heilige Messe
DESCRIPTION:https://pfarreien-bistum-augsburg.df-preview.de/heilige-messe_i
 d1751598
DTSTART;TZID=Europe/Berlin:20260429T190000
DURATION:PT30M
LOCATION:St. Alexander\, Hauptstr. 17\, 86504 Merching-Unterbergen
END:VEVENT
BEGIN:VEVENT
UID:sabre-vobject-2ff226c2-01cd-4112-8ae0-64872a47d39d
DTSTAMP:20260422T133812Z
SUMMARY:Rosenkranz
DESCRIPTION:https://pfarreien-bistum-augsburg.df-preview.de/rosenkranz_id17
 51487
DTSTART;TZID=Europe/Berlin:20260430T183000
DURATION:PT30M
LOCATION:St. Martin
END:VEVENT
BEGIN:VEVENT
UID:sabre-vobject-10498b79-cbe0-4ba7-ac7e-879f6c560322
DTSTAMP:20260422T133812Z
SUMMARY:Heilige Messe
DESCRIPTION:https://pfarreien-bistum-augsburg.df-preview.de/heilige-messe_i
 d1751505
DTSTART;TZID=Europe/Berlin:20260430T190000
DURATION:PT30M
LOCATION:St. Martin
END:VEVENT
BEGIN:VEVENT
UID:sabre-vobject-c27449d1-1404-4395-ad65-cdeb52139753
DTSTAMP:20260422T133812Z
SUMMARY:Rosenkranz
DESCRIPTION:https://pfarreien-bistum-augsburg.df-preview.de/rosenkranz_id17
 51506
DTSTART;TZID=Europe/Berlin:20260501T083000
DURATION:PT30M
LOCATION:St. Martin
END:VEVENT
BEGIN:VEVENT
UID:sabre-vobject-9f7a3505-8dea-486c-929d-509b32da6f0f
DTSTAMP:20260422T133812Z
SUMMARY:Gedenkgottesdienst für alle Verstorbenen\, Gefallenen und Vermisst
 en aller Vereine
DESCRIPTION:https://pfarreien-bistum-augsburg.df-preview.de/gedenkgottesdie
 nst-fuer-alle-verstorbenen-gefallenen-und-vermissten-aller-vereine_id17515
 08
DTSTART;TZID=Europe/Berlin:20260501T090000
DURATION:PT30M
LOCATION:St. Martin
END:VEVENT
END:VCALENDAR
