BEGIN:VCALENDAR
VERSION:2.0
PRODID:-//Sabre//Sabre VObject 4.5.8//EN
CALSCALE:GREGORIAN
NAME:Bistum Augsburg
X-WR-CALNAME:Bistum Augsburg
BEGIN:VEVENT
UID:sabre-vobject-f60d8221-805a-4ea7-a091-acc9a3c384b2
DTSTAMP:20260420T190959Z
SUMMARY:Rosenkranz/Andacht
DESCRIPTION:https://pfarreien-bistum-augsburg.df-preview.de/rosenkranz-anda
 cht_id1736566
DTSTART;TZID=Europe/Berlin:20260423T083000
DURATION:PT30M
LOCATION:Kuratie St. Georg
END:VEVENT
BEGIN:VEVENT
UID:sabre-vobject-ecce580e-06a3-477f-ba20-973c5bbcaa0a
DTSTAMP:20260420T190959Z
SUMMARY:Eucharistiefeier zum Patrozinium St. Georg
DESCRIPTION:https://pfarreien-bistum-augsburg.df-preview.de/eucharistiefeie
 r-zum-patrozinium-st-georg_id1736600
DTSTART;TZID=Europe/Berlin:20260426T100000
DURATION:PT30M
LOCATION:Kuratie St. Georg
END:VEVENT
BEGIN:VEVENT
UID:sabre-vobject-30dd3860-aecf-4d6e-8cc0-9aaf52fc7127
DTSTAMP:20260420T190959Z
SUMMARY:Eucharistiefeier
DESCRIPTION:https://pfarreien-bistum-augsburg.df-preview.de/eucharistiefeie
 r_id1736601
DTSTART;TZID=Europe/Berlin:20260430T083000
DURATION:PT30M
LOCATION:Kuratie St. Georg
END:VEVENT
END:VCALENDAR
