BEGIN:VCALENDAR
VERSION:2.0
PRODID:-//Sabre//Sabre VObject 4.5.8//EN
CALSCALE:GREGORIAN
NAME:Bistum Augsburg
X-WR-CALNAME:Bistum Augsburg
BEGIN:VEVENT
UID:sabre-vobject-349d0a39-2dcd-4091-8776-7161e4caf0b0
DTSTAMP:20260422T133904Z
SUMMARY:Heilige Messe im Seniorenheim St. Vincenz
DESCRIPTION:https://pfarreien-bistum-augsburg.df-preview.de/heilige-messe-i
 m-seniorenheim-st-vincenz_id1690112
DTSTART;TZID=Europe/Berlin:20260424T100000
DURATION:PT30M
LOCATION:St. Wendelin
END:VEVENT
BEGIN:VEVENT
UID:sabre-vobject-509bbce2-c1cb-4d92-896f-68947d8f56f4
DTSTAMP:20260422T133904Z
SUMMARY:Heilige Messe zum Patrozinium
DESCRIPTION:https://pfarreien-bistum-augsburg.df-preview.de/heilige-messe-z
 um-patrozinium_id1690238
DTSTART;TZID=Europe/Berlin:20260425T083000
DURATION:PT30M
LOCATION:St. Pelagius
END:VEVENT
BEGIN:VEVENT
UID:sabre-vobject-fdfce97c-fd70-4fff-bac9-65c9316f71b5
DTSTAMP:20260422T133904Z
SUMMARY:Heilige Messe zum Patrozinium
DESCRIPTION:https://pfarreien-bistum-augsburg.df-preview.de/heilige-messe-z
 um-patrozinium_id1751544
DTSTART;TZID=Europe/Berlin:20260425T083000
DURATION:PT30M
LOCATION:St. Pelagius
END:VEVENT
BEGIN:VEVENT
UID:sabre-vobject-df6bc843-9cf7-4552-b8df-50fdaa1d98bc
DTSTAMP:20260422T133904Z
SUMMARY:Vorabendmesse
DESCRIPTION:https://pfarreien-bistum-augsburg.df-preview.de/vorabendmesse_i
 d1690286
DTSTART;TZID=Europe/Berlin:20260425T180000
DURATION:PT30M
LOCATION:St. Margareta
END:VEVENT
BEGIN:VEVENT
UID:sabre-vobject-637eb79b-0b5e-4b3a-b7f4-33cb4ec0f396
DTSTAMP:20260422T133904Z
SUMMARY:Vorabendmesse
DESCRIPTION:https://pfarreien-bistum-augsburg.df-preview.de/vorabendmesse_i
 d1751606
DTSTART;TZID=Europe/Berlin:20260425T180000
DURATION:PT30M
LOCATION:St. Margareta
END:VEVENT
BEGIN:VEVENT
UID:sabre-vobject-1484f685-9f26-4f83-876f-a6051be0ce65
DTSTAMP:20260422T133904Z
SUMMARY:Vorabendmesse
DESCRIPTION:https://pfarreien-bistum-augsburg.df-preview.de/vorabendmesse_i
 d1690105
DTSTART;TZID=Europe/Berlin:20260425T193000
DURATION:PT30M
LOCATION:St. Stephan
END:VEVENT
BEGIN:VEVENT
UID:sabre-vobject-aa98b2b9-eb01-411c-acf8-b92da0568f40
DTSTAMP:20260422T133904Z
SUMMARY:Vorabendmesse
DESCRIPTION:https://pfarreien-bistum-augsburg.df-preview.de/vorabendmesse_i
 d1751422
DTSTART;TZID=Europe/Berlin:20260425T193000
DURATION:PT30M
LOCATION:St. Stephan
END:VEVENT
BEGIN:VEVENT
UID:sabre-vobject-b46020b6-3131-4451-931f-1ffc0345ae62
DTSTAMP:20260422T133904Z
SUMMARY:Heilige Messe
DESCRIPTION:https://pfarreien-bistum-augsburg.df-preview.de/heilige-messe_i
 d1690000
DTSTART;TZID=Europe/Berlin:20260426T083000
DURATION:PT30M
LOCATION:St. Wendelin
END:VEVENT
BEGIN:VEVENT
UID:sabre-vobject-70ba0816-3f5e-4de4-a43a-e5899221e945
DTSTAMP:20260422T133904Z
SUMMARY:Heilige Messe
DESCRIPTION:https://pfarreien-bistum-augsburg.df-preview.de/heilige-messe_i
 d1751345
DTSTART;TZID=Europe/Berlin:20260426T083000
DURATION:PT30M
LOCATION:St. Wendelin
END:VEVENT
BEGIN:VEVENT
UID:sabre-vobject-29d2e501-777f-4208-9088-e3a8d6f0efda
DTSTAMP:20260422T133904Z
SUMMARY:Heilige Messe
DESCRIPTION:https://pfarreien-bistum-augsburg.df-preview.de/heilige-messe_i
 d1690300
DTSTART;TZID=Europe/Berlin:20260426T100000
DURATION:PT30M
LOCATION:St. Pelagius
END:VEVENT
BEGIN:VEVENT
UID:sabre-vobject-12f1da69-39e7-40e7-8059-cb679ed76b3a
DTSTAMP:20260422T133904Z
SUMMARY:Heilige Messe
DESCRIPTION:https://pfarreien-bistum-augsburg.df-preview.de/heilige-messe_i
 d1751626
DTSTART;TZID=Europe/Berlin:20260426T100000
DURATION:PT30M
LOCATION:St. Pelagius
END:VEVENT
BEGIN:VEVENT
UID:sabre-vobject-b9883f32-b941-4174-86d3-3b23211d6fad
DTSTAMP:20260422T133904Z
SUMMARY:Taufe von Elina Marlena Mayer
DESCRIPTION:https://pfarreien-bistum-augsburg.df-preview.de/taufe-von-elina
 -marlena-mayer_id1690001
DTSTART;TZID=Europe/Berlin:20260426T113000
DURATION:PT30M
LOCATION:St. Wendelin
END:VEVENT
BEGIN:VEVENT
UID:sabre-vobject-ee6cca05-fbef-414a-8f15-09fa9a9787c4
DTSTAMP:20260422T133904Z
SUMMARY:Taufe von Elina Marlena Mayer
DESCRIPTION:https://pfarreien-bistum-augsburg.df-preview.de/taufe-von-elina
 -marlena-mayer_id1751346
DTSTART;TZID=Europe/Berlin:20260426T113000
DURATION:PT30M
LOCATION:St. Wendelin
END:VEVENT
BEGIN:VEVENT
UID:sabre-vobject-e1b88830-4302-4621-8858-53bee1f41aeb
DTSTAMP:20260422T133904Z
SUMMARY:Rosenkranz
DESCRIPTION:https://pfarreien-bistum-augsburg.df-preview.de/rosenkranz_id17
 51935
DTSTART;TZID=Europe/Berlin:20260427T181500
DURATION:PT30M
LOCATION:St. Margareta
END:VEVENT
BEGIN:VEVENT
UID:sabre-vobject-f161cf73-8520-4738-b276-9c532b1b637b
DTSTAMP:20260422T133904Z
SUMMARY:Heilige Messe
DESCRIPTION:https://pfarreien-bistum-augsburg.df-preview.de/heilige-messe_i
 d1751975
DTSTART;TZID=Europe/Berlin:20260428T190000
DURATION:PT30M
LOCATION:St. Margareta
END:VEVENT
BEGIN:VEVENT
UID:sabre-vobject-c8144788-e535-48e4-8dba-f30566cb4dbc
DTSTAMP:20260422T133904Z
SUMMARY:Heilige Messe
DESCRIPTION:https://pfarreien-bistum-augsburg.df-preview.de/heilige-messe_i
 d1751986
DTSTART;TZID=Europe/Berlin:20260429T090000
DURATION:PT30M
LOCATION:St. Johannes Baptist
END:VEVENT
BEGIN:VEVENT
UID:sabre-vobject-9ffaec5c-86ff-441b-8cb4-df0d38d5cb8e
DTSTAMP:20260422T133904Z
SUMMARY:Heilige Messe
DESCRIPTION:https://pfarreien-bistum-augsburg.df-preview.de/heilige-messe_i
 d1751875
DTSTART;TZID=Europe/Berlin:20260501T100000
DURATION:PT30M
LOCATION:St. Pelagius
END:VEVENT
BEGIN:VEVENT
UID:sabre-vobject-c6ec6096-7201-4186-9688-1baea2286a47
DTSTAMP:20260422T133904Z
SUMMARY:Heilige Messe
DESCRIPTION:https://pfarreien-bistum-augsburg.df-preview.de/heilige-messe_i
 d1751979
DTSTART;TZID=Europe/Berlin:20260501T100000
DURATION:PT30M
LOCATION:St. Margareta
END:VEVENT
BEGIN:VEVENT
UID:sabre-vobject-33d8e6c8-4e03-466e-804a-e01ffabd8765
DTSTAMP:20260422T133904Z
SUMMARY:Maiandacht mit eucharistischem Segen musikalisch gestaltet vom Kirc
 henchor
DESCRIPTION:https://pfarreien-bistum-augsburg.df-preview.de/maiandacht-mit-
 eucharistischem-segen-musikalisch-gestaltet-vom-kirchenchor_id1751943
DTSTART;TZID=Europe/Berlin:20260501T193000
DURATION:PT30M
LOCATION:St. Stephan
END:VEVENT
BEGIN:VEVENT
UID:sabre-vobject-05657413-3e0f-44e4-a8a8-b21b74b0f0ce
DTSTAMP:20260422T133904Z
SUMMARY:Vorabendmesse
DESCRIPTION:https://pfarreien-bistum-augsburg.df-preview.de/vorabendmesse_i
 d1751980
DTSTART;TZID=Europe/Berlin:20260502T180000
DURATION:PT30M
LOCATION:St. Margareta
END:VEVENT
BEGIN:VEVENT
UID:sabre-vobject-c9aa50a6-0788-4381-bd2b-d93673199ea7
DTSTAMP:20260422T133904Z
SUMMARY:Vorabendmesse
DESCRIPTION:https://pfarreien-bistum-augsburg.df-preview.de/vorabendmesse_i
 d1751994
DTSTART;TZID=Europe/Berlin:20260502T193000
DURATION:PT30M
LOCATION:St. Ulrich
END:VEVENT
BEGIN:VEVENT
UID:sabre-vobject-e4c26618-198b-4601-905a-3b0632ef961e
DTSTAMP:20260422T133904Z
SUMMARY:Heilige Messe
DESCRIPTION:https://pfarreien-bistum-augsburg.df-preview.de/heilige-messe_i
 d1751852
DTSTART;TZID=Europe/Berlin:20260503T083000
DURATION:PT30M
LOCATION:St. Johannes Baptist
END:VEVENT
BEGIN:VEVENT
UID:sabre-vobject-36d12b4c-21cb-4fc6-b4f6-66ddd7edfb8f
DTSTAMP:20260422T133904Z
SUMMARY:Heilige Messe
DESCRIPTION:https://pfarreien-bistum-augsburg.df-preview.de/heilige-messe_i
 d1751959
DTSTART;TZID=Europe/Berlin:20260503T100000
DURATION:PT30M
LOCATION:St. Pelagius
END:VEVENT
BEGIN:VEVENT
UID:sabre-vobject-478a6c3d-ede5-41c8-a4b1-231c47d30be9
DTSTAMP:20260422T133904Z
SUMMARY:Taufe von Lucia Mößlang
DESCRIPTION:https://pfarreien-bistum-augsburg.df-preview.de/taufe-von-lucia
 -moesslang_id1751903
DTSTART;TZID=Europe/Berlin:20260503T113000
DURATION:PT30M
LOCATION:St. Stephan
END:VEVENT
BEGIN:VEVENT
UID:sabre-vobject-a76d59af-dc80-4d75-be14-85d7565cc04a
DTSTAMP:20260422T133904Z
SUMMARY:Maiandacht mit eucharistischem Segen
DESCRIPTION:https://pfarreien-bistum-augsburg.df-preview.de/maiandacht-mit-
 eucharistischem-segen_id1751960
DTSTART;TZID=Europe/Berlin:20260503T180000
DURATION:PT30M
LOCATION:St. Pelagius
END:VEVENT
BEGIN:VEVENT
UID:sabre-vobject-2560fc50-1e81-47e8-b5d1-1357491d9adf
DTSTAMP:20260422T133904Z
SUMMARY:Maiandacht mit eucharistischem Segen musikalisch gestaltet vom Kirc
 henchor
DESCRIPTION:https://pfarreien-bistum-augsburg.df-preview.de/maiandacht-mit-
 eucharistischem-segen-musikalisch-gestaltet-vom-kirchenchor_id1751860
DTSTART;TZID=Europe/Berlin:20260503T193000
DURATION:PT30M
LOCATION:St. Johannes Baptist
END:VEVENT
BEGIN:VEVENT
UID:sabre-vobject-1fc46dfc-d661-473a-a39c-9062d46af094
DTSTAMP:20260422T133904Z
SUMMARY:Rosenkranz
DESCRIPTION:https://pfarreien-bistum-augsburg.df-preview.de/rosenkranz_id17
 51990
DTSTART;TZID=Europe/Berlin:20260504T181500
DURATION:PT30M
LOCATION:St. Margareta
END:VEVENT
BEGIN:VEVENT
UID:sabre-vobject-d0f7abb2-5bf3-4f74-a02a-037f752a4680
DTSTAMP:20260422T133904Z
SUMMARY:Heilige Messe\; anschl. gemeinsames Frühstück in der Pelagiusstub
 e
DESCRIPTION:https://pfarreien-bistum-augsburg.df-preview.de/heilige-messe-a
 nschl-gemeinsames-fruehstueck-in-der-pelagiusstube_id1751961
DTSTART;TZID=Europe/Berlin:20260505T080000
DURATION:PT30M
LOCATION:St. Pelagius
END:VEVENT
BEGIN:VEVENT
UID:sabre-vobject-f816c035-a646-4cbb-a3d0-f629de205d71
DTSTAMP:20260422T133904Z
SUMMARY:Eucharistische Anbetung anschl. Heilige Messe
DESCRIPTION:https://pfarreien-bistum-augsburg.df-preview.de/eucharistische-
 anbetung-anschl-heilige-messe_id1751991
DTSTART;TZID=Europe/Berlin:20260505T183000
DURATION:PT30M
LOCATION:St. Margareta
END:VEVENT
BEGIN:VEVENT
UID:sabre-vobject-c423a913-2d4c-4bcd-b60c-15dfab97080d
DTSTAMP:20260422T133904Z
SUMMARY:Eucharistische Anbetung anschl. Heilige Messe
DESCRIPTION:https://pfarreien-bistum-augsburg.df-preview.de/eucharistische-
 anbetung-anschl-heilige-messe_id1751861
DTSTART;TZID=Europe/Berlin:20260506T083000
DURATION:PT30M
LOCATION:St. Johannes Baptist
END:VEVENT
BEGIN:VEVENT
UID:sabre-vobject-6c91e1f7-f980-4a0c-87a4-478439cf28a2
DTSTAMP:20260422T133904Z
SUMMARY:Eucharistische Anbetung anschl. Heilige Messe
DESCRIPTION:https://pfarreien-bistum-augsburg.df-preview.de/eucharistische-
 anbetung-anschl-heilige-messe_id1751859
DTSTART;TZID=Europe/Berlin:20260507T183000
DURATION:PT30M
LOCATION:St. Wendelin
END:VEVENT
BEGIN:VEVENT
UID:sabre-vobject-5738d202-5453-4956-9727-8837146ceada
DTSTAMP:20260422T133904Z
SUMMARY:Firmung musikalisch gestaltet vom Chor Ursprung 92
DESCRIPTION:https://pfarreien-bistum-augsburg.df-preview.de/firmung-musikal
 isch-gestaltet-vom-chor-ursprung-92_id1751962
DTSTART;TZID=Europe/Berlin:20260509T100000
DURATION:PT30M
LOCATION:St. Pelagius
END:VEVENT
BEGIN:VEVENT
UID:sabre-vobject-cec351f0-4a4c-4c22-886e-aa5fc9a2fd2c
DTSTAMP:20260422T133904Z
SUMMARY:Vorabendmesse
DESCRIPTION:https://pfarreien-bistum-augsburg.df-preview.de/vorabendmesse_i
 d1751870
DTSTART;TZID=Europe/Berlin:20260509T180000
DURATION:PT30M
LOCATION:St. Wendelin
END:VEVENT
BEGIN:VEVENT
UID:sabre-vobject-9b4e58c2-dd69-4485-a3cf-b3088a51e839
DTSTAMP:20260422T133904Z
SUMMARY:Heilige Messe
DESCRIPTION:https://pfarreien-bistum-augsburg.df-preview.de/heilige-messe_i
 d1752117
DTSTART;TZID=Europe/Berlin:20260510T083000
DURATION:PT30M
LOCATION:St. Margareta
END:VEVENT
BEGIN:VEVENT
UID:sabre-vobject-13f461db-8bf7-487e-81c9-44d32f010094
DTSTAMP:20260422T133904Z
SUMMARY:Heilige Messe
DESCRIPTION:https://pfarreien-bistum-augsburg.df-preview.de/heilige-messe_i
 d1751972
DTSTART;TZID=Europe/Berlin:20260510T100000
DURATION:PT30M
LOCATION:St. Pelagius
END:VEVENT
BEGIN:VEVENT
UID:sabre-vobject-4766348f-406a-4dca-9c79-85ad8ee429d0
DTSTAMP:20260422T133904Z
SUMMARY:Maiandacht mit eucharistischem Segen musikalisch gestaltet von der 
 Jodlergruppe Sonneck
DESCRIPTION:https://pfarreien-bistum-augsburg.df-preview.de/maiandacht-mit-
 eucharistischem-segen-musikalisch-gestaltet-von-der-jodlergruppe-sonneck_i
 d1751995
DTSTART;TZID=Europe/Berlin:20260510T190000
DURATION:PT30M
LOCATION:St. Ulrich
END:VEVENT
BEGIN:VEVENT
UID:sabre-vobject-1527006a-9d50-48e3-ae41-9706930a889e
DTSTAMP:20260422T133904Z
SUMMARY:Maiandacht bei der Kapelle Hauber
DESCRIPTION:https://pfarreien-bistum-augsburg.df-preview.de/maiandacht-bei-
 der-kapelle-hauber_id1751862
DTSTART;TZID=Europe/Berlin:20260510T193000
DURATION:PT30M
LOCATION:St. Johannes Baptist
END:VEVENT
BEGIN:VEVENT
UID:sabre-vobject-b46bd4a8-4a82-4979-b1d3-9159d2871be1
DTSTAMP:20260422T133904Z
SUMMARY:Maiandacht musikalisch gestaltet vom Jodler Wolfgang Hörmann
DESCRIPTION:https://pfarreien-bistum-augsburg.df-preview.de/maiandacht-musi
 kalisch-gestaltet-vom-jodler-wolfgang-hoermann_id1751904
DTSTART;TZID=Europe/Berlin:20260510T193000
DURATION:PT30M
LOCATION:St. Stephan
END:VEVENT
BEGIN:VEVENT
UID:sabre-vobject-baf6a608-5fd5-4db2-86f5-466deb5ecac5
DTSTAMP:20260422T133905Z
SUMMARY:Rosenkranz
DESCRIPTION:https://pfarreien-bistum-augsburg.df-preview.de/rosenkranz_id17
 52118
DTSTART;TZID=Europe/Berlin:20260511T181500
DURATION:PT30M
LOCATION:St. Margareta
END:VEVENT
BEGIN:VEVENT
UID:sabre-vobject-b6dcc8ac-d604-4e9d-b574-48f786c71e82
DTSTAMP:20260422T133905Z
SUMMARY:Vorabendmesse zu Christi Himmelfahrt mit anschließendem Bittgang
DESCRIPTION:https://pfarreien-bistum-augsburg.df-preview.de/vorabendmesse-z
 u-christi-himmelfahrt-mit-anschliessendem-bittgang_id1751863
DTSTART;TZID=Europe/Berlin:20260513T180000
DURATION:PT30M
LOCATION:St. Johannes Baptist
END:VEVENT
BEGIN:VEVENT
UID:sabre-vobject-850d8d6c-9585-4c8b-888a-365e9ea33a89
DTSTAMP:20260422T133905Z
SUMMARY:Vorabendmesse zu Christi Himmelfahrt mit anschließendem Bittgang
DESCRIPTION:https://pfarreien-bistum-augsburg.df-preview.de/vorabendmesse-z
 u-christi-himmelfahrt-mit-anschliessendem-bittgang_id1751905
DTSTART;TZID=Europe/Berlin:20260513T193000
DURATION:PT30M
LOCATION:St. Stephan
END:VEVENT
BEGIN:VEVENT
UID:sabre-vobject-8b9a5c96-7c55-44cc-b6a4-17f5135c50ec
DTSTAMP:20260422T133905Z
SUMMARY:Festgottesdienst
DESCRIPTION:https://pfarreien-bistum-augsburg.df-preview.de/festgottesdiens
 t_id1752116
DTSTART;TZID=Europe/Berlin:20260514T083000
DURATION:PT30M
LOCATION:St. Margareta
END:VEVENT
BEGIN:VEVENT
UID:sabre-vobject-ecbe7243-d0fa-4c3f-8587-3c9a7bce8733
DTSTAMP:20260422T133905Z
SUMMARY:Festgottesdienst
DESCRIPTION:https://pfarreien-bistum-augsburg.df-preview.de/festgottesdiens
 t_id1751973
DTSTART;TZID=Europe/Berlin:20260514T100000
DURATION:PT30M
LOCATION:St. Pelagius
END:VEVENT
BEGIN:VEVENT
UID:sabre-vobject-a25c8472-6fcf-46bf-bd39-30856a572f38
DTSTAMP:20260422T133905Z
SUMMARY:Taufe von Sophie und Mia Merz
DESCRIPTION:https://pfarreien-bistum-augsburg.df-preview.de/taufe-von-sophi
 e-und-mia-merz_id1752127
DTSTART;TZID=Europe/Berlin:20260516T133000
DURATION:PT30M
LOCATION:St. Margareta
END:VEVENT
BEGIN:VEVENT
UID:sabre-vobject-1fa6b3c5-a844-4eb7-955d-a0fef13aec24
DTSTAMP:20260422T133905Z
SUMMARY:Vorabendmesse
DESCRIPTION:https://pfarreien-bistum-augsburg.df-preview.de/vorabendmesse_i
 d1751871
DTSTART;TZID=Europe/Berlin:20260516T180000
DURATION:PT30M
LOCATION:St. Wendelin
END:VEVENT
BEGIN:VEVENT
UID:sabre-vobject-a5c45b43-79ea-495c-baa1-74517a5a0169
DTSTAMP:20260422T133905Z
SUMMARY:Vorabendmesse
DESCRIPTION:https://pfarreien-bistum-augsburg.df-preview.de/vorabendmesse_i
 d1751996
DTSTART;TZID=Europe/Berlin:20260516T193000
DURATION:PT30M
LOCATION:St. Ulrich
END:VEVENT
BEGIN:VEVENT
UID:sabre-vobject-89801313-87b6-4ad9-b766-9cb1ddd8879d
DTSTAMP:20260422T133905Z
SUMMARY:Heilige Messe
DESCRIPTION:https://pfarreien-bistum-augsburg.df-preview.de/heilige-messe_i
 d1751906
DTSTART;TZID=Europe/Berlin:20260517T083000
DURATION:PT30M
LOCATION:St. Stephan
END:VEVENT
BEGIN:VEVENT
UID:sabre-vobject-3b4b5de2-95ca-4793-b9dd-1ccd441f7963
DTSTAMP:20260422T133905Z
SUMMARY:Heilige Messe
DESCRIPTION:https://pfarreien-bistum-augsburg.df-preview.de/heilige-messe_i
 d1751981
DTSTART;TZID=Europe/Berlin:20260517T100000
DURATION:PT30M
LOCATION:St. Pelagius
END:VEVENT
BEGIN:VEVENT
UID:sabre-vobject-dcb82545-c9df-44c4-922f-a8f949edddd8
DTSTAMP:20260422T133905Z
SUMMARY:Taufe von Theo Möslang
DESCRIPTION:https://pfarreien-bistum-augsburg.df-preview.de/taufe-von-theo-
 moeslang_id1752128
DTSTART;TZID=Europe/Berlin:20260517T113000
DURATION:PT30M
LOCATION:St. Margareta
END:VEVENT
BEGIN:VEVENT
UID:sabre-vobject-a86269fd-c514-444d-af95-609ad68357fa
DTSTAMP:20260422T133905Z
SUMMARY:Maiandacht mit eucharistischem Segen musikalisch gestaltet vom Kirc
 henchor
DESCRIPTION:https://pfarreien-bistum-augsburg.df-preview.de/maiandacht-mit-
 eucharistischem-segen-musikalisch-gestaltet-vom-kirchenchor_id1752129
DTSTART;TZID=Europe/Berlin:20260517T190000
DURATION:PT30M
LOCATION:St. Margareta
END:VEVENT
BEGIN:VEVENT
UID:sabre-vobject-914043b4-af05-4d45-a759-f07fa2180297
DTSTAMP:20260422T133905Z
SUMMARY:Maiandacht musikalisch gestaltet vom Chor "Ursprung 92"
DESCRIPTION:https://pfarreien-bistum-augsburg.df-preview.de/maiandacht-musi
 kalisch-gestaltet-vom-chor-ursprung-92_id1751921
DTSTART;TZID=Europe/Berlin:20260517T193000
DURATION:PT30M
LOCATION:St. Stephan
END:VEVENT
BEGIN:VEVENT
UID:sabre-vobject-0d9f504a-4ac9-4b59-9642-bd8fd9df8b4a
DTSTAMP:20260422T133905Z
SUMMARY:Rosenkranz
DESCRIPTION:https://pfarreien-bistum-augsburg.df-preview.de/rosenkranz_id17
 52130
DTSTART;TZID=Europe/Berlin:20260518T181500
DURATION:PT30M
LOCATION:St. Margareta
END:VEVENT
BEGIN:VEVENT
UID:sabre-vobject-33e57e15-ca73-493e-8551-db9fde1f7783
DTSTAMP:20260422T133905Z
SUMMARY:Heilige Messe
DESCRIPTION:https://pfarreien-bistum-augsburg.df-preview.de/heilige-messe_i
 d1752131
DTSTART;TZID=Europe/Berlin:20260519T190000
DURATION:PT30M
LOCATION:St. Margareta
END:VEVENT
BEGIN:VEVENT
UID:sabre-vobject-aadfa2b1-9843-4bcc-b85b-2cd38efa48da
DTSTAMP:20260422T133905Z
SUMMARY:Heilige Messe im SH Alpenpanorama
DESCRIPTION:https://pfarreien-bistum-augsburg.df-preview.de/heilige-messe-i
 m-sh-alpenpanorama_id1751997
DTSTART;TZID=Europe/Berlin:20260520T100000
DURATION:PT30M
LOCATION:St. Ulrich
END:VEVENT
BEGIN:VEVENT
UID:sabre-vobject-916845aa-c857-4d2b-88dc-7d4a598ed18d
DTSTAMP:20260422T133905Z
SUMMARY:Hagelwallfahrt Ermengerst - Heiligkreuz (Treffpunkt 9.00 Uhr in Hel
 lengerst)
DESCRIPTION:https://pfarreien-bistum-augsburg.df-preview.de/hagelwallfahrt-
 ermengerst-heiligkreuz-treffpunkt-9-00-uhr-in-hellengerst_id1751927
DTSTART;TZID=Europe/Berlin:20260521T090000
DURATION:PT30M
LOCATION:St. Stephan
END:VEVENT
BEGIN:VEVENT
UID:sabre-vobject-71c2a1d3-35af-4c83-98fe-4ce62e69ea44
DTSTAMP:20260422T133905Z
SUMMARY:Heilige Messe
DESCRIPTION:https://pfarreien-bistum-augsburg.df-preview.de/heilige-messe_i
 d1751982
DTSTART;TZID=Europe/Berlin:20260522T190000
DURATION:PT30M
LOCATION:St. Pelagius
END:VEVENT
BEGIN:VEVENT
UID:sabre-vobject-411677e1-f39f-496e-8070-ee33566b9962
DTSTAMP:20260422T133905Z
SUMMARY:Trauung von Elisabeth und Philipp Hermann
DESCRIPTION:https://pfarreien-bistum-augsburg.df-preview.de/trauung-von-eli
 sabeth-und-philipp-hermann_id1752132
DTSTART;TZID=Europe/Berlin:20260523T150000
DURATION:PT30M
LOCATION:St. Margareta
END:VEVENT
BEGIN:VEVENT
UID:sabre-vobject-b98d8692-c346-43b2-a32a-e50a34a4ccd2
DTSTAMP:20260422T133905Z
SUMMARY:Vorabendmesse
DESCRIPTION:https://pfarreien-bistum-augsburg.df-preview.de/vorabendmesse_i
 d1751872
DTSTART;TZID=Europe/Berlin:20260523T180000
DURATION:PT30M
LOCATION:St. Wendelin
END:VEVENT
BEGIN:VEVENT
UID:sabre-vobject-336e954d-9afa-4b83-b117-cbd1cbf31489
DTSTAMP:20260422T133905Z
SUMMARY:Vorabendmesse
DESCRIPTION:https://pfarreien-bistum-augsburg.df-preview.de/vorabendmesse_i
 d1751998
DTSTART;TZID=Europe/Berlin:20260523T193000
DURATION:PT30M
LOCATION:St. Ulrich
END:VEVENT
BEGIN:VEVENT
UID:sabre-vobject-6ec5f10e-1cdf-4a09-af79-ebd79a8ce5b0
DTSTAMP:20260422T133905Z
SUMMARY:Festgottesdienst musikalisch gestaltet vom Kirchenchor
DESCRIPTION:https://pfarreien-bistum-augsburg.df-preview.de/festgottesdiens
 t-musikalisch-gestaltet-vom-kirchenchor_id1752135
DTSTART;TZID=Europe/Berlin:20260524T083000
DURATION:PT30M
LOCATION:St. Margareta
END:VEVENT
BEGIN:VEVENT
UID:sabre-vobject-9dd2b451-03f0-48c4-89b5-c424a29a3d69
DTSTAMP:20260422T133905Z
SUMMARY:Festgottesdienst
DESCRIPTION:https://pfarreien-bistum-augsburg.df-preview.de/festgottesdiens
 t_id1751983
DTSTART;TZID=Europe/Berlin:20260524T100000
DURATION:PT30M
LOCATION:St. Pelagius
END:VEVENT
BEGIN:VEVENT
UID:sabre-vobject-3ced8e05-052c-4a1c-bc0e-f636d2eb8a17
DTSTAMP:20260422T133905Z
SUMMARY:Maiandacht mit eucharistischem Segen
DESCRIPTION:https://pfarreien-bistum-augsburg.df-preview.de/maiandacht-mit-
 eucharistischem-segen_id1751873
DTSTART;TZID=Europe/Berlin:20260524T190000
DURATION:PT30M
LOCATION:St. Wendelin
END:VEVENT
BEGIN:VEVENT
UID:sabre-vobject-50073bbd-16f3-43fe-bf8d-17d07b701bd2
DTSTAMP:20260422T133905Z
SUMMARY:Festgottesdienst
DESCRIPTION:https://pfarreien-bistum-augsburg.df-preview.de/festgottesdiens
 t_id1751928
DTSTART;TZID=Europe/Berlin:20260525T083000
DURATION:PT30M
LOCATION:St. Stephan
END:VEVENT
BEGIN:VEVENT
UID:sabre-vobject-818b55ee-f901-4368-b490-979238cd041a
DTSTAMP:20260422T133905Z
SUMMARY:Festgottesdienst musikalisch getaltet vom Kirchenchor
DESCRIPTION:https://pfarreien-bistum-augsburg.df-preview.de/festgottesdiens
 t-musikalisch-getaltet-vom-kirchenchor_id1751864
DTSTART;TZID=Europe/Berlin:20260525T100000
DURATION:PT30M
LOCATION:St. Johannes Baptist
END:VEVENT
BEGIN:VEVENT
UID:sabre-vobject-0f5f4445-582a-435c-ae9c-559805ef7e96
DTSTAMP:20260422T133905Z
SUMMARY:Rosenkranz
DESCRIPTION:https://pfarreien-bistum-augsburg.df-preview.de/rosenkranz_id17
 51992
DTSTART;TZID=Europe/Berlin:20260525T181500
DURATION:PT30M
LOCATION:St. Margareta
END:VEVENT
BEGIN:VEVENT
UID:sabre-vobject-127fd8e9-0af8-47aa-be9c-35bb7e2a3a84
DTSTAMP:20260422T133905Z
SUMMARY:Maiandacht in der Kapelle Hochberg
DESCRIPTION:https://pfarreien-bistum-augsburg.df-preview.de/maiandacht-in-d
 er-kapelle-hochberg_id1751999
DTSTART;TZID=Europe/Berlin:20260527T190000
DURATION:PT30M
LOCATION:St. Ulrich
END:VEVENT
BEGIN:VEVENT
UID:sabre-vobject-2fac77e7-49c1-4b7a-a444-6dda573c8e2d
DTSTAMP:20260422T133905Z
SUMMARY:Heilige Messe
DESCRIPTION:https://pfarreien-bistum-augsburg.df-preview.de/heilige-messe_i
 d1751934
DTSTART;TZID=Europe/Berlin:20260528T190000
DURATION:PT30M
LOCATION:St. Stephan
END:VEVENT
BEGIN:VEVENT
UID:sabre-vobject-95ce7c9b-a92f-49e4-89f5-1a21a0e9a47c
DTSTAMP:20260422T133905Z
SUMMARY:Heilige Messe im Seniorenheim St. Vincenz
DESCRIPTION:https://pfarreien-bistum-augsburg.df-preview.de/heilige-messe-i
 m-seniorenheim-st-vincenz_id1751874
DTSTART;TZID=Europe/Berlin:20260529T100000
DURATION:PT30M
LOCATION:St. Wendelin
END:VEVENT
BEGIN:VEVENT
UID:sabre-vobject-e6a861d3-ef6b-4180-bd4f-1a014526ed02
DTSTAMP:20260422T133905Z
SUMMARY:Heilige Messe
DESCRIPTION:https://pfarreien-bistum-augsburg.df-preview.de/heilige-messe_i
 d1751984
DTSTART;TZID=Europe/Berlin:20260530T083000
DURATION:PT30M
LOCATION:St. Pelagius
END:VEVENT
BEGIN:VEVENT
UID:sabre-vobject-f6dc5bc3-b059-4c46-a5a6-a9426a349355
DTSTAMP:20260422T133905Z
SUMMARY:Vorabendmesse
DESCRIPTION:https://pfarreien-bistum-augsburg.df-preview.de/vorabendmesse_i
 d1751993
DTSTART;TZID=Europe/Berlin:20260530T180000
DURATION:PT30M
LOCATION:St. Margareta
END:VEVENT
BEGIN:VEVENT
UID:sabre-vobject-3de90761-2898-45dc-90c9-139a92d55a32
DTSTAMP:20260422T133905Z
SUMMARY:Vorabendmesse
DESCRIPTION:https://pfarreien-bistum-augsburg.df-preview.de/vorabendmesse_i
 d1751929
DTSTART;TZID=Europe/Berlin:20260530T193000
DURATION:PT30M
LOCATION:St. Stephan
END:VEVENT
BEGIN:VEVENT
UID:sabre-vobject-dae53fc9-c7e9-451a-aa70-3c7008584785
DTSTAMP:20260422T133905Z
SUMMARY:Heilige Messe mit anschließendem Kirchenkaffee
DESCRIPTION:https://pfarreien-bistum-augsburg.df-preview.de/heilige-messe-m
 it-anschliessendem-kirchenkaffee_id1751865
DTSTART;TZID=Europe/Berlin:20260531T083000
DURATION:PT30M
LOCATION:St. Johannes Baptist
END:VEVENT
BEGIN:VEVENT
UID:sabre-vobject-deee6691-ff9c-40f4-a8a3-3d2557e7a40c
DTSTAMP:20260422T133905Z
SUMMARY:Heilige Messe
DESCRIPTION:https://pfarreien-bistum-augsburg.df-preview.de/heilige-messe_i
 d1751985
DTSTART;TZID=Europe/Berlin:20260531T100000
DURATION:PT30M
LOCATION:St. Pelagius
END:VEVENT
BEGIN:VEVENT
UID:sabre-vobject-4273e8db-a54c-42b3-b641-d076b6f63246
DTSTAMP:20260422T133905Z
SUMMARY:Maiandacht
DESCRIPTION:https://pfarreien-bistum-augsburg.df-preview.de/maiandacht_id17
 51866
DTSTART;TZID=Europe/Berlin:20260531T193000
DURATION:PT30M
LOCATION:St. Johannes Baptist
END:VEVENT
BEGIN:VEVENT
UID:sabre-vobject-af3476b2-ea07-46d8-8606-27b31e481ddb
DTSTAMP:20260422T133905Z
SUMMARY:Maiandacht
DESCRIPTION:https://pfarreien-bistum-augsburg.df-preview.de/maiandacht_id17
 51931
DTSTART;TZID=Europe/Berlin:20260531T193000
DURATION:PT30M
LOCATION:St. Stephan
END:VEVENT
END:VCALENDAR
