BEGIN:VCALENDAR
VERSION:2.0
PRODID:-//Sabre//Sabre VObject 4.5.8//EN
CALSCALE:GREGORIAN
NAME:Bistum Augsburg
X-WR-CALNAME:Bistum Augsburg
BEGIN:VEVENT
UID:sabre-vobject-8d33d235-6517-49c6-badb-4c8b63516fa2
DTSTAMP:20260421T023120Z
SUMMARY:Trauung
DESCRIPTION:https://pfarreien-bistum-augsburg.df-preview.de/trauung_id17322
 57
DTSTART;TZID=Europe/Berlin:20260425T123000
DURATION:PT30M
LOCATION:St. Peter und Paul
END:VEVENT
BEGIN:VEVENT
UID:sabre-vobject-a7a1387f-b374-456c-9928-05fb6a15175a
DTSTAMP:20260421T023120Z
SUMMARY:Hl. Messe
DESCRIPTION:https://pfarreien-bistum-augsburg.df-preview.de/hl-messe_id1732
 258
DTSTART;TZID=Europe/Berlin:20260426T103000
DURATION:PT30M
LOCATION:St. Peter und Paul
END:VEVENT
BEGIN:VEVENT
UID:sabre-vobject-0ec5a96e-0fc0-48e1-b18a-4163e25fb0c5
DTSTAMP:20260421T023120Z
SUMMARY:Wiedereröffnung der St. Peter und Paul Kirche mit Bischof Bertram 
 Meier
DESCRIPTION:https://pfarreien-bistum-augsburg.df-preview.de/wiedereroeffnun
 g-der-st-peter-und-paul-kirche-mit-bischof-bertram-meier_id1732282
DTSTART;TZID=Europe/Berlin:20260503T100000
DURATION:PT30M
LOCATION:St. Peter und Paul
END:VEVENT
END:VCALENDAR
