BEGIN:VCALENDAR
VERSION:2.0
PRODID:-//Sabre//Sabre VObject 4.5.8//EN
CALSCALE:GREGORIAN
NAME:Bistum Augsburg
X-WR-CALNAME:Bistum Augsburg
BEGIN:VEVENT
UID:sabre-vobject-c52e5b75-caaf-483e-8c3f-fe95ec78fdee
DTSTAMP:20260422T061925Z
SUMMARY:Hl. Messe in St. Stephan (Uhrzeit beachten)
DESCRIPTION:https://pfarreien-bistum-augsburg.df-preview.de/hl-messe-in-st-
 stephan-uhrzeit-beachten_id1741304
DTSTART;TZID=Europe/Berlin:20260422T191500
DURATION:PT30M
LOCATION:St. Peter und Paul
END:VEVENT
BEGIN:VEVENT
UID:sabre-vobject-e151f23b-22da-4c1b-b019-d5fdad69f400
DTSTAMP:20260422T061925Z
SUMMARY:Orgelvesper bei Kerzenlicht mit Roland Götz\, Augsburg
DESCRIPTION:https://pfarreien-bistum-augsburg.df-preview.de/orgelvesper-bei
 -kerzenlicht-mit-roland-goetz-augsburg_id1751823
DTSTART;TZID=Europe/Berlin:20260425T210000
DURATION:PT30M
LOCATION:St. Peter und Paul
END:VEVENT
BEGIN:VEVENT
UID:sabre-vobject-335b1056-d349-47df-86e6-5f346c7cdd1e
DTSTAMP:20260422T061925Z
SUMMARY:k e i n   Gottesdienst in Irsee\n - 10:00 Uhr St. Martin Kaufbeuren
 \, Pontifikalgottesdienst mit Bischof Dr. Bertram Meier\, 25 Jahre Heiligs
 prechung Crescentias\n
DESCRIPTION:https://pfarreien-bistum-augsburg.df-preview.de/k-e-i-n-gottesd
 ienst-in-irsee-10-00-uhr-st-martin-kaufbeuren-pontifikalgottesdienst-mit-b
 ischof-dr-bertram-meier-25-jahre-heiligsprechung-crescentias_id1751425
DTSTART;TZID=Europe/Berlin:20260426T000000
DURATION:PT30M
LOCATION:St. Peter und Paul
END:VEVENT
BEGIN:VEVENT
UID:sabre-vobject-17f74c12-c0db-4750-9f98-ff48de58437f
DTSTAMP:20260422T061925Z
SUMMARY:Hl. Messe (Uhrzeit beachten)
DESCRIPTION:https://pfarreien-bistum-augsburg.df-preview.de/hl-messe-uhrzei
 t-beachten_id1751436
DTSTART;TZID=Europe/Berlin:20260429T191500
DURATION:PT30M
LOCATION:St. Peter und Paul
END:VEVENT
BEGIN:VEVENT
UID:sabre-vobject-c2de7a16-97ab-4d12-a77e-dfefa39650f9
DTSTAMP:20260422T061925Z
SUMMARY:Pfarrgottesdienst
DESCRIPTION:https://pfarreien-bistum-augsburg.df-preview.de/pfarrgottesdien
 st_id1751437
DTSTART;TZID=Europe/Berlin:20260501T101500
DURATION:PT30M
LOCATION:St. Peter und Paul
END:VEVENT
END:VCALENDAR
