BEGIN:VCALENDAR
VERSION:2.0
PRODID:-//Sabre//Sabre VObject 4.5.8//EN
CALSCALE:GREGORIAN
NAME:Bistum Augsburg
X-WR-CALNAME:Bistum Augsburg
BEGIN:VEVENT
UID:sabre-vobject-c79a2864-0078-429f-9920-02dd905747cc
DTSTAMP:20260421T145052Z
SUMMARY:Beichte der Kommunionkinder
DESCRIPTION:https://pfarreien-bistum-augsburg.df-preview.de/beichte-der-kom
 munionkinder_id1742519
DTSTART;TZID=Europe/Berlin:20260421T160000
DURATION:PT30M
LOCATION:St. Ambrosius
END:VEVENT
BEGIN:VEVENT
UID:sabre-vobject-0b447b9e-d456-47cb-800f-a648212f4108
DTSTAMP:20260421T145052Z
SUMMARY:Rosenkranz
DESCRIPTION:https://pfarreien-bistum-augsburg.df-preview.de/rosenkranz_id17
 42512
DTSTART;TZID=Europe/Berlin:20260421T183000
DURATION:PT30M
LOCATION:St. Afra\, Kirchstraße 13\, 87760 Lachen
END:VEVENT
BEGIN:VEVENT
UID:sabre-vobject-4d4b83e2-aed1-4d76-afaf-cf8bd8682a53
DTSTAMP:20260421T145052Z
SUMMARY:Abendmesse
DESCRIPTION:https://pfarreien-bistum-augsburg.df-preview.de/abendmesse_id17
 42513
DTSTART;TZID=Europe/Berlin:20260421T190000
DURATION:PT30M
LOCATION:St. Afra\, Kirchstraße 13\, 87760 Lachen
END:VEVENT
BEGIN:VEVENT
UID:sabre-vobject-076c02d8-0cb3-454b-9850-23354b28c404
DTSTAMP:20260421T145052Z
SUMMARY:Rosenkranz
DESCRIPTION:https://pfarreien-bistum-augsburg.df-preview.de/rosenkranz_id17
 42520
DTSTART;TZID=Europe/Berlin:20260422T083000
DURATION:PT30M
LOCATION:St. Ambrosius
END:VEVENT
BEGIN:VEVENT
UID:sabre-vobject-81305ad6-763e-41f4-b517-e23727d0e66d
DTSTAMP:20260421T145052Z
SUMMARY:Messfeier
DESCRIPTION:https://pfarreien-bistum-augsburg.df-preview.de/messfeier_id174
 2521
DTSTART;TZID=Europe/Berlin:20260422T090000
DURATION:PT30M
LOCATION:St. Ambrosius
END:VEVENT
BEGIN:VEVENT
UID:sabre-vobject-09275876-a9b0-4a99-a41b-42b448d6c759
DTSTAMP:20260421T145052Z
SUMMARY:Beichte der Kommunionkinder
DESCRIPTION:https://pfarreien-bistum-augsburg.df-preview.de/beichte-der-kom
 munionkinder_id1742514
DTSTART;TZID=Europe/Berlin:20260422T140000
DURATION:PT30M
LOCATION:St. Afra\, Kirchstraße 13\, 87760 Lachen
END:VEVENT
BEGIN:VEVENT
UID:sabre-vobject-083c921a-b3e5-44a5-b236-df58afd510e7
DTSTAMP:20260421T145052Z
SUMMARY:Rosenkranz
DESCRIPTION:https://pfarreien-bistum-augsburg.df-preview.de/rosenkranz_id17
 42530
DTSTART;TZID=Europe/Berlin:20260423T180000
DURATION:PT30M
LOCATION:St. Johannes Baptist
END:VEVENT
BEGIN:VEVENT
UID:sabre-vobject-04702460-2ddf-4eda-9923-ec05346cdc85
DTSTAMP:20260421T145052Z
SUMMARY:Abendmesse
DESCRIPTION:https://pfarreien-bistum-augsburg.df-preview.de/abendmesse_id17
 42531
DTSTART;TZID=Europe/Berlin:20260423T183000
DURATION:PT30M
LOCATION:St. Johannes Baptist
END:VEVENT
BEGIN:VEVENT
UID:sabre-vobject-8765174d-fa51-453e-91d7-84da8b8e19be
DTSTAMP:20260421T145052Z
SUMMARY:Rosenkranz
DESCRIPTION:https://pfarreien-bistum-augsburg.df-preview.de/rosenkranz_id17
 42515
DTSTART;TZID=Europe/Berlin:20260423T190000
DURATION:PT30M
LOCATION:St. Afra\, Kirchstraße 13\, 87760 Lachen
END:VEVENT
BEGIN:VEVENT
UID:sabre-vobject-9e8990f0-237b-46fe-9305-3464785076d3
DTSTAMP:20260421T145052Z
SUMMARY:Pfarrgemeinderatsitzung im Bürgerhaus
DESCRIPTION:https://pfarreien-bistum-augsburg.df-preview.de/pfarrgemeindera
 tsitzung-im-buergerhaus_id1742532
DTSTART;TZID=Europe/Berlin:20260423T193000
DURATION:PT30M
LOCATION:St. Johannes Baptist
END:VEVENT
BEGIN:VEVENT
UID:sabre-vobject-f7e9f438-be89-48d7-8265-0be530793413
DTSTAMP:20260421T145052Z
SUMMARY:Eucharistische Anbetung in der Ambrosiuskapelle
DESCRIPTION:https://pfarreien-bistum-augsburg.df-preview.de/eucharistische-
 anbetung-in-der-ambrosiuskapelle_id1742523
DTSTART;TZID=Europe/Berlin:20260424T150000
DURATION:PT30M
LOCATION:St. Ambrosius
END:VEVENT
BEGIN:VEVENT
UID:sabre-vobject-a72d2064-7d3c-4e24-a853-64269d57abdf
DTSTAMP:20260421T145052Z
SUMMARY:Probe für die Erstkommunion
DESCRIPTION:https://pfarreien-bistum-augsburg.df-preview.de/probe-fuer-die-
 erstkommunion_id1742524
DTSTART;TZID=Europe/Berlin:20260424T160000
DURATION:PT30M
LOCATION:St. Ambrosius
END:VEVENT
BEGIN:VEVENT
UID:sabre-vobject-ad177778-c5ba-46b8-8b77-460c3432bc6b
DTSTAMP:20260421T145052Z
SUMMARY:Abendmesse
DESCRIPTION:https://pfarreien-bistum-augsburg.df-preview.de/abendmesse_id17
 42482
DTSTART;TZID=Europe/Berlin:20260424T190000
DURATION:PT30M
LOCATION:St. Peter und Paul
END:VEVENT
BEGIN:VEVENT
UID:sabre-vobject-d992c966-d99a-4930-859e-09c9c8116bb6
DTSTAMP:20260421T145052Z
SUMMARY:Abendmesse in Schwaighausen
DESCRIPTION:https://pfarreien-bistum-augsburg.df-preview.de/abendmesse-in-s
 chwaighausen_id1742509
DTSTART;TZID=Europe/Berlin:20260424T190000
DURATION:PT30M
LOCATION:St. Georg
END:VEVENT
BEGIN:VEVENT
UID:sabre-vobject-47dd0f55-1a12-4ac5-87c7-5f090162866c
DTSTAMP:20260421T145052Z
SUMMARY:Dankgottesdienst zur Goldenen Hochzeit von Fam. Bachmann
DESCRIPTION:https://pfarreien-bistum-augsburg.df-preview.de/dankgottesdiens
 t-zur-goldenen-hochzeit-von-fam-bachmann_id1742533
DTSTART;TZID=Europe/Berlin:20260425T110000
DURATION:PT30M
LOCATION:St. Johannes Baptist
END:VEVENT
BEGIN:VEVENT
UID:sabre-vobject-f9f40164-f56e-4ce0-a81c-7e1957bae062
DTSTAMP:20260421T145052Z
SUMMARY:Vorabendmesse
DESCRIPTION:https://pfarreien-bistum-augsburg.df-preview.de/vorabendmesse_i
 d1742522
DTSTART;TZID=Europe/Berlin:20260425T170000
DURATION:PT30M
LOCATION:St. Peter und Paul
END:VEVENT
BEGIN:VEVENT
UID:sabre-vobject-a5361cb1-065e-409f-b0dc-dc8d3d5e0643
DTSTAMP:20260421T145052Z
SUMMARY:Vorabendmesse
DESCRIPTION:https://pfarreien-bistum-augsburg.df-preview.de/vorabendmesse_i
 d1742534
DTSTART;TZID=Europe/Berlin:20260425T183000
DURATION:PT30M
LOCATION:St. Johannes Baptist
END:VEVENT
BEGIN:VEVENT
UID:sabre-vobject-73d15228-8db7-476e-a4f0-4eca56a048b6
DTSTAMP:20260421T145052Z
SUMMARY:Feier der Erstkommunion
DESCRIPTION:https://pfarreien-bistum-augsburg.df-preview.de/feier-der-erstk
 ommunion_id1742525
DTSTART;TZID=Europe/Berlin:20260426T090000
DURATION:PT30M
LOCATION:St. Ambrosius
END:VEVENT
BEGIN:VEVENT
UID:sabre-vobject-72d3081c-8170-4181-8d0c-4839063b35b5
DTSTAMP:20260421T145052Z
SUMMARY:Kindergottesdienst in der kath. Kirche
DESCRIPTION:https://pfarreien-bistum-augsburg.df-preview.de/kindergottesdie
 nst-in-der-kath-kirche_id1742505
DTSTART;TZID=Europe/Berlin:20260426T103000
DURATION:PT30M
LOCATION:St. Peter und Paul
END:VEVENT
BEGIN:VEVENT
UID:sabre-vobject-b65de63a-5161-4bb0-95da-dea9892d5014
DTSTAMP:20260421T145052Z
SUMMARY:Wortgottesfeier
DESCRIPTION:https://pfarreien-bistum-augsburg.df-preview.de/wortgottesfeier
 _id1742510
DTSTART;TZID=Europe/Berlin:20260426T103000
DURATION:PT30M
LOCATION:St. Georg
END:VEVENT
BEGIN:VEVENT
UID:sabre-vobject-d69615b6-29cf-415c-afdb-1f15a394aff6
DTSTAMP:20260421T145052Z
SUMMARY:Feier der Erstkommunion mit den Kindern aus Lachen u. Benningen
DESCRIPTION:https://pfarreien-bistum-augsburg.df-preview.de/feier-der-erstk
 ommunion-mit-den-kindern-aus-lachen-u-benningen_id1742516
DTSTART;TZID=Europe/Berlin:20260426T103000
DURATION:PT30M
LOCATION:St. Afra\, Kirchstraße 13\, 87760 Lachen
END:VEVENT
BEGIN:VEVENT
UID:sabre-vobject-4d30d401-72e0-4598-9f8c-f663dbaa7591
DTSTAMP:20260421T145052Z
SUMMARY:Rosenkranz
DESCRIPTION:https://pfarreien-bistum-augsburg.df-preview.de/rosenkranz_id17
 42517
DTSTART;TZID=Europe/Berlin:20260427T080000
DURATION:PT30M
LOCATION:St. Afra\, Kirchstraße 13\, 87760 Lachen
END:VEVENT
BEGIN:VEVENT
UID:sabre-vobject-95d38e53-858e-4b04-bee0-a7b324808b99
DTSTAMP:20260421T145052Z
SUMMARY:Abendmesse
DESCRIPTION:https://pfarreien-bistum-augsburg.df-preview.de/abendmesse_id17
 42506
DTSTART;TZID=Europe/Berlin:20260428T190000
DURATION:PT30M
LOCATION:St. Peter und Paul
END:VEVENT
BEGIN:VEVENT
UID:sabre-vobject-c217ecfc-c1a3-45c6-9fc1-d9b225ed49ea
DTSTAMP:20260421T145052Z
SUMMARY:Rosenkranz
DESCRIPTION:https://pfarreien-bistum-augsburg.df-preview.de/rosenkranz_id17
 42526
DTSTART;TZID=Europe/Berlin:20260429T083000
DURATION:PT30M
LOCATION:St. Ambrosius
END:VEVENT
BEGIN:VEVENT
UID:sabre-vobject-be7872f3-3339-47ba-a35c-c02eb193cf50
DTSTAMP:20260421T145052Z
SUMMARY:Messfeier
DESCRIPTION:https://pfarreien-bistum-augsburg.df-preview.de/messfeier_id174
 2527
DTSTART;TZID=Europe/Berlin:20260429T090000
DURATION:PT30M
LOCATION:St. Ambrosius
END:VEVENT
BEGIN:VEVENT
UID:sabre-vobject-ceb61145-5561-4e56-9966-d3cd7025802c
DTSTAMP:20260421T145052Z
SUMMARY:Rosenkranz
DESCRIPTION:https://pfarreien-bistum-augsburg.df-preview.de/rosenkranz_id17
 42535
DTSTART;TZID=Europe/Berlin:20260430T180000
DURATION:PT30M
LOCATION:St. Johannes Baptist
END:VEVENT
BEGIN:VEVENT
UID:sabre-vobject-e9ed8653-58c4-445c-a4fc-994a7c79d020
DTSTAMP:20260421T145052Z
SUMMARY:Abendmesse
DESCRIPTION:https://pfarreien-bistum-augsburg.df-preview.de/abendmesse_id17
 42536
DTSTART;TZID=Europe/Berlin:20260430T183000
DURATION:PT30M
LOCATION:St. Johannes Baptist
END:VEVENT
BEGIN:VEVENT
UID:sabre-vobject-aaa44127-6259-4bd1-a3ca-a56fc09a1659
DTSTAMP:20260421T145052Z
SUMMARY:Rosenkranz
DESCRIPTION:https://pfarreien-bistum-augsburg.df-preview.de/rosenkranz_id17
 42518
DTSTART;TZID=Europe/Berlin:20260430T190000
DURATION:PT30M
LOCATION:St. Afra\, Kirchstraße 13\, 87760 Lachen
END:VEVENT
BEGIN:VEVENT
UID:sabre-vobject-619885c8-d5bb-4670-a7a4-4b60fd27e2b0
DTSTAMP:20260421T145052Z
SUMMARY:Pfarrgottesdienst
DESCRIPTION:https://pfarreien-bistum-augsburg.df-preview.de/pfarrgottesdien
 st_id1742528
DTSTART;TZID=Europe/Berlin:20260501T090000
DURATION:PT30M
LOCATION:St. Ambrosius
END:VEVENT
BEGIN:VEVENT
UID:sabre-vobject-b1dd6742-5ea1-4c6d-bbb9-48659485447e
DTSTAMP:20260421T145052Z
SUMMARY:Gem. Maiandacht der Pfarreiengemeinschaft
DESCRIPTION:https://pfarreien-bistum-augsburg.df-preview.de/gem-maiandacht-
 der-pfarreiengemeinschaft_id1742507
DTSTART;TZID=Europe/Berlin:20260501T190000
DURATION:PT30M
LOCATION:St. Peter und Paul
END:VEVENT
END:VCALENDAR
