BEGIN:VCALENDAR
VERSION:2.0
PRODID:-//Sabre//Sabre VObject 4.5.8//EN
CALSCALE:GREGORIAN
NAME:Bistum Augsburg
X-WR-CALNAME:Bistum Augsburg
BEGIN:VEVENT
UID:sabre-vobject-50b874e9-7bc3-4f54-853a-afcf1d27a59e
DTSTAMP:20260421T131050Z
SUMMARY:Heilige Messe
DESCRIPTION:https://pfarreien-bistum-augsburg.df-preview.de/heilige-messe_i
 d1657222
DTSTART;TZID=Europe/Berlin:20260422T160000
DURATION:PT30M
LOCATION:St. Michael
END:VEVENT
BEGIN:VEVENT
UID:sabre-vobject-cd4cc70e-ec23-4e28-be4e-9e4dbb458616
DTSTAMP:20260421T131050Z
SUMMARY:Rosenkranz
DESCRIPTION:https://pfarreien-bistum-augsburg.df-preview.de/rosenkranz_id17
 40516
DTSTART;TZID=Europe/Berlin:20260422T190000
DURATION:PT30M
LOCATION:St. Michael
END:VEVENT
BEGIN:VEVENT
UID:sabre-vobject-89b828fd-7927-43a3-93d7-4bc62e0923b6
DTSTAMP:20260421T131050Z
SUMMARY:Heilige Messe
DESCRIPTION:https://pfarreien-bistum-augsburg.df-preview.de/heilige-messe_i
 d1740685
DTSTART;TZID=Europe/Berlin:20260422T193000
DURATION:PT30M
LOCATION:St. Michael
END:VEVENT
BEGIN:VEVENT
UID:sabre-vobject-3a838198-5cdd-4615-a458-6fccdc0ad9e6
DTSTAMP:20260421T131050Z
SUMMARY:Erstkommunionfest in St. Michael in Prem
DESCRIPTION:https://pfarreien-bistum-augsburg.df-preview.de/erstkommunionfe
 st-in-st-michael-in-prem_id1732954
DTSTART;TZID=Europe/Berlin:20260425T103000
DURATION:PT30M
LOCATION:St. Michael
END:VEVENT
BEGIN:VEVENT
UID:sabre-vobject-c92a355b-8a16-45af-b0e3-1f009b8704a9
DTSTAMP:20260421T131050Z
SUMMARY:Pfarrgottesdienst
DESCRIPTION:https://pfarreien-bistum-augsburg.df-preview.de/pfarrgottesdien
 st_id1657223
DTSTART;TZID=Europe/Berlin:20260426T083000
DURATION:PT30M
LOCATION:St. Michael
END:VEVENT
BEGIN:VEVENT
UID:sabre-vobject-5b73e6c5-c50e-4d1c-90d5-b1a885a6fd68
DTSTAMP:20260421T131050Z
SUMMARY:Heilige Messe
DESCRIPTION:https://pfarreien-bistum-augsburg.df-preview.de/heilige-messe_i
 d1657224
DTSTART;TZID=Europe/Berlin:20260429T160000
DURATION:PT30M
LOCATION:St. Michael
END:VEVENT
BEGIN:VEVENT
UID:sabre-vobject-69dc5bb4-3c3e-4899-a80c-fcd78a2e3eb8
DTSTAMP:20260421T131050Z
SUMMARY:Pfarrgottesdienst
DESCRIPTION:https://pfarreien-bistum-augsburg.df-preview.de/pfarrgottesdien
 st_id1657227
DTSTART;TZID=Europe/Berlin:20260503T083000
DURATION:PT30M
LOCATION:St. Michael
END:VEVENT
BEGIN:VEVENT
UID:sabre-vobject-f4f925b9-6866-4b99-8b0f-8756c189ed14
DTSTAMP:20260421T131050Z
SUMMARY:Heilige Messe
DESCRIPTION:https://pfarreien-bistum-augsburg.df-preview.de/heilige-messe_i
 d1657225
DTSTART;TZID=Europe/Berlin:20260506T160000
DURATION:PT30M
LOCATION:St. Michael
END:VEVENT
BEGIN:VEVENT
UID:sabre-vobject-f3591c3b-bb6a-4c78-a1be-d9b53123e14a
DTSTAMP:20260421T131050Z
SUMMARY:Pfarrgottesdienst
DESCRIPTION:https://pfarreien-bistum-augsburg.df-preview.de/pfarrgottesdien
 st_id1657226
DTSTART;TZID=Europe/Berlin:20260510T083000
DURATION:PT30M
LOCATION:St. Michael
END:VEVENT
BEGIN:VEVENT
UID:sabre-vobject-929712cc-3f68-43e1-a448-cbabd3214f61
DTSTAMP:20260421T131050Z
SUMMARY:Heilige Messe
DESCRIPTION:https://pfarreien-bistum-augsburg.df-preview.de/heilige-messe_i
 d1657228
DTSTART;TZID=Europe/Berlin:20260513T160000
DURATION:PT30M
LOCATION:St. Michael
END:VEVENT
BEGIN:VEVENT
UID:sabre-vobject-fa6a5010-f1e1-46b8-af14-ef42835a4f3b
DTSTAMP:20260421T131050Z
SUMMARY:Pfarrgottesdienst
DESCRIPTION:https://pfarreien-bistum-augsburg.df-preview.de/pfarrgottesdien
 st_id1657229
DTSTART;TZID=Europe/Berlin:20260517T083000
DURATION:PT30M
LOCATION:St. Michael
END:VEVENT
BEGIN:VEVENT
UID:sabre-vobject-e2f181a6-ea3f-4568-9a9e-a955b397e593
DTSTAMP:20260421T131050Z
SUMMARY:Heilige Messe
DESCRIPTION:https://pfarreien-bistum-augsburg.df-preview.de/heilige-messe_i
 d1657230
DTSTART;TZID=Europe/Berlin:20260520T160000
DURATION:PT30M
LOCATION:St. Michael
END:VEVENT
BEGIN:VEVENT
UID:sabre-vobject-13cd2cfc-bca7-4549-93f0-2095d55b2e5d
DTSTAMP:20260421T131050Z
SUMMARY:Pfarrgottesdienst
DESCRIPTION:https://pfarreien-bistum-augsburg.df-preview.de/pfarrgottesdien
 st_id1657231
DTSTART;TZID=Europe/Berlin:20260524T083000
DURATION:PT30M
LOCATION:St. Michael
END:VEVENT
BEGIN:VEVENT
UID:sabre-vobject-1908bcee-1d72-47e8-a1ee-9fb99ff4c462
DTSTAMP:20260421T131050Z
SUMMARY:Heilige Messe
DESCRIPTION:https://pfarreien-bistum-augsburg.df-preview.de/heilige-messe_i
 d1657234
DTSTART;TZID=Europe/Berlin:20260527T160000
DURATION:PT30M
LOCATION:St. Michael
END:VEVENT
BEGIN:VEVENT
UID:sabre-vobject-d6ba73e8-9793-4cc1-9643-1727dfe0bcf4
DTSTAMP:20260421T131050Z
SUMMARY:Pfarrgottesdienst
DESCRIPTION:https://pfarreien-bistum-augsburg.df-preview.de/pfarrgottesdien
 st_id1657232
DTSTART;TZID=Europe/Berlin:20260531T083000
DURATION:PT30M
LOCATION:St. Michael
END:VEVENT
BEGIN:VEVENT
UID:sabre-vobject-f9d8875e-c1ba-4072-bc01-b123e366cfa9
DTSTAMP:20260421T131050Z
SUMMARY:Heilige Messe
DESCRIPTION:https://pfarreien-bistum-augsburg.df-preview.de/heilige-messe_i
 d1657233
DTSTART;TZID=Europe/Berlin:20260603T160000
DURATION:PT30M
LOCATION:St. Michael
END:VEVENT
BEGIN:VEVENT
UID:sabre-vobject-279d9008-3c60-44e6-a62a-ff1b38ecc062
DTSTAMP:20260421T131050Z
SUMMARY:Pfarrgottesdienst
DESCRIPTION:https://pfarreien-bistum-augsburg.df-preview.de/pfarrgottesdien
 st_id1657235
DTSTART;TZID=Europe/Berlin:20260607T083000
DURATION:PT30M
LOCATION:St. Michael
END:VEVENT
BEGIN:VEVENT
UID:sabre-vobject-89d7a5a7-f17a-464c-8bd5-98d49bb09950
DTSTAMP:20260421T131050Z
SUMMARY:Heilige Messe
DESCRIPTION:https://pfarreien-bistum-augsburg.df-preview.de/heilige-messe_i
 d1657236
DTSTART;TZID=Europe/Berlin:20260610T160000
DURATION:PT30M
LOCATION:St. Michael
END:VEVENT
BEGIN:VEVENT
UID:sabre-vobject-bf277083-df7c-4b9c-a262-e7c4a9f0adf7
DTSTAMP:20260421T131050Z
SUMMARY:Pfarrgottesdienst
DESCRIPTION:https://pfarreien-bistum-augsburg.df-preview.de/pfarrgottesdien
 st_id1657237
DTSTART;TZID=Europe/Berlin:20260614T083000
DURATION:PT30M
LOCATION:St. Michael
END:VEVENT
BEGIN:VEVENT
UID:sabre-vobject-caaf2e56-1ee4-4dd4-83c0-c0e9e24cfd04
DTSTAMP:20260421T131050Z
SUMMARY:Heilige Messe
DESCRIPTION:https://pfarreien-bistum-augsburg.df-preview.de/heilige-messe_i
 d1657246
DTSTART;TZID=Europe/Berlin:20260617T160000
DURATION:PT30M
LOCATION:St. Michael
END:VEVENT
BEGIN:VEVENT
UID:sabre-vobject-62c9b3d4-0dd9-408a-876c-32bd930475b1
DTSTAMP:20260421T131050Z
SUMMARY:Pfarrgottesdienst
DESCRIPTION:https://pfarreien-bistum-augsburg.df-preview.de/pfarrgottesdien
 st_id1657238
DTSTART;TZID=Europe/Berlin:20260621T083000
DURATION:PT30M
LOCATION:St. Michael
END:VEVENT
BEGIN:VEVENT
UID:sabre-vobject-90b9af2f-5b15-4960-bee6-f400ac801b63
DTSTAMP:20260421T131050Z
SUMMARY:Heilige Messe
DESCRIPTION:https://pfarreien-bistum-augsburg.df-preview.de/heilige-messe_i
 d1657239
DTSTART;TZID=Europe/Berlin:20260624T160000
DURATION:PT30M
LOCATION:St. Michael
END:VEVENT
BEGIN:VEVENT
UID:sabre-vobject-294858af-5cab-4501-bc5d-a5643a8be32d
DTSTAMP:20260421T131050Z
SUMMARY:Pfarrgottesdienst
DESCRIPTION:https://pfarreien-bistum-augsburg.df-preview.de/pfarrgottesdien
 st_id1657240
DTSTART;TZID=Europe/Berlin:20260628T083000
DURATION:PT30M
LOCATION:St. Michael
END:VEVENT
BEGIN:VEVENT
UID:sabre-vobject-13810f4a-04c7-46f5-8e6d-d5e0011e00fa
DTSTAMP:20260421T131050Z
SUMMARY:Heilige Messe
DESCRIPTION:https://pfarreien-bistum-augsburg.df-preview.de/heilige-messe_i
 d1657244
DTSTART;TZID=Europe/Berlin:20260701T160000
DURATION:PT30M
LOCATION:St. Michael
END:VEVENT
BEGIN:VEVENT
UID:sabre-vobject-b85b7553-a22a-46ff-a2f1-1f09c9a4beed
DTSTAMP:20260421T131050Z
SUMMARY:Pfarrgottesdienst
DESCRIPTION:https://pfarreien-bistum-augsburg.df-preview.de/pfarrgottesdien
 st_id1657245
DTSTART;TZID=Europe/Berlin:20260705T083000
DURATION:PT30M
LOCATION:St. Michael
END:VEVENT
BEGIN:VEVENT
UID:sabre-vobject-87267959-6d13-42f0-9e9a-0e2f8c5858d2
DTSTAMP:20260421T131050Z
SUMMARY:Heilige Messe
DESCRIPTION:https://pfarreien-bistum-augsburg.df-preview.de/heilige-messe_i
 d1657247
DTSTART;TZID=Europe/Berlin:20260708T160000
DURATION:PT30M
LOCATION:St. Michael
END:VEVENT
BEGIN:VEVENT
UID:sabre-vobject-96645b31-75c5-4666-aba6-13104baec13f
DTSTAMP:20260421T131050Z
SUMMARY:Pfarrgottesdienst
DESCRIPTION:https://pfarreien-bistum-augsburg.df-preview.de/pfarrgottesdien
 st_id1657248
DTSTART;TZID=Europe/Berlin:20260712T083000
DURATION:PT30M
LOCATION:St. Michael
END:VEVENT
BEGIN:VEVENT
UID:sabre-vobject-a78d7750-3a4a-479e-8216-0b16d117b65e
DTSTAMP:20260421T131050Z
SUMMARY:Heilige Messe
DESCRIPTION:https://pfarreien-bistum-augsburg.df-preview.de/heilige-messe_i
 d1657252
DTSTART;TZID=Europe/Berlin:20260715T160000
DURATION:PT30M
LOCATION:St. Michael
END:VEVENT
BEGIN:VEVENT
UID:sabre-vobject-50f535c2-8e1b-44e7-b7a5-1865720859d9
DTSTAMP:20260421T131050Z
SUMMARY:Pfarrgottesdienst
DESCRIPTION:https://pfarreien-bistum-augsburg.df-preview.de/pfarrgottesdien
 st_id1657241
DTSTART;TZID=Europe/Berlin:20260719T083000
DURATION:PT30M
LOCATION:St. Michael
END:VEVENT
BEGIN:VEVENT
UID:sabre-vobject-d6d693e0-0248-405a-a8b7-b1973f4673c3
DTSTAMP:20260421T131050Z
SUMMARY:Heilige Messe
DESCRIPTION:https://pfarreien-bistum-augsburg.df-preview.de/heilige-messe_i
 d1657242
DTSTART;TZID=Europe/Berlin:20260722T160000
DURATION:PT30M
LOCATION:St. Michael
END:VEVENT
BEGIN:VEVENT
UID:sabre-vobject-9dba4d7c-d9e9-4bd4-8603-d54cf9b12bff
DTSTAMP:20260421T131050Z
SUMMARY:Pfarrgottesdienst
DESCRIPTION:https://pfarreien-bistum-augsburg.df-preview.de/pfarrgottesdien
 st_id1657243
DTSTART;TZID=Europe/Berlin:20260726T083000
DURATION:PT30M
LOCATION:St. Michael
END:VEVENT
BEGIN:VEVENT
UID:sabre-vobject-d9d469b8-e567-49ad-9657-a0570f4cc991
DTSTAMP:20260421T131050Z
SUMMARY:Heilige Messe
DESCRIPTION:https://pfarreien-bistum-augsburg.df-preview.de/heilige-messe_i
 d1657249
DTSTART;TZID=Europe/Berlin:20260729T160000
DURATION:PT30M
LOCATION:St. Michael
END:VEVENT
BEGIN:VEVENT
UID:sabre-vobject-cf49c780-085a-4ac9-85fc-495cdfbb9d34
DTSTAMP:20260421T131050Z
SUMMARY:Pfarrgottesdienst
DESCRIPTION:https://pfarreien-bistum-augsburg.df-preview.de/pfarrgottesdien
 st_id1657250
DTSTART;TZID=Europe/Berlin:20260802T083000
DURATION:PT30M
LOCATION:St. Michael
END:VEVENT
BEGIN:VEVENT
UID:sabre-vobject-348ae4cb-e042-47bc-b701-18ae5f408e01
DTSTAMP:20260421T131050Z
SUMMARY:Heilige Messe
DESCRIPTION:https://pfarreien-bistum-augsburg.df-preview.de/heilige-messe_i
 d1657251
DTSTART;TZID=Europe/Berlin:20260805T160000
DURATION:PT30M
LOCATION:St. Michael
END:VEVENT
BEGIN:VEVENT
UID:sabre-vobject-5ebe633e-d163-466b-9943-9b8cf1a03486
DTSTAMP:20260421T131050Z
SUMMARY:Pfarrgottesdienst
DESCRIPTION:https://pfarreien-bistum-augsburg.df-preview.de/pfarrgottesdien
 st_id1657257
DTSTART;TZID=Europe/Berlin:20260809T083000
DURATION:PT30M
LOCATION:St. Michael
END:VEVENT
BEGIN:VEVENT
UID:sabre-vobject-fb76f59b-52ad-49c6-a19a-51f961e0c074
DTSTAMP:20260421T131050Z
SUMMARY:Heilige Messe
DESCRIPTION:https://pfarreien-bistum-augsburg.df-preview.de/heilige-messe_i
 d1657260
DTSTART;TZID=Europe/Berlin:20260812T160000
DURATION:PT30M
LOCATION:St. Michael
END:VEVENT
BEGIN:VEVENT
UID:sabre-vobject-1eed96d9-4d4e-4e0e-bdc0-ba62f62818ae
DTSTAMP:20260421T131050Z
SUMMARY:Pfarrgottesdienst
DESCRIPTION:https://pfarreien-bistum-augsburg.df-preview.de/pfarrgottesdien
 st_id1558100
DTSTART;TZID=Europe/Berlin:20260816T083000
DURATION:PT30M
LOCATION:St. Michael
END:VEVENT
BEGIN:VEVENT
UID:sabre-vobject-545b3c3e-72ee-4fe9-9252-70daa3ccdf34
DTSTAMP:20260421T131050Z
SUMMARY:Heilige Messe
DESCRIPTION:https://pfarreien-bistum-augsburg.df-preview.de/heilige-messe_i
 d1558102
DTSTART;TZID=Europe/Berlin:20260819T160000
DURATION:PT30M
LOCATION:St. Michael
END:VEVENT
BEGIN:VEVENT
UID:sabre-vobject-57e432dd-5980-4985-a30f-725f959bf6d5
DTSTAMP:20260421T131050Z
SUMMARY:Pfarrgottesdienst
DESCRIPTION:https://pfarreien-bistum-augsburg.df-preview.de/pfarrgottesdien
 st_id1558103
DTSTART;TZID=Europe/Berlin:20260823T083000
DURATION:PT30M
LOCATION:St. Michael
END:VEVENT
BEGIN:VEVENT
UID:sabre-vobject-dc085343-9060-42d8-ad9f-cb36134b5a7a
DTSTAMP:20260421T131050Z
SUMMARY:Heilige Messe
DESCRIPTION:https://pfarreien-bistum-augsburg.df-preview.de/heilige-messe_i
 d1558104
DTSTART;TZID=Europe/Berlin:20260826T160000
DURATION:PT30M
LOCATION:St. Michael
END:VEVENT
BEGIN:VEVENT
UID:sabre-vobject-17db5909-2ce2-4fb8-ac13-2deb867aeb69
DTSTAMP:20260421T131050Z
SUMMARY:Pfarrgottesdienst
DESCRIPTION:https://pfarreien-bistum-augsburg.df-preview.de/pfarrgottesdien
 st_id1558113
DTSTART;TZID=Europe/Berlin:20260830T083000
DURATION:PT30M
LOCATION:St. Michael
END:VEVENT
BEGIN:VEVENT
UID:sabre-vobject-00a28e62-faa6-4697-8de8-88005185672f
DTSTAMP:20260421T131050Z
SUMMARY:Heilige Messe
DESCRIPTION:https://pfarreien-bistum-augsburg.df-preview.de/heilige-messe_i
 d1558115
DTSTART;TZID=Europe/Berlin:20260902T160000
DURATION:PT30M
LOCATION:St. Michael
END:VEVENT
BEGIN:VEVENT
UID:sabre-vobject-be7c7e8f-3c32-4b73-b2b2-69b2a6a1f918
DTSTAMP:20260421T131050Z
SUMMARY:Pfarrgottesdienst
DESCRIPTION:https://pfarreien-bistum-augsburg.df-preview.de/pfarrgottesdien
 st_id1558116
DTSTART;TZID=Europe/Berlin:20260906T083000
DURATION:PT30M
LOCATION:St. Michael
END:VEVENT
BEGIN:VEVENT
UID:sabre-vobject-d27f0617-b600-458b-b015-7f58383d31d0
DTSTAMP:20260421T131050Z
SUMMARY:Heilige Messe
DESCRIPTION:https://pfarreien-bistum-augsburg.df-preview.de/heilige-messe_i
 d1558117
DTSTART;TZID=Europe/Berlin:20260909T160000
DURATION:PT30M
LOCATION:St. Michael
END:VEVENT
BEGIN:VEVENT
UID:sabre-vobject-07818eef-4f2b-4e9d-9f08-a04dbbeed17a
DTSTAMP:20260421T131050Z
SUMMARY:Pfarrgottesdienst
DESCRIPTION:https://pfarreien-bistum-augsburg.df-preview.de/pfarrgottesdien
 st_id1657255
DTSTART;TZID=Europe/Berlin:20260913T083000
DURATION:PT30M
LOCATION:St. Michael
END:VEVENT
BEGIN:VEVENT
UID:sabre-vobject-89c84a25-3e2b-4399-b9c8-b8ff96e7503b
DTSTAMP:20260421T131050Z
SUMMARY:Heilige Messe
DESCRIPTION:https://pfarreien-bistum-augsburg.df-preview.de/heilige-messe_i
 d1657256
DTSTART;TZID=Europe/Berlin:20260916T160000
DURATION:PT30M
LOCATION:St. Michael
END:VEVENT
BEGIN:VEVENT
UID:sabre-vobject-a14c51c4-861e-42ba-84e0-95eb2b566765
DTSTAMP:20260421T131050Z
SUMMARY:Pfarrgottesdienst
DESCRIPTION:https://pfarreien-bistum-augsburg.df-preview.de/pfarrgottesdien
 st_id1657258
DTSTART;TZID=Europe/Berlin:20260920T083000
DURATION:PT30M
LOCATION:St. Michael
END:VEVENT
BEGIN:VEVENT
UID:sabre-vobject-a674cbb7-87f9-41cf-92f3-549f0ab746af
DTSTAMP:20260421T131050Z
SUMMARY:Heilige Messe
DESCRIPTION:https://pfarreien-bistum-augsburg.df-preview.de/heilige-messe_i
 d1657259
DTSTART;TZID=Europe/Berlin:20260923T160000
DURATION:PT30M
LOCATION:St. Michael
END:VEVENT
BEGIN:VEVENT
UID:sabre-vobject-9f835189-83eb-46ce-89fe-86a81ba3072a
DTSTAMP:20260421T131050Z
SUMMARY:Pfarrgottesdienst
DESCRIPTION:https://pfarreien-bistum-augsburg.df-preview.de/pfarrgottesdien
 st_id1558114
DTSTART;TZID=Europe/Berlin:20260927T083000
DURATION:PT30M
LOCATION:St. Michael
END:VEVENT
BEGIN:VEVENT
UID:sabre-vobject-5f606c3c-b2d7-4d25-9255-f9810afdbefe
DTSTAMP:20260421T131050Z
SUMMARY:Heilige Messe
DESCRIPTION:https://pfarreien-bistum-augsburg.df-preview.de/heilige-messe_i
 d1558118
DTSTART;TZID=Europe/Berlin:20260930T160000
DURATION:PT30M
LOCATION:St. Michael
END:VEVENT
BEGIN:VEVENT
UID:sabre-vobject-66e2cbc6-4c1b-49bc-b5eb-52fbaee45ac7
DTSTAMP:20260421T131050Z
SUMMARY:Pfarrgottesdienst
DESCRIPTION:https://pfarreien-bistum-augsburg.df-preview.de/pfarrgottesdien
 st_id1558119
DTSTART;TZID=Europe/Berlin:20261004T083000
DURATION:PT30M
LOCATION:St. Michael
END:VEVENT
BEGIN:VEVENT
UID:sabre-vobject-8115c957-8953-4200-a54a-603d744fd0af
DTSTAMP:20260421T131050Z
SUMMARY:Heilige Messe
DESCRIPTION:https://pfarreien-bistum-augsburg.df-preview.de/heilige-messe_i
 d1558152
DTSTART;TZID=Europe/Berlin:20261007T160000
DURATION:PT30M
LOCATION:St. Michael
END:VEVENT
BEGIN:VEVENT
UID:sabre-vobject-8bfbe303-8402-41ff-a381-944affb7ebd6
DTSTAMP:20260421T131050Z
SUMMARY:Pfarrgottesdienst
DESCRIPTION:https://pfarreien-bistum-augsburg.df-preview.de/pfarrgottesdien
 st_id1558153
DTSTART;TZID=Europe/Berlin:20261011T083000
DURATION:PT30M
LOCATION:St. Michael
END:VEVENT
BEGIN:VEVENT
UID:sabre-vobject-bfe4da05-3aef-4ca5-ac83-00f718f5d502
DTSTAMP:20260421T131050Z
SUMMARY:Heilige Messe
DESCRIPTION:https://pfarreien-bistum-augsburg.df-preview.de/heilige-messe_i
 d1558154
DTSTART;TZID=Europe/Berlin:20261014T160000
DURATION:PT30M
LOCATION:St. Michael
END:VEVENT
BEGIN:VEVENT
UID:sabre-vobject-443e9b59-06bb-4b47-831e-44daee78c553
DTSTAMP:20260421T131050Z
SUMMARY:Pfarrgottesdienst
DESCRIPTION:https://pfarreien-bistum-augsburg.df-preview.de/pfarrgottesdien
 st_id1558155
DTSTART;TZID=Europe/Berlin:20261018T083000
DURATION:PT30M
LOCATION:St. Michael
END:VEVENT
BEGIN:VEVENT
UID:sabre-vobject-f85b18eb-142a-4119-ad28-697f1dc9224b
DTSTAMP:20260421T131050Z
SUMMARY:Heilige Messe
DESCRIPTION:https://pfarreien-bistum-augsburg.df-preview.de/heilige-messe_i
 d1558156
DTSTART;TZID=Europe/Berlin:20261021T160000
DURATION:PT30M
LOCATION:St. Michael
END:VEVENT
BEGIN:VEVENT
UID:sabre-vobject-b4b7f3c0-8861-4bba-be9d-eab52b926628
DTSTAMP:20260421T131050Z
SUMMARY:Pfarrgottesdienst
DESCRIPTION:https://pfarreien-bistum-augsburg.df-preview.de/pfarrgottesdien
 st_id1558157
DTSTART;TZID=Europe/Berlin:20261025T083000
DURATION:PT30M
LOCATION:St. Michael
END:VEVENT
BEGIN:VEVENT
UID:sabre-vobject-d88ced24-2e54-4249-863d-4889ee51dd71
DTSTAMP:20260421T131050Z
SUMMARY:Heilige Messe
DESCRIPTION:https://pfarreien-bistum-augsburg.df-preview.de/heilige-messe_i
 d1558158
DTSTART;TZID=Europe/Berlin:20261028T160000
DURATION:PT30M
LOCATION:St. Michael
END:VEVENT
BEGIN:VEVENT
UID:sabre-vobject-ce902633-2d94-4e87-9093-5c3255690ea6
DTSTAMP:20260421T131050Z
SUMMARY:Pfarrgottesdienst
DESCRIPTION:https://pfarreien-bistum-augsburg.df-preview.de/pfarrgottesdien
 st_id1558159
DTSTART;TZID=Europe/Berlin:20261101T083000
DURATION:PT30M
LOCATION:St. Michael
END:VEVENT
BEGIN:VEVENT
UID:sabre-vobject-eac13ef2-7a1c-4978-9719-76be827c16dd
DTSTAMP:20260421T131050Z
SUMMARY:Heilige Messe
DESCRIPTION:https://pfarreien-bistum-augsburg.df-preview.de/heilige-messe_i
 d1558160
DTSTART;TZID=Europe/Berlin:20261104T160000
DURATION:PT30M
LOCATION:St. Michael
END:VEVENT
BEGIN:VEVENT
UID:sabre-vobject-bc31231e-e385-449c-a546-706b6e194b55
DTSTAMP:20260421T131050Z
SUMMARY:Pfarrgottesdienst
DESCRIPTION:https://pfarreien-bistum-augsburg.df-preview.de/pfarrgottesdien
 st_id1558161
DTSTART;TZID=Europe/Berlin:20261108T083000
DURATION:PT30M
LOCATION:St. Michael
END:VEVENT
BEGIN:VEVENT
UID:sabre-vobject-6a1fde27-f57f-4df6-8a60-993d7aac9dad
DTSTAMP:20260421T131050Z
SUMMARY:Heilige Messe
DESCRIPTION:https://pfarreien-bistum-augsburg.df-preview.de/heilige-messe_i
 d1558162
DTSTART;TZID=Europe/Berlin:20261111T160000
DURATION:PT30M
LOCATION:St. Michael
END:VEVENT
BEGIN:VEVENT
UID:sabre-vobject-d0e1d811-d432-4670-8260-3d78ede9d4af
DTSTAMP:20260421T131050Z
SUMMARY:Pfarrgottesdienst
DESCRIPTION:https://pfarreien-bistum-augsburg.df-preview.de/pfarrgottesdien
 st_id1558163
DTSTART;TZID=Europe/Berlin:20261115T083000
DURATION:PT30M
LOCATION:St. Michael
END:VEVENT
BEGIN:VEVENT
UID:sabre-vobject-f145b167-e126-4c65-bd39-c32a90d99b0a
DTSTAMP:20260421T131050Z
SUMMARY:Heilige Messe
DESCRIPTION:https://pfarreien-bistum-augsburg.df-preview.de/heilige-messe_i
 d1558164
DTSTART;TZID=Europe/Berlin:20261118T160000
DURATION:PT30M
LOCATION:St. Michael
END:VEVENT
BEGIN:VEVENT
UID:sabre-vobject-6a6c9571-3eaf-4815-a191-337aec9e8868
DTSTAMP:20260421T131050Z
SUMMARY:Pfarrgottesdienst
DESCRIPTION:https://pfarreien-bistum-augsburg.df-preview.de/pfarrgottesdien
 st_id1558194
DTSTART;TZID=Europe/Berlin:20261122T083000
DURATION:PT30M
LOCATION:St. Michael
END:VEVENT
BEGIN:VEVENT
UID:sabre-vobject-9642781a-7a7e-47f8-86e1-31313bc52b82
DTSTAMP:20260421T131050Z
SUMMARY:Heilige Messe
DESCRIPTION:https://pfarreien-bistum-augsburg.df-preview.de/heilige-messe_i
 d1558195
DTSTART;TZID=Europe/Berlin:20261125T160000
DURATION:PT30M
LOCATION:St. Michael
END:VEVENT
BEGIN:VEVENT
UID:sabre-vobject-f0aab3a5-612f-44a4-9674-007a4768d977
DTSTAMP:20260421T131050Z
SUMMARY:Pfarrgottesdienst
DESCRIPTION:https://pfarreien-bistum-augsburg.df-preview.de/pfarrgottesdien
 st_id1558196
DTSTART;TZID=Europe/Berlin:20261129T083000
DURATION:PT30M
LOCATION:St. Michael
END:VEVENT
BEGIN:VEVENT
UID:sabre-vobject-991f4373-07cf-41ec-bd9e-7a4a43ec6043
DTSTAMP:20260421T131050Z
SUMMARY:Heilige Messe
DESCRIPTION:https://pfarreien-bistum-augsburg.df-preview.de/heilige-messe_i
 d1558151
DTSTART;TZID=Europe/Berlin:20261202T160000
DURATION:PT30M
LOCATION:St. Michael
END:VEVENT
BEGIN:VEVENT
UID:sabre-vobject-5d5b1c95-8139-48e3-a907-8512e288f884
DTSTAMP:20260421T131050Z
SUMMARY:Pfarrgottesdienst
DESCRIPTION:https://pfarreien-bistum-augsburg.df-preview.de/pfarrgottesdien
 st_id1558105
DTSTART;TZID=Europe/Berlin:20261206T083000
DURATION:PT30M
LOCATION:St. Michael
END:VEVENT
BEGIN:VEVENT
UID:sabre-vobject-7d94cf07-8fd1-4b87-a2b7-de36fd255df7
DTSTAMP:20260421T131050Z
SUMMARY:Heilige Messe
DESCRIPTION:https://pfarreien-bistum-augsburg.df-preview.de/heilige-messe_i
 d1558106
DTSTART;TZID=Europe/Berlin:20261209T160000
DURATION:PT30M
LOCATION:St. Michael
END:VEVENT
BEGIN:VEVENT
UID:sabre-vobject-255acc78-7595-4294-9808-858ba5b42094
DTSTAMP:20260421T131050Z
SUMMARY:Pfarrgottesdienst
DESCRIPTION:https://pfarreien-bistum-augsburg.df-preview.de/pfarrgottesdien
 st_id1558173
DTSTART;TZID=Europe/Berlin:20261213T083000
DURATION:PT30M
LOCATION:St. Michael
END:VEVENT
BEGIN:VEVENT
UID:sabre-vobject-ce4101e7-62b2-492c-b365-50d9672eda50
DTSTAMP:20260421T131050Z
SUMMARY:Heilige Messe
DESCRIPTION:https://pfarreien-bistum-augsburg.df-preview.de/heilige-messe_i
 d1558165
DTSTART;TZID=Europe/Berlin:20261216T160000
DURATION:PT30M
LOCATION:St. Michael
END:VEVENT
BEGIN:VEVENT
UID:sabre-vobject-5fb54fcf-d984-406b-b173-ab49239ae5b3
DTSTAMP:20260421T131050Z
SUMMARY:Pfarrgottesdienst
DESCRIPTION:https://pfarreien-bistum-augsburg.df-preview.de/pfarrgottesdien
 st_id1558166
DTSTART;TZID=Europe/Berlin:20261220T083000
DURATION:PT30M
LOCATION:St. Michael
END:VEVENT
BEGIN:VEVENT
UID:sabre-vobject-87c7a7bb-e5cc-442d-8c88-a8e57530968d
DTSTAMP:20260421T131050Z
SUMMARY:Heilige Messe
DESCRIPTION:https://pfarreien-bistum-augsburg.df-preview.de/heilige-messe_i
 d1558167
DTSTART;TZID=Europe/Berlin:20261223T160000
DURATION:PT30M
LOCATION:St. Michael
END:VEVENT
BEGIN:VEVENT
UID:sabre-vobject-8adf8124-0a6a-42df-bf8d-1d900f40b6b1
DTSTAMP:20260421T131050Z
SUMMARY:Christmette
DESCRIPTION:https://pfarreien-bistum-augsburg.df-preview.de/christmette_id1
 657287
DTSTART;TZID=Europe/Berlin:20261224T160000
DURATION:PT30M
LOCATION:St. Michael
END:VEVENT
BEGIN:VEVENT
UID:sabre-vobject-466b0cd1-c3a7-4af7-b0f1-7846e08212c3
DTSTAMP:20260421T131050Z
SUMMARY:Pfarrgottesdienst
DESCRIPTION:https://pfarreien-bistum-augsburg.df-preview.de/pfarrgottesdien
 st_id1657288
DTSTART;TZID=Europe/Berlin:20261227T083000
DURATION:PT30M
LOCATION:St. Michael
END:VEVENT
BEGIN:VEVENT
UID:sabre-vobject-315d0454-6913-40ea-9cc0-ce5e8442f3b6
DTSTAMP:20260421T131050Z
SUMMARY:Heilige Messe
DESCRIPTION:https://pfarreien-bistum-augsburg.df-preview.de/heilige-messe_i
 d1657289
DTSTART;TZID=Europe/Berlin:20261230T160000
DURATION:PT30M
LOCATION:St. Michael
END:VEVENT
END:VCALENDAR
