BEGIN:VCALENDAR
VERSION:2.0
PRODID:-//Sabre//Sabre VObject 4.5.8//EN
CALSCALE:GREGORIAN
NAME:Bistum Augsburg
X-WR-CALNAME:Bistum Augsburg
BEGIN:VEVENT
UID:sabre-vobject-88c7d8c5-6a76-42f9-b4e8-505f588dbf64
DTSTAMP:20260424T082257Z
SUMMARY:Heilige Messe
DESCRIPTION:https://pfarreien-bistum-augsburg.df-preview.de/heilige-messe_i
 d1723871
DTSTART;TZID=Europe/Berlin:20260424T090000
DURATION:PT30M
LOCATION:Mariä Himmelfahrt
END:VEVENT
BEGIN:VEVENT
UID:sabre-vobject-8c6c135a-da00-402e-bfdf-15d51f6ab1dd
DTSTAMP:20260424T082258Z
SUMMARY:Rosenkranz
DESCRIPTION:https://pfarreien-bistum-augsburg.df-preview.de/rosenkranz_id17
 23872
DTSTART;TZID=Europe/Berlin:20260425T160000
DURATION:PT30M
LOCATION:Mariä Himmelfahrt
END:VEVENT
BEGIN:VEVENT
UID:sabre-vobject-d940534f-d371-40ae-bf59-5d048e02b889
DTSTAMP:20260424T082258Z
SUMMARY:Heilige Messe
DESCRIPTION:https://pfarreien-bistum-augsburg.df-preview.de/heilige-messe_i
 d1755714
DTSTART;TZID=Europe/Berlin:20260426T100000
DURATION:PT30M
LOCATION:Mariä Himmelfahrt
END:VEVENT
BEGIN:VEVENT
UID:sabre-vobject-e6b796e2-f111-4688-9c52-c42c0bf3e9b1
DTSTAMP:20260424T082258Z
SUMMARY:Kindergottesdienst im Pfarrheim (siehe Schaukasten)
DESCRIPTION:https://pfarreien-bistum-augsburg.df-preview.de/kindergottesdie
 nst-im-pfarrheim-siehe-schaukasten_id1755719
DTSTART;TZID=Europe/Berlin:20260426T100000
DURATION:PT30M
LOCATION:Mariä Himmelfahrt
END:VEVENT
BEGIN:VEVENT
UID:sabre-vobject-e63b7b51-7914-4334-9108-2e6d4204a0d5
DTSTAMP:20260424T082258Z
SUMMARY:Festmesse anschl. kurze Maiandacht
DESCRIPTION:https://pfarreien-bistum-augsburg.df-preview.de/festmesse-ansch
 l-kurze-maiandacht_id1755461
DTSTART;TZID=Europe/Berlin:20260501T190000
DURATION:PT30M
LOCATION:Mariä Himmelfahrt
END:VEVENT
BEGIN:VEVENT
UID:sabre-vobject-596eddfa-2c88-43af-8696-fb59f634bc04
DTSTAMP:20260424T082258Z
SUMMARY:Rosenkranz
DESCRIPTION:https://pfarreien-bistum-augsburg.df-preview.de/rosenkranz_id17
 55050
DTSTART;TZID=Europe/Berlin:20260502T160000
DURATION:PT30M
LOCATION:Mariä Himmelfahrt
END:VEVENT
BEGIN:VEVENT
UID:sabre-vobject-3d9ea9fa-9d13-4d28-9360-79d2a70a8b60
DTSTAMP:20260424T082258Z
SUMMARY:Heilige Messe - Lebende und Verstorbene der Pfarrgemeinden
DESCRIPTION:https://pfarreien-bistum-augsburg.df-preview.de/heilige-messe-l
 ebende-und-verstorbene-der-pfarrgemeinden_id1755051
DTSTART;TZID=Europe/Berlin:20260503T083000
DURATION:PT30M
LOCATION:Mariä Himmelfahrt
END:VEVENT
BEGIN:VEVENT
UID:sabre-vobject-3e3141df-973b-42d9-b921-fc7b0b0ff8d5
DTSTAMP:20260424T082258Z
SUMMARY:Feierliche Maiandacht mit den Kommunionkindern
DESCRIPTION:https://pfarreien-bistum-augsburg.df-preview.de/feierliche-maia
 ndacht-mit-den-kommunionkindern_id1755052
DTSTART;TZID=Europe/Berlin:20260503T190000
DURATION:PT30M
LOCATION:Mariä Himmelfahrt
END:VEVENT
BEGIN:VEVENT
UID:sabre-vobject-48e18e8b-0eb9-42e9-86b6-80fedc9a8996
DTSTAMP:20260424T082258Z
SUMMARY:Pastoralratssitzung in Steinbach
DESCRIPTION:https://pfarreien-bistum-augsburg.df-preview.de/pastoralratssit
 zung-in-steinbach_id1755460
DTSTART;TZID=Europe/Berlin:20260506T194500
DURATION:PT30M
LOCATION:Mariä Himmelfahrt
END:VEVENT
BEGIN:VEVENT
UID:sabre-vobject-60ea4c5b-5d6d-4af2-96f3-5dabbcf83de4
DTSTAMP:20260424T082258Z
SUMMARY:Heilige Messe
DESCRIPTION:https://pfarreien-bistum-augsburg.df-preview.de/heilige-messe_i
 d1755053
DTSTART;TZID=Europe/Berlin:20260508T090000
DURATION:PT30M
LOCATION:Mariä Himmelfahrt
END:VEVENT
BEGIN:VEVENT
UID:sabre-vobject-17b7c1db-eef3-48f8-aafa-8bf1273c0a05
DTSTAMP:20260424T082258Z
SUMMARY:Taufe
DESCRIPTION:https://pfarreien-bistum-augsburg.df-preview.de/taufe_id1755054
DTSTART;TZID=Europe/Berlin:20260509T140000
DURATION:PT30M
LOCATION:Mariä Himmelfahrt
END:VEVENT
BEGIN:VEVENT
UID:sabre-vobject-a998bb97-4dc1-4b6e-b3b8-c98187fac251
DTSTAMP:20260424T082258Z
SUMMARY:Rosenkranz
DESCRIPTION:https://pfarreien-bistum-augsburg.df-preview.de/rosenkranz_id17
 55055
DTSTART;TZID=Europe/Berlin:20260509T160000
DURATION:PT30M
LOCATION:Mariä Himmelfahrt
END:VEVENT
BEGIN:VEVENT
UID:sabre-vobject-48cf239f-6119-42e8-acd9-5c05c3b82dc2
DTSTAMP:20260424T082258Z
SUMMARY:Heilige Messe
DESCRIPTION:https://pfarreien-bistum-augsburg.df-preview.de/heilige-messe_i
 d1755056
DTSTART;TZID=Europe/Berlin:20260510T100000
DURATION:PT30M
LOCATION:Mariä Himmelfahrt
END:VEVENT
BEGIN:VEVENT
UID:sabre-vobject-9220d3c5-7da5-46bf-aec1-cc22b4be27cf
DTSTAMP:20260424T082258Z
SUMMARY:Bittgang zur Waldkapelle - dort Maiandacht
DESCRIPTION:https://pfarreien-bistum-augsburg.df-preview.de/bittgang-zur-wa
 ldkapelle-dort-maiandacht_id1755057
DTSTART;TZID=Europe/Berlin:20260511T190000
DURATION:PT30M
LOCATION:Mariä Himmelfahrt
END:VEVENT
BEGIN:VEVENT
UID:sabre-vobject-279fce8e-d9cd-46fa-b35b-03c55b3bb31e
DTSTAMP:20260424T082258Z
SUMMARY:Maiandacht des kath. Frauenbundes auf dem Steingassenberg
DESCRIPTION:https://pfarreien-bistum-augsburg.df-preview.de/maiandacht-des-
 kath-frauenbundes-auf-dem-steingassenberg_id1755058
DTSTART;TZID=Europe/Berlin:20260512T143000
DURATION:PT30M
LOCATION:Mariä Himmelfahrt
END:VEVENT
BEGIN:VEVENT
UID:sabre-vobject-c90e6811-fda4-4c70-a83b-0d26099ca404
DTSTAMP:20260424T082258Z
SUMMARY:Fatima-Rosenkranz
DESCRIPTION:https://pfarreien-bistum-augsburg.df-preview.de/fatima-rosenkra
 nz_id1755071
DTSTART;TZID=Europe/Berlin:20260513T160000
DURATION:PT30M
LOCATION:Mariä Himmelfahrt
END:VEVENT
BEGIN:VEVENT
UID:sabre-vobject-f7e65cf0-2be2-44a7-9a9c-04ec0b71592d
DTSTAMP:20260424T082258Z
SUMMARY:Wallfahrt zum Kloster Andechs
DESCRIPTION:https://pfarreien-bistum-augsburg.df-preview.de/wallfahrt-zum-k
 loster-andechs_id1755072
DTSTART;TZID=Europe/Berlin:20260514T041500
DURATION:PT30M
LOCATION:Mariä Himmelfahrt
END:VEVENT
BEGIN:VEVENT
UID:sabre-vobject-e9cfaaf2-f61e-4307-ac74-a4e48f129160
DTSTAMP:20260424T082258Z
SUMMARY:Wallfahrermesse in der Klosterkirche
DESCRIPTION:https://pfarreien-bistum-augsburg.df-preview.de/wallfahrermesse
 -in-der-klosterkirche_id1755073
DTSTART;TZID=Europe/Berlin:20260514T080000
DURATION:PT30M
LOCATION:Mariä Himmelfahrt
END:VEVENT
BEGIN:VEVENT
UID:sabre-vobject-c4454e47-245f-42f7-a494-230c9a9d7185
DTSTAMP:20260424T082258Z
SUMMARY:Heilige Messe
DESCRIPTION:https://pfarreien-bistum-augsburg.df-preview.de/heilige-messe_i
 d1755074
DTSTART;TZID=Europe/Berlin:20260515T090000
DURATION:PT30M
LOCATION:Mariä Himmelfahrt
END:VEVENT
BEGIN:VEVENT
UID:sabre-vobject-778dbcda-610b-47af-a534-a8f6bb7e4287
DTSTAMP:20260424T082258Z
SUMMARY:Rosenkranz
DESCRIPTION:https://pfarreien-bistum-augsburg.df-preview.de/rosenkranz_id17
 55481
DTSTART;TZID=Europe/Berlin:20260516T160000
DURATION:PT30M
LOCATION:Mariä Himmelfahrt
END:VEVENT
BEGIN:VEVENT
UID:sabre-vobject-731c0d8a-e092-4f7b-be7d-f480393c9187
DTSTAMP:20260424T082258Z
SUMMARY:Heilige Messe
DESCRIPTION:https://pfarreien-bistum-augsburg.df-preview.de/heilige-messe_i
 d1755482
DTSTART;TZID=Europe/Berlin:20260517T083000
DURATION:PT30M
LOCATION:Mariä Himmelfahrt
END:VEVENT
BEGIN:VEVENT
UID:sabre-vobject-a63b850d-0b21-44e7-89b7-5a3b3bd9d9e3
DTSTAMP:20260424T082258Z
SUMMARY:Kindergottesdienst im Pfarrheim (siehe Schaukasten)
DESCRIPTION:https://pfarreien-bistum-augsburg.df-preview.de/kindergottesdie
 nst-im-pfarrheim-siehe-schaukasten_id1755483
DTSTART;TZID=Europe/Berlin:20260517T100000
DURATION:PT30M
LOCATION:Mariä Himmelfahrt
END:VEVENT
BEGIN:VEVENT
UID:sabre-vobject-2e4d902c-c865-49d6-a217-3803cee9cb64
DTSTAMP:20260424T082258Z
SUMMARY:Heilige Messe - entfällt wegen Firmung
DESCRIPTION:https://pfarreien-bistum-augsburg.df-preview.de/heilige-messe-e
 ntfaellt-wegen-firmung_id1755458
DTSTART;TZID=Europe/Berlin:20260522T090000
DURATION:PT30M
LOCATION:Mariä Himmelfahrt
END:VEVENT
BEGIN:VEVENT
UID:sabre-vobject-8f6b2a7a-b9c6-47d2-964b-37000b7d358e
DTSTAMP:20260424T082258Z
SUMMARY:Rosenkranz
DESCRIPTION:https://pfarreien-bistum-augsburg.df-preview.de/rosenkranz_id17
 55484
DTSTART;TZID=Europe/Berlin:20260523T160000
DURATION:PT30M
LOCATION:Mariä Himmelfahrt
END:VEVENT
BEGIN:VEVENT
UID:sabre-vobject-c654252c-7b1b-405d-ba90-5a6de08c3ccc
DTSTAMP:20260424T082258Z
SUMMARY:Heilige Messe
DESCRIPTION:https://pfarreien-bistum-augsburg.df-preview.de/heilige-messe_i
 d1755537
DTSTART;TZID=Europe/Berlin:20260524T100000
DURATION:PT30M
LOCATION:Mariä Himmelfahrt
END:VEVENT
BEGIN:VEVENT
UID:sabre-vobject-ca43ab19-b64f-4550-a8a6-7ba68db35d5a
DTSTAMP:20260424T082258Z
SUMMARY:Prozession zum Gollenberg - dort Heilige Messe (bei schlechtem Wett
 er in der Pfarrkirche)
DESCRIPTION:https://pfarreien-bistum-augsburg.df-preview.de/prozession-zum-
 gollenberg-dort-heilige-messe-bei-schlechtem-wetter-in-der-pfarrkirche_id1
 755539
DTSTART;TZID=Europe/Berlin:20260525T100000
DURATION:PT30M
LOCATION:Mariä Himmelfahrt
END:VEVENT
END:VCALENDAR
