BEGIN:VCALENDAR
VERSION:2.0
PRODID:-//Sabre//Sabre VObject 4.5.8//EN
CALSCALE:GREGORIAN
NAME:Bistum Augsburg
X-WR-CALNAME:Bistum Augsburg
BEGIN:VEVENT
UID:sabre-vobject-7179a9cd-5314-42bb-b707-bfa4d3835322
DTSTAMP:20260421T104921Z
SUMMARY:Rosenkranz
DESCRIPTION:https://pfarreien-bistum-augsburg.df-preview.de/rosenkranz_id17
 41532
DTSTART;TZID=Europe/Berlin:20260421T180000
DURATION:PT30M
LOCATION:St. Otmar
END:VEVENT
BEGIN:VEVENT
UID:sabre-vobject-60540840-443c-4dc1-bb9b-288045be9c12
DTSTAMP:20260421T104921Z
SUMMARY:Hl. Messe
DESCRIPTION:https://pfarreien-bistum-augsburg.df-preview.de/hl-messe_id1741
 700
DTSTART;TZID=Europe/Berlin:20260421T190000
DURATION:PT30M
LOCATION:St. Thomas von Canterbury
END:VEVENT
BEGIN:VEVENT
UID:sabre-vobject-5394f6a9-9911-4b55-9dbc-98358ca960b9
DTSTAMP:20260421T104921Z
SUMMARY:Rosenkranz
DESCRIPTION:https://pfarreien-bistum-augsburg.df-preview.de/rosenkranz_id17
 41656
DTSTART;TZID=Europe/Berlin:20260422T073000
DURATION:PT30M
LOCATION:Maria\, Hilfe der Christen
END:VEVENT
BEGIN:VEVENT
UID:sabre-vobject-a9d4c3e9-2ebc-4198-97c2-54cc1a1edf36
DTSTAMP:20260421T104921Z
SUMMARY:Hl. Messe
DESCRIPTION:https://pfarreien-bistum-augsburg.df-preview.de/hl-messe_id1741
 657
DTSTART;TZID=Europe/Berlin:20260422T080000
DURATION:PT30M
LOCATION:Maria\, Hilfe der Christen
END:VEVENT
BEGIN:VEVENT
UID:sabre-vobject-2e59b827-6703-4f70-ac59-0e5e5950fd44
DTSTAMP:20260421T104921Z
SUMMARY:Seniorennachmittag
DESCRIPTION:https://pfarreien-bistum-augsburg.df-preview.de/seniorennachmit
 tag_id1741658
DTSTART;TZID=Europe/Berlin:20260422T140000
DURATION:PT30M
LOCATION:Maria\, Hilfe der Christen
END:VEVENT
BEGIN:VEVENT
UID:sabre-vobject-6310e3cc-37a6-4d1c-8265-78ff923eed0b
DTSTAMP:20260421T104921Z
SUMMARY:Hl. Messe
DESCRIPTION:https://pfarreien-bistum-augsburg.df-preview.de/hl-messe_id1741
 533
DTSTART;TZID=Europe/Berlin:20260423T190000
DURATION:PT30M
LOCATION:St. Otmar
END:VEVENT
BEGIN:VEVENT
UID:sabre-vobject-981c8cd4-b5c2-4c87-b05a-49e8325d9fcb
DTSTAMP:20260421T104921Z
SUMMARY:Rosenkranz
DESCRIPTION:https://pfarreien-bistum-augsburg.df-preview.de/rosenkranz_id17
 41701
DTSTART;TZID=Europe/Berlin:20260424T180000
DURATION:PT30M
LOCATION:St. Thomas von Canterbury
END:VEVENT
BEGIN:VEVENT
UID:sabre-vobject-3ac3090b-b3ed-420c-b258-670d99584a0b
DTSTAMP:20260421T104921Z
SUMMARY:Beichtgelegenheit
DESCRIPTION:https://pfarreien-bistum-augsburg.df-preview.de/beichtgelegenhe
 it_id1741659
DTSTART;TZID=Europe/Berlin:20260424T181500
DURATION:PT30M
LOCATION:Maria\, Hilfe der Christen
END:VEVENT
BEGIN:VEVENT
UID:sabre-vobject-5279650f-1d33-406c-8b8b-38c0987438c1
DTSTAMP:20260421T104921Z
SUMMARY:Rosenkranz
DESCRIPTION:https://pfarreien-bistum-augsburg.df-preview.de/rosenkranz_id17
 41660
DTSTART;TZID=Europe/Berlin:20260424T183000
DURATION:PT30M
LOCATION:Maria\, Hilfe der Christen
END:VEVENT
BEGIN:VEVENT
UID:sabre-vobject-2673c98b-021a-4b0e-9b1e-35f0e53bdbc0
DTSTAMP:20260421T104921Z
SUMMARY:Hl. Messe
DESCRIPTION:https://pfarreien-bistum-augsburg.df-preview.de/hl-messe_id1741
 661
DTSTART;TZID=Europe/Berlin:20260424T190000
DURATION:PT30M
LOCATION:Maria\, Hilfe der Christen
END:VEVENT
BEGIN:VEVENT
UID:sabre-vobject-dc06b7ef-3dee-46bc-819f-0afb4e9cd81b
DTSTAMP:20260421T104921Z
SUMMARY:Erstkommunionfeier Hl. Messe
DESCRIPTION:https://pfarreien-bistum-augsburg.df-preview.de/erstkommunionfe
 ier-hl-messe_id1746507
DTSTART;TZID=Europe/Berlin:20260425T100000
DURATION:PT30M
LOCATION:St. Thomas von Canterbury
END:VEVENT
BEGIN:VEVENT
UID:sabre-vobject-d7be49a5-5a7c-407a-9859-bb450647b7af
DTSTAMP:20260421T104921Z
SUMMARY:Pfarrgottesdienst für die Lebenden und Verstorbenen der Pfarreieng
 emeinschaft
DESCRIPTION:https://pfarreien-bistum-augsburg.df-preview.de/pfarrgottesdien
 st-fuer-die-lebenden-und-verstorbenen-der-pfarreiengemeinschaft_id1746490
DTSTART;TZID=Europe/Berlin:20260426T083000
DURATION:PT30M
LOCATION:St. Otmar
END:VEVENT
BEGIN:VEVENT
UID:sabre-vobject-835bd99f-0170-4223-a956-d765a1e6ec43
DTSTAMP:20260421T104921Z
SUMMARY:Erstkommunionfeier Hl. Messe\nMusik. Gestaltung Neulandchor
DESCRIPTION:https://pfarreien-bistum-augsburg.df-preview.de/erstkommunionfe
 ier-hl-messe-musik-gestaltung-neulandchor_id1746520
DTSTART;TZID=Europe/Berlin:20260426T100000
DURATION:PT30M
LOCATION:Maria\, Hilfe der Christen
END:VEVENT
BEGIN:VEVENT
UID:sabre-vobject-87178d74-8aba-4f6a-855e-0208e25bbda5
DTSTAMP:20260421T104921Z
SUMMARY:Gemeinsame Dankandacht der Erstkommunionkinder
DESCRIPTION:https://pfarreien-bistum-augsburg.df-preview.de/gemeinsame-dank
 andacht-der-erstkommunionkinder_id1746521
DTSTART;TZID=Europe/Berlin:20260426T173000
DURATION:PT30M
LOCATION:Maria\, Hilfe der Christen
END:VEVENT
BEGIN:VEVENT
UID:sabre-vobject-a71b0398-0798-4440-8e34-9af8f73abead
DTSTAMP:20260421T104921Z
SUMMARY:Ökumenisches Friedensgebet
DESCRIPTION:https://pfarreien-bistum-augsburg.df-preview.de/oekumenisches-f
 riedensgebet_id1746522
DTSTART;TZID=Europe/Berlin:20260426T190000
DURATION:PT30M
LOCATION:Maria\, Hilfe der Christen
END:VEVENT
BEGIN:VEVENT
UID:sabre-vobject-cb9118cc-98ba-42e1-b7d4-06a8e46859ee
DTSTAMP:20260421T104921Z
SUMMARY:Hl. Messe
DESCRIPTION:https://pfarreien-bistum-augsburg.df-preview.de/hl-messe_id1746
 512
DTSTART;TZID=Europe/Berlin:20260428T190000
DURATION:PT30M
LOCATION:St. Thomas von Canterbury
END:VEVENT
BEGIN:VEVENT
UID:sabre-vobject-61f1e6b3-985d-44b0-91a2-012cf4e1f2a1
DTSTAMP:20260421T104921Z
SUMMARY:Rosenkranz
DESCRIPTION:https://pfarreien-bistum-augsburg.df-preview.de/rosenkranz_id17
 46523
DTSTART;TZID=Europe/Berlin:20260429T073000
DURATION:PT30M
LOCATION:Maria\, Hilfe der Christen
END:VEVENT
BEGIN:VEVENT
UID:sabre-vobject-ae9e6429-b2ad-4c23-8c51-66baea97fbf5
DTSTAMP:20260421T104921Z
SUMMARY:Hl. Messe
DESCRIPTION:https://pfarreien-bistum-augsburg.df-preview.de/hl-messe_id1746
 524
DTSTART;TZID=Europe/Berlin:20260429T080000
DURATION:PT30M
LOCATION:Maria\, Hilfe der Christen
END:VEVENT
BEGIN:VEVENT
UID:sabre-vobject-66b4d4d4-95ac-4946-80bd-1821637a173a
DTSTAMP:20260421T104921Z
SUMMARY:Hl. Messe - entfällt
DESCRIPTION:https://pfarreien-bistum-augsburg.df-preview.de/hl-messe-entfae
 llt_id1746488
DTSTART;TZID=Europe/Berlin:20260430T190000
DURATION:PT30M
LOCATION:St. Otmar
END:VEVENT
BEGIN:VEVENT
UID:sabre-vobject-adfc1c4a-5a8b-410b-abf3-1a500c89c5f7
DTSTAMP:20260421T104921Z
SUMMARY:Feierliche Maiandacht mit Aussetzung
DESCRIPTION:https://pfarreien-bistum-augsburg.df-preview.de/feierliche-maia
 ndacht-mit-aussetzung_id1746513
DTSTART;TZID=Europe/Berlin:20260501T180000
DURATION:PT30M
LOCATION:St. Thomas von Canterbury
END:VEVENT
BEGIN:VEVENT
UID:sabre-vobject-fab17eff-5e4a-459e-92c8-21a6d46e82f4
DTSTAMP:20260421T104921Z
SUMMARY:Maiandacht an der Grotte
DESCRIPTION:https://pfarreien-bistum-augsburg.df-preview.de/maiandacht-an-d
 er-grotte_id1746489
DTSTART;TZID=Europe/Berlin:20260501T190000
DURATION:PT30M
LOCATION:St. Otmar
END:VEVENT
BEGIN:VEVENT
UID:sabre-vobject-0e26d0d0-6ab7-4e23-8b1b-a2b071bfd9d5
DTSTAMP:20260421T104921Z
SUMMARY:Hl. Messe zum Hochfest Patrona Bavariae
DESCRIPTION:https://pfarreien-bistum-augsburg.df-preview.de/hl-messe-zum-ho
 chfest-patrona-bavariae_id1746525
DTSTART;TZID=Europe/Berlin:20260501T191500
DURATION:PT30M
LOCATION:Maria\, Hilfe der Christen
END:VEVENT
END:VCALENDAR
