BEGIN:VCALENDAR
VERSION:2.0
PRODID:-//Sabre//Sabre VObject 4.5.8//EN
CALSCALE:GREGORIAN
NAME:Bistum Augsburg
X-WR-CALNAME:Bistum Augsburg
BEGIN:VEVENT
UID:sabre-vobject-8ee1ae3a-8755-4f66-9daa-7e3298b83004
DTSTAMP:20260420T233449Z
SUMMARY:Heilige Messe
DESCRIPTION:https://pfarreien-bistum-augsburg.df-preview.de/heilige-messe_i
 d1737523
DTSTART;TZID=Europe/Berlin:20260421T090000
DURATION:PT30M
LOCATION:St. Wolfgang
END:VEVENT
BEGIN:VEVENT
UID:sabre-vobject-e5bcbbc5-ab53-4fda-93d5-a5035eb0e4ae
DTSTAMP:20260420T233449Z
SUMMARY:Rosenkranz
DESCRIPTION:https://pfarreien-bistum-augsburg.df-preview.de/rosenkranz_id17
 37524
DTSTART;TZID=Europe/Berlin:20260421T180000
DURATION:PT30M
LOCATION:St. Wolfgang
END:VEVENT
BEGIN:VEVENT
UID:sabre-vobject-fd81f1bd-2fde-4732-9afb-9c915e475e6f
DTSTAMP:20260420T233449Z
SUMMARY:Rosenkranz
DESCRIPTION:https://pfarreien-bistum-augsburg.df-preview.de/rosenkranz_id17
 37558
DTSTART;TZID=Europe/Berlin:20260421T183000
DURATION:PT30M
LOCATION:St. Clemens
END:VEVENT
BEGIN:VEVENT
UID:sabre-vobject-f0c1ef7b-f931-4deb-816c-dc23b71db23f
DTSTAMP:20260420T233449Z
SUMMARY:Rosenkranz entfällt
DESCRIPTION:https://pfarreien-bistum-augsburg.df-preview.de/rosenkranz-entf
 aellt_id1737529
DTSTART;TZID=Europe/Berlin:20260422T000000
DURATION:PT30M
LOCATION:St. Clemens
END:VEVENT
BEGIN:VEVENT
UID:sabre-vobject-1a144f54-f19a-4002-a86e-3039aa5b0613
DTSTAMP:20260420T233449Z
SUMMARY:Rosenkranz
DESCRIPTION:https://pfarreien-bistum-augsburg.df-preview.de/rosenkranz_id17
 37525
DTSTART;TZID=Europe/Berlin:20260422T180000
DURATION:PT30M
LOCATION:St. Wolfgang
END:VEVENT
BEGIN:VEVENT
UID:sabre-vobject-d4d694c8-fba3-4afa-97dc-af2f55caa853
DTSTAMP:20260420T233449Z
SUMMARY:Jahreshauptversammlung KDFB Herbertshofen-Erlingen
DESCRIPTION:https://pfarreien-bistum-augsburg.df-preview.de/jahreshauptvers
 ammlung-kdfb-herbertshofen-erlingen_id1737530
DTSTART;TZID=Europe/Berlin:20260422T183000
DURATION:PT30M
LOCATION:St. Clemens
END:VEVENT
BEGIN:VEVENT
UID:sabre-vobject-6b30ad4d-5167-4bfc-ac59-b37b1d0a6659
DTSTAMP:20260420T233449Z
SUMMARY:Rosenkranz
DESCRIPTION:https://pfarreien-bistum-augsburg.df-preview.de/rosenkranz_id17
 37526
DTSTART;TZID=Europe/Berlin:20260423T180000
DURATION:PT30M
LOCATION:St. Wolfgang
END:VEVENT
BEGIN:VEVENT
UID:sabre-vobject-04444c21-f557-4d10-bf8e-ae7cb6054ff1
DTSTAMP:20260420T233449Z
SUMMARY:Rosenkranz
DESCRIPTION:https://pfarreien-bistum-augsburg.df-preview.de/rosenkranz_id17
 37531
DTSTART;TZID=Europe/Berlin:20260423T182500
DURATION:PT30M
LOCATION:St. Clemens
END:VEVENT
BEGIN:VEVENT
UID:sabre-vobject-755abadf-ec0a-41fd-8e02-6a5855f7839f
DTSTAMP:20260420T233449Z
SUMMARY:Heilige Messe
DESCRIPTION:https://pfarreien-bistum-augsburg.df-preview.de/heilige-messe_i
 d1737546
DTSTART;TZID=Europe/Berlin:20260423T190000
DURATION:PT30M
LOCATION:St. Clemens
END:VEVENT
BEGIN:VEVENT
UID:sabre-vobject-848aaf52-3563-4902-8e7c-2fbbead6e36b
DTSTAMP:20260420T233449Z
SUMMARY:Rosenkranz
DESCRIPTION:https://pfarreien-bistum-augsburg.df-preview.de/rosenkranz_id17
 37527
DTSTART;TZID=Europe/Berlin:20260424T180000
DURATION:PT30M
LOCATION:St. Wolfgang
END:VEVENT
BEGIN:VEVENT
UID:sabre-vobject-219d52d9-6d09-4dc3-8bf2-24dcf1d12dc2
DTSTAMP:20260420T233449Z
SUMMARY:Rosenkranz
DESCRIPTION:https://pfarreien-bistum-augsburg.df-preview.de/rosenkranz_id17
 37547
DTSTART;TZID=Europe/Berlin:20260424T183000
DURATION:PT30M
LOCATION:St. Clemens
END:VEVENT
BEGIN:VEVENT
UID:sabre-vobject-b0818712-b752-4742-a0f8-ce8171f699df
DTSTAMP:20260420T233449Z
SUMMARY:Feier der Erstkommunion
DESCRIPTION:https://pfarreien-bistum-augsburg.df-preview.de/feier-der-erstk
 ommunion_id1746817
DTSTART;TZID=Europe/Berlin:20260425T100000
DURATION:PT30M
LOCATION:St. Wolfgang
END:VEVENT
BEGIN:VEVENT
UID:sabre-vobject-03f324e8-2b2a-445a-acd7-89743f73b119
DTSTAMP:20260420T233449Z
SUMMARY:Rosenkranz
DESCRIPTION:https://pfarreien-bistum-augsburg.df-preview.de/rosenkranz_id17
 46818
DTSTART;TZID=Europe/Berlin:20260425T172500
DURATION:PT30M
LOCATION:St. Clemens
END:VEVENT
BEGIN:VEVENT
UID:sabre-vobject-cd09da61-b82a-4166-88e0-f7b2ae8deecc
DTSTAMP:20260420T233449Z
SUMMARY:Rosenkranz
DESCRIPTION:https://pfarreien-bistum-augsburg.df-preview.de/rosenkranz_id17
 46822
DTSTART;TZID=Europe/Berlin:20260425T180000
DURATION:PT30M
LOCATION:St. Wolfgang
END:VEVENT
BEGIN:VEVENT
UID:sabre-vobject-8b92f49e-bca7-4fcf-a870-0a300a35e03b
DTSTAMP:20260420T233449Z
SUMMARY:Vorabendmesse
DESCRIPTION:https://pfarreien-bistum-augsburg.df-preview.de/vorabendmesse_i
 d1746837
DTSTART;TZID=Europe/Berlin:20260425T180000
DURATION:PT30M
LOCATION:St. Clemens
END:VEVENT
BEGIN:VEVENT
UID:sabre-vobject-a0b2170c-ed90-4231-b325-8d7ed9bd70ce
DTSTAMP:20260420T233449Z
SUMMARY:Feier der Erstkommunion
DESCRIPTION:https://pfarreien-bistum-augsburg.df-preview.de/feier-der-erstk
 ommunion_id1746823
DTSTART;TZID=Europe/Berlin:20260426T100000
DURATION:PT30M
LOCATION:St. Wolfgang
END:VEVENT
BEGIN:VEVENT
UID:sabre-vobject-2092873f-b870-44d6-b64d-0f58f27d559a
DTSTAMP:20260420T233449Z
SUMMARY:Rosenkranz in der Pfarrkirche
DESCRIPTION:https://pfarreien-bistum-augsburg.df-preview.de/rosenkranz-in-d
 er-pfarrkirche_id1746819
DTSTART;TZID=Europe/Berlin:20260426T130000
DURATION:PT30M
LOCATION:St. Nikolaus\, Wertingerstraße 61\, 86405 Meitingen
END:VEVENT
BEGIN:VEVENT
UID:sabre-vobject-a13544d8-cce3-411b-a2ec-090c9d57a7a8
DTSTAMP:20260420T233449Z
SUMMARY:Rosenkranz
DESCRIPTION:https://pfarreien-bistum-augsburg.df-preview.de/rosenkranz_id17
 46824
DTSTART;TZID=Europe/Berlin:20260426T180000
DURATION:PT30M
LOCATION:St. Wolfgang
END:VEVENT
BEGIN:VEVENT
UID:sabre-vobject-215cf475-6915-467d-8780-298c2590fe47
DTSTAMP:20260420T233449Z
SUMMARY:Rosenkranz in der Kapelle St. Martin Erlingen
DESCRIPTION:https://pfarreien-bistum-augsburg.df-preview.de/rosenkranz-in-d
 er-kapelle-st-martin-erlingen_id1746831
DTSTART;TZID=Europe/Berlin:20260426T180000
DURATION:PT30M
LOCATION:St. Clemens
END:VEVENT
BEGIN:VEVENT
UID:sabre-vobject-61ac4eec-30c2-4dcd-8856-c41f84ad6e5e
DTSTAMP:20260420T233449Z
SUMMARY:Rosenkranz
DESCRIPTION:https://pfarreien-bistum-augsburg.df-preview.de/rosenkranz_id17
 46832
DTSTART;TZID=Europe/Berlin:20260426T183000
DURATION:PT30M
LOCATION:St. Clemens
END:VEVENT
BEGIN:VEVENT
UID:sabre-vobject-a4e9426a-1857-435d-a6f8-9ef599f70be3
DTSTAMP:20260420T233449Z
SUMMARY:Heilige Messe im Johannesheim
DESCRIPTION:https://pfarreien-bistum-augsburg.df-preview.de/heilige-messe-i
 m-johannesheim_id1746825
DTSTART;TZID=Europe/Berlin:20260427T100000
DURATION:PT30M
LOCATION:St. Wolfgang
END:VEVENT
BEGIN:VEVENT
UID:sabre-vobject-aac82248-e392-4fb1-a3c5-72ca8dc79c52
DTSTAMP:20260420T233449Z
SUMMARY:Rosenkranz
DESCRIPTION:https://pfarreien-bistum-augsburg.df-preview.de/rosenkranz_id17
 46826
DTSTART;TZID=Europe/Berlin:20260427T180000
DURATION:PT30M
LOCATION:St. Wolfgang
END:VEVENT
BEGIN:VEVENT
UID:sabre-vobject-ee6f0423-3268-41aa-9d84-0b8f31e412ee
DTSTAMP:20260420T233449Z
SUMMARY:Rosenkranz
DESCRIPTION:https://pfarreien-bistum-augsburg.df-preview.de/rosenkranz_id17
 46835
DTSTART;TZID=Europe/Berlin:20260427T183000
DURATION:PT30M
LOCATION:St. Clemens
END:VEVENT
BEGIN:VEVENT
UID:sabre-vobject-e5220734-cda0-4ace-a506-8aed49be6697
DTSTAMP:20260420T233449Z
SUMMARY:Heilige Messe
DESCRIPTION:https://pfarreien-bistum-augsburg.df-preview.de/heilige-messe_i
 d1746827
DTSTART;TZID=Europe/Berlin:20260428T090000
DURATION:PT30M
LOCATION:St. Wolfgang
END:VEVENT
BEGIN:VEVENT
UID:sabre-vobject-a329c706-7498-4c98-ace3-7732b0e57e7a
DTSTAMP:20260420T233449Z
SUMMARY:Rosenkranz
DESCRIPTION:https://pfarreien-bistum-augsburg.df-preview.de/rosenkranz_id17
 46828
DTSTART;TZID=Europe/Berlin:20260428T180000
DURATION:PT30M
LOCATION:St. Wolfgang
END:VEVENT
BEGIN:VEVENT
UID:sabre-vobject-3663aace-0ab3-47bf-a56f-13985fbc522c
DTSTAMP:20260420T233449Z
SUMMARY:Rosenkranz
DESCRIPTION:https://pfarreien-bistum-augsburg.df-preview.de/rosenkranz_id17
 46836
DTSTART;TZID=Europe/Berlin:20260428T183000
DURATION:PT30M
LOCATION:St. Clemens
END:VEVENT
BEGIN:VEVENT
UID:sabre-vobject-05ca2de2-249f-44ea-a810-67543b45b8ac
DTSTAMP:20260420T233449Z
SUMMARY:Rosenkranz
DESCRIPTION:https://pfarreien-bistum-augsburg.df-preview.de/rosenkranz_id17
 46829
DTSTART;TZID=Europe/Berlin:20260429T180000
DURATION:PT30M
LOCATION:St. Wolfgang
END:VEVENT
BEGIN:VEVENT
UID:sabre-vobject-cb79384e-c5ae-4c9f-9e16-ddaf5ad7f0cf
DTSTAMP:20260420T233449Z
SUMMARY:Rosenkranz
DESCRIPTION:https://pfarreien-bistum-augsburg.df-preview.de/rosenkranz_id17
 46820
DTSTART;TZID=Europe/Berlin:20260429T183000
DURATION:PT30M
LOCATION:St. Nikolaus\, Wertingerstraße 61\, 86405 Meitingen
END:VEVENT
BEGIN:VEVENT
UID:sabre-vobject-13b8dbd6-5eff-4e7f-a1a2-68c66633173b
DTSTAMP:20260420T233449Z
SUMMARY:Rosenkranz
DESCRIPTION:https://pfarreien-bistum-augsburg.df-preview.de/rosenkranz_id17
 46838
DTSTART;TZID=Europe/Berlin:20260429T183000
DURATION:PT30M
LOCATION:St. Clemens
END:VEVENT
BEGIN:VEVENT
UID:sabre-vobject-929c8dea-8c98-4be0-b183-02b965b7b9e3
DTSTAMP:20260420T233449Z
SUMMARY:Heilige Messe
DESCRIPTION:https://pfarreien-bistum-augsburg.df-preview.de/heilige-messe_i
 d1746821
DTSTART;TZID=Europe/Berlin:20260429T190000
DURATION:PT30M
LOCATION:St. Nikolaus\, Wertingerstraße 61\, 86405 Meitingen
END:VEVENT
BEGIN:VEVENT
UID:sabre-vobject-fb48e4e5-2f86-4b01-8be9-a54abe5e846e
DTSTAMP:20260420T233449Z
SUMMARY:Rosenkranz
DESCRIPTION:https://pfarreien-bistum-augsburg.df-preview.de/rosenkranz_id17
 46830
DTSTART;TZID=Europe/Berlin:20260430T180000
DURATION:PT30M
LOCATION:St. Wolfgang
END:VEVENT
BEGIN:VEVENT
UID:sabre-vobject-1560c471-e9e3-4f97-a9d7-9e041d317e66
DTSTAMP:20260420T233449Z
SUMMARY:Rosenkranz
DESCRIPTION:https://pfarreien-bistum-augsburg.df-preview.de/rosenkranz_id17
 46839
DTSTART;TZID=Europe/Berlin:20260430T183000
DURATION:PT30M
LOCATION:St. Clemens
END:VEVENT
BEGIN:VEVENT
UID:sabre-vobject-38951c05-92b1-44bd-94ad-799ca6c76a4b
DTSTAMP:20260420T233449Z
SUMMARY:Rosenkranz
DESCRIPTION:https://pfarreien-bistum-augsburg.df-preview.de/rosenkranz_id17
 46833
DTSTART;TZID=Europe/Berlin:20260501T173000
DURATION:PT30M
LOCATION:St. Wolfgang
END:VEVENT
BEGIN:VEVENT
UID:sabre-vobject-c7a8e7e0-d393-4989-9afe-675c115c55a1
DTSTAMP:20260420T233449Z
SUMMARY:Festgottesdienst mit anschl. Maiandacht für die Pfarreiengemeinsch
 aft
DESCRIPTION:https://pfarreien-bistum-augsburg.df-preview.de/festgottesdiens
 t-mit-anschl-maiandacht-fuer-die-pfarreiengemeinschaft_id1746834
DTSTART;TZID=Europe/Berlin:20260501T180000
DURATION:PT30M
LOCATION:St. Wolfgang
END:VEVENT
BEGIN:VEVENT
UID:sabre-vobject-40434c20-9cfd-41fd-894c-284e80d72783
DTSTAMP:20260420T233449Z
SUMMARY:Rosenkranz
DESCRIPTION:https://pfarreien-bistum-augsburg.df-preview.de/rosenkranz_id17
 46840
DTSTART;TZID=Europe/Berlin:20260501T183000
DURATION:PT30M
LOCATION:St. Clemens
END:VEVENT
BEGIN:VEVENT
UID:sabre-vobject-2e0cb9b9-47e2-494d-9db2-e01645128d9c
DTSTAMP:20260420T233449Z
SUMMARY:Eine-Welt-Verkauf (im Pfarrheim Herbertshofen)
DESCRIPTION:https://pfarreien-bistum-augsburg.df-preview.de/eine-welt-verka
 uf-im-pfarrheim-herbertshofen_id1746451
DTSTART;TZID=Europe/Berlin:20260502T100000
DURATION:PT30M
LOCATION:St. Clemens
END:VEVENT
BEGIN:VEVENT
UID:sabre-vobject-d4cb77d4-8faa-4377-9cbc-8e92cd8255a1
DTSTAMP:20260420T233449Z
SUMMARY:Rosenkranz
DESCRIPTION:https://pfarreien-bistum-augsburg.df-preview.de/rosenkranz_id17
 46452
DTSTART;TZID=Europe/Berlin:20260502T172500
DURATION:PT30M
LOCATION:St. Clemens
END:VEVENT
BEGIN:VEVENT
UID:sabre-vobject-64d74f94-35e0-437f-97b0-7530fde16528
DTSTAMP:20260420T233449Z
SUMMARY:Vorabendmesse
DESCRIPTION:https://pfarreien-bistum-augsburg.df-preview.de/vorabendmesse_i
 d1746453
DTSTART;TZID=Europe/Berlin:20260502T180000
DURATION:PT30M
LOCATION:St. Clemens
END:VEVENT
BEGIN:VEVENT
UID:sabre-vobject-6a986aba-8ed3-4656-b17e-d514f4be5f38
DTSTAMP:20260420T233449Z
SUMMARY:Rosenkranz
DESCRIPTION:https://pfarreien-bistum-augsburg.df-preview.de/rosenkranz_id17
 46631
DTSTART;TZID=Europe/Berlin:20260502T180000
DURATION:PT30M
LOCATION:St. Wolfgang
END:VEVENT
BEGIN:VEVENT
UID:sabre-vobject-003477da-7f33-43ce-9467-f05ae0d83c3c
DTSTAMP:20260420T233449Z
SUMMARY:Sonntagsgottesdienst - Messe für die Lebenden und Verstorbenen der
  PG
DESCRIPTION:https://pfarreien-bistum-augsburg.df-preview.de/sonntagsgottesd
 ienst-messe-fuer-die-lebenden-und-verstorbenen-der-pg_id1746641
DTSTART;TZID=Europe/Berlin:20260503T083000
DURATION:PT30M
LOCATION:St. Nikolaus\, Wertingerstraße 61\, 86405 Meitingen
END:VEVENT
BEGIN:VEVENT
UID:sabre-vobject-5f78c38b-c441-4581-9ea9-24b72407c986
DTSTAMP:20260420T233449Z
SUMMARY:Sonntagsgottesdienst (musikal. Gestaltung durch De Lumina aus Monhe
 im)
DESCRIPTION:https://pfarreien-bistum-augsburg.df-preview.de/sonntagsgottesd
 ienst-musikal-gestaltung-durch-de-lumina-aus-monheim_id1746632
DTSTART;TZID=Europe/Berlin:20260503T100000
DURATION:PT30M
LOCATION:St. Wolfgang
END:VEVENT
BEGIN:VEVENT
UID:sabre-vobject-2b65926a-e145-497a-909b-1b66dec3a5ae
DTSTAMP:20260420T233449Z
SUMMARY:Familien- und Bezirkswallfahrt mit Maiandacht in Maria Elend (Orga:
  Kolpingsfamilie Meitingen e.V.)\n- Programm: 12:00 Uhr Familien-Picknick 
 an der Kapelle (bitte Essen und Getränke für die e
DESCRIPTION:https://pfarreien-bistum-augsburg.df-preview.de/familien-und-be
 zirkswallfahrt-mit-maiandacht-in-maria-elend-orga-kolpingsfamilie-meitinge
 n-e-v-programm-12-00-uhr-familien-picknick-an-der-kapelle-bitte-essen-und-
 getraenke-fuer-die-e_id1746643
DTSTART;TZID=Europe/Berlin:20260503T140000
DURATION:PT30M
LOCATION:St. Wolfgang
END:VEVENT
BEGIN:VEVENT
UID:sabre-vobject-bfe00116-3409-417b-a83e-c2ae37c7d4c0
DTSTAMP:20260420T233449Z
SUMMARY:Rosenkranz in der Kapelle St. Martin Erlingen
DESCRIPTION:https://pfarreien-bistum-augsburg.df-preview.de/rosenkranz-in-d
 er-kapelle-st-martin-erlingen_id1746454
DTSTART;TZID=Europe/Berlin:20260503T180000
DURATION:PT30M
LOCATION:St. Clemens
END:VEVENT
BEGIN:VEVENT
UID:sabre-vobject-c88e668d-bfa3-45f9-8e59-8137eda51424
DTSTAMP:20260420T233449Z
SUMMARY:Dankandacht für alle Erstkommunionkinder mit Familien
DESCRIPTION:https://pfarreien-bistum-augsburg.df-preview.de/dankandacht-fue
 r-alle-erstkommunionkinder-mit-familien_id1746455
DTSTART;TZID=Europe/Berlin:20260503T180000
DURATION:PT30M
LOCATION:St. Clemens
END:VEVENT
BEGIN:VEVENT
UID:sabre-vobject-b1d48ce9-d23c-443d-a6ed-9b23be21d37b
DTSTAMP:20260420T233449Z
SUMMARY:Rosenkranz
DESCRIPTION:https://pfarreien-bistum-augsburg.df-preview.de/rosenkranz_id17
 46633
DTSTART;TZID=Europe/Berlin:20260503T180000
DURATION:PT30M
LOCATION:St. Wolfgang
END:VEVENT
BEGIN:VEVENT
UID:sabre-vobject-26c0ecb0-586e-44a7-9314-a528f3d9e845
DTSTAMP:20260420T233449Z
SUMMARY:Rosenkranz in St. Stephan
DESCRIPTION:https://pfarreien-bistum-augsburg.df-preview.de/rosenkranz-in-s
 t-stephan_id1746642
DTSTART;TZID=Europe/Berlin:20260503T183000
DURATION:PT30M
LOCATION:St. Nikolaus\, Wertingerstraße 61\, 86405 Meitingen
END:VEVENT
BEGIN:VEVENT
UID:sabre-vobject-b2248708-d6c0-4609-b923-98f1cc62c9d9
DTSTAMP:20260420T233449Z
SUMMARY:Heilige Messe im Johannesheim
DESCRIPTION:https://pfarreien-bistum-augsburg.df-preview.de/heilige-messe-i
 m-johannesheim_id1746634
DTSTART;TZID=Europe/Berlin:20260504T100000
DURATION:PT30M
LOCATION:St. Wolfgang
END:VEVENT
BEGIN:VEVENT
UID:sabre-vobject-3664179d-6a91-4609-89fa-9a50d02513af
DTSTAMP:20260420T233449Z
SUMMARY:Rosenkranz
DESCRIPTION:https://pfarreien-bistum-augsburg.df-preview.de/rosenkranz_id17
 46635
DTSTART;TZID=Europe/Berlin:20260504T180000
DURATION:PT30M
LOCATION:St. Wolfgang
END:VEVENT
BEGIN:VEVENT
UID:sabre-vobject-3f5de49a-4f47-4424-a216-fe1f098aaf8b
DTSTAMP:20260420T233449Z
SUMMARY:Rosenkranz
DESCRIPTION:https://pfarreien-bistum-augsburg.df-preview.de/rosenkranz_id17
 46456
DTSTART;TZID=Europe/Berlin:20260504T183000
DURATION:PT30M
LOCATION:St. Clemens
END:VEVENT
BEGIN:VEVENT
UID:sabre-vobject-04851fd3-cdf7-4092-801f-9f65c7a93955
DTSTAMP:20260420T233449Z
SUMMARY:Heilige Messe
DESCRIPTION:https://pfarreien-bistum-augsburg.df-preview.de/heilige-messe_i
 d1746636
DTSTART;TZID=Europe/Berlin:20260505T090000
DURATION:PT30M
LOCATION:St. Wolfgang
END:VEVENT
BEGIN:VEVENT
UID:sabre-vobject-1c6551fd-f998-4f3b-a0e1-8c1e5a68b28f
DTSTAMP:20260420T233449Z
SUMMARY:Maiandacht (gest. durch KDFB Meitingen)
DESCRIPTION:https://pfarreien-bistum-augsburg.df-preview.de/maiandacht-gest
 -durch-kdfb-meitingen_id1746637
DTSTART;TZID=Europe/Berlin:20260505T180000
DURATION:PT30M
LOCATION:St. Wolfgang
END:VEVENT
BEGIN:VEVENT
UID:sabre-vobject-92a1295e-036e-4ffd-aaaa-d2482febe2e9
DTSTAMP:20260420T233449Z
SUMMARY:Rosenkranz
DESCRIPTION:https://pfarreien-bistum-augsburg.df-preview.de/rosenkranz_id17
 46457
DTSTART;TZID=Europe/Berlin:20260505T183000
DURATION:PT30M
LOCATION:St. Clemens
END:VEVENT
BEGIN:VEVENT
UID:sabre-vobject-23f7f456-55ff-4425-be4f-6cc712287c66
DTSTAMP:20260420T233449Z
SUMMARY:Taize-Gebet
DESCRIPTION:https://pfarreien-bistum-augsburg.df-preview.de/taize-gebet_id1
 746458
DTSTART;TZID=Europe/Berlin:20260505T200000
DURATION:PT30M
LOCATION:St. Clemens
END:VEVENT
BEGIN:VEVENT
UID:sabre-vobject-291f1fd8-cd46-47b3-a0b7-98b722361b67
DTSTAMP:20260420T233449Z
SUMMARY:der Rosenkranz entfällt
DESCRIPTION:https://pfarreien-bistum-augsburg.df-preview.de/der-rosenkranz-
 entfaellt_id1746438
DTSTART;TZID=Europe/Berlin:20260506T000000
DURATION:PT30M
LOCATION:St. Clemens
END:VEVENT
BEGIN:VEVENT
UID:sabre-vobject-46acbfea-c768-44f9-a923-48b577f6c5e8
DTSTAMP:20260420T233449Z
SUMMARY:Seniorennachmittag - Thema: Usbekistan - Reisevortrag mit Bildern v
 on Frau Monika Rieger
DESCRIPTION:https://pfarreien-bistum-augsburg.df-preview.de/seniorennachmit
 tag-thema-usbekistan-reisevortrag-mit-bildern-von-frau-monika-rieger_id174
 6628
DTSTART;TZID=Europe/Berlin:20260506T140000
DURATION:PT30M
LOCATION:St. Clemens
END:VEVENT
BEGIN:VEVENT
UID:sabre-vobject-04cedb88-a1c1-4283-892d-f67a0e5d9957
DTSTAMP:20260420T233449Z
SUMMARY:Rosenkranz
DESCRIPTION:https://pfarreien-bistum-augsburg.df-preview.de/rosenkranz_id17
 46638
DTSTART;TZID=Europe/Berlin:20260506T180000
DURATION:PT30M
LOCATION:St. Wolfgang
END:VEVENT
BEGIN:VEVENT
UID:sabre-vobject-2bed81e6-5d2a-498b-9961-61dff180a2de
DTSTAMP:20260420T233449Z
SUMMARY:Rosenkranz
DESCRIPTION:https://pfarreien-bistum-augsburg.df-preview.de/rosenkranz_id17
 46639
DTSTART;TZID=Europe/Berlin:20260507T180000
DURATION:PT30M
LOCATION:St. Wolfgang
END:VEVENT
BEGIN:VEVENT
UID:sabre-vobject-8e4c35e7-f18d-4ba3-a4fe-7868a2021c6b
DTSTAMP:20260420T233449Z
SUMMARY:Rosenkranz
DESCRIPTION:https://pfarreien-bistum-augsburg.df-preview.de/rosenkranz_id17
 46616
DTSTART;TZID=Europe/Berlin:20260507T182500
DURATION:PT30M
LOCATION:St. Clemens
END:VEVENT
BEGIN:VEVENT
UID:sabre-vobject-a50a4f4d-251d-4e44-9adb-284f42524f7d
DTSTAMP:20260420T233449Z
SUMMARY:Heilige Messe mit sakramentalem Segen
DESCRIPTION:https://pfarreien-bistum-augsburg.df-preview.de/heilige-messe-m
 it-sakramentalem-segen_id1746629
DTSTART;TZID=Europe/Berlin:20260507T190000
DURATION:PT30M
LOCATION:St. Clemens
END:VEVENT
BEGIN:VEVENT
UID:sabre-vobject-7c4ada37-455d-4643-8513-a3188c95b644
DTSTAMP:20260420T233449Z
SUMMARY:Rosenkranz
DESCRIPTION:https://pfarreien-bistum-augsburg.df-preview.de/rosenkranz_id17
 46640
DTSTART;TZID=Europe/Berlin:20260508T180000
DURATION:PT30M
LOCATION:St. Wolfgang
END:VEVENT
BEGIN:VEVENT
UID:sabre-vobject-d6d2af34-66ab-47b9-ab73-5cffe5c2dff8
DTSTAMP:20260420T233449Z
SUMMARY:Rosenkranz
DESCRIPTION:https://pfarreien-bistum-augsburg.df-preview.de/rosenkranz_id17
 46630
DTSTART;TZID=Europe/Berlin:20260508T183000
DURATION:PT30M
LOCATION:St. Clemens
END:VEVENT
BEGIN:VEVENT
UID:sabre-vobject-6ca6fbab-e4ce-4a7a-96a7-5c30be1e25f8
DTSTAMP:20260420T233449Z
SUMMARY:Rosenkranz
DESCRIPTION:https://pfarreien-bistum-augsburg.df-preview.de/rosenkranz_id17
 46517
DTSTART;TZID=Europe/Berlin:20260509T172500
DURATION:PT30M
LOCATION:St. Clemens
END:VEVENT
BEGIN:VEVENT
UID:sabre-vobject-ff5efb39-53bd-4f45-b465-f9ae37b69f74
DTSTAMP:20260420T233449Z
SUMMARY:Rosenkranz
DESCRIPTION:https://pfarreien-bistum-augsburg.df-preview.de/rosenkranz_id17
 46447
DTSTART;TZID=Europe/Berlin:20260509T180000
DURATION:PT30M
LOCATION:St. Wolfgang
END:VEVENT
BEGIN:VEVENT
UID:sabre-vobject-daa21179-6fcd-491e-a499-647ba57ef657
DTSTAMP:20260420T233449Z
SUMMARY:Vorabendmesse - Floriansgottesdienst der FW Herbertshofen und Erlin
 gen
DESCRIPTION:https://pfarreien-bistum-augsburg.df-preview.de/vorabendmesse-f
 loriansgottesdienst-der-fw-herbertshofen-und-erlingen_id1746518
DTSTART;TZID=Europe/Berlin:20260509T180000
DURATION:PT30M
LOCATION:St. Clemens
END:VEVENT
BEGIN:VEVENT
UID:sabre-vobject-c39e10d2-2f6a-4118-9a44-4446b811da61
DTSTAMP:20260420T233449Z
SUMMARY:Sonntagsgottesdienst - Messe für die Lebenden und Verstorbenen der
  PG
DESCRIPTION:https://pfarreien-bistum-augsburg.df-preview.de/sonntagsgottesd
 ienst-messe-fuer-die-lebenden-und-verstorbenen-der-pg_id1746519
DTSTART;TZID=Europe/Berlin:20260510T083000
DURATION:PT30M
LOCATION:St. Clemens
END:VEVENT
BEGIN:VEVENT
UID:sabre-vobject-a41ac9df-4f54-4267-84c4-53ca70023773
DTSTAMP:20260420T233449Z
SUMMARY:Sonntagsgottesdienst
DESCRIPTION:https://pfarreien-bistum-augsburg.df-preview.de/sonntagsgottesd
 ienst_id1746448
DTSTART;TZID=Europe/Berlin:20260510T100000
DURATION:PT30M
LOCATION:St. Wolfgang
END:VEVENT
BEGIN:VEVENT
UID:sabre-vobject-e2ed494d-27f8-489a-b80b-304aae359cf0
DTSTAMP:20260420T233449Z
SUMMARY:Rosenkranz
DESCRIPTION:https://pfarreien-bistum-augsburg.df-preview.de/rosenkranz_id17
 46449
DTSTART;TZID=Europe/Berlin:20260510T180000
DURATION:PT30M
LOCATION:St. Wolfgang
END:VEVENT
BEGIN:VEVENT
UID:sabre-vobject-de3318e0-25c5-433f-bb09-b0fa9cab6f51
DTSTAMP:20260420T233449Z
SUMMARY:Rosenkranz in der Kapelle St. Martin Erlingen
DESCRIPTION:https://pfarreien-bistum-augsburg.df-preview.de/rosenkranz-in-d
 er-kapelle-st-martin-erlingen_id1746531
DTSTART;TZID=Europe/Berlin:20260510T180000
DURATION:PT30M
LOCATION:St. Clemens
END:VEVENT
BEGIN:VEVENT
UID:sabre-vobject-4e73e188-8cca-4789-9b36-ec26e53f0372
DTSTAMP:20260420T233449Z
SUMMARY:Rosenkranz
DESCRIPTION:https://pfarreien-bistum-augsburg.df-preview.de/rosenkranz_id17
 46532
DTSTART;TZID=Europe/Berlin:20260510T183000
DURATION:PT30M
LOCATION:St. Clemens
END:VEVENT
BEGIN:VEVENT
UID:sabre-vobject-f7a6f960-1ee5-4259-9461-cdd3896d9d4a
DTSTAMP:20260420T233449Z
SUMMARY:Rosenkranz in St. Stephan
DESCRIPTION:https://pfarreien-bistum-augsburg.df-preview.de/rosenkranz-in-s
 t-stephan_id1746572
DTSTART;TZID=Europe/Berlin:20260510T183000
DURATION:PT30M
LOCATION:St. Nikolaus\, Wertingerstraße 61\, 86405 Meitingen
END:VEVENT
BEGIN:VEVENT
UID:sabre-vobject-17ee5e21-f6c9-4851-8b8d-91503332d840
DTSTAMP:20260420T233449Z
SUMMARY:Heilige Messe im Johannesheim
DESCRIPTION:https://pfarreien-bistum-augsburg.df-preview.de/heilige-messe-i
 m-johannesheim_id1746467
DTSTART;TZID=Europe/Berlin:20260511T100000
DURATION:PT30M
LOCATION:St. Wolfgang
END:VEVENT
BEGIN:VEVENT
UID:sabre-vobject-7d21f2c4-de99-4972-a6f7-4a6b768f287a
DTSTAMP:20260420T233449Z
SUMMARY:Rosenkranz
DESCRIPTION:https://pfarreien-bistum-augsburg.df-preview.de/rosenkranz_id17
 46477
DTSTART;TZID=Europe/Berlin:20260511T180000
DURATION:PT30M
LOCATION:St. Wolfgang
END:VEVENT
BEGIN:VEVENT
UID:sabre-vobject-411980e2-99aa-4093-b163-5e1ee4ef8555
DTSTAMP:20260420T233449Z
SUMMARY:Rosenkranz
DESCRIPTION:https://pfarreien-bistum-augsburg.df-preview.de/rosenkranz_id17
 46533
DTSTART;TZID=Europe/Berlin:20260511T183000
DURATION:PT30M
LOCATION:St. Clemens
END:VEVENT
BEGIN:VEVENT
UID:sabre-vobject-7aa38ba3-3aed-4916-b853-a78a6bf160b9
DTSTAMP:20260420T233449Z
SUMMARY:Bittgottesdienst
DESCRIPTION:https://pfarreien-bistum-augsburg.df-preview.de/bittgottesdiens
 t_id1746534
DTSTART;TZID=Europe/Berlin:20260511T190000
DURATION:PT30M
LOCATION:St. Clemens
END:VEVENT
BEGIN:VEVENT
UID:sabre-vobject-4a883c11-3eb4-4362-b4a9-9613c11abe2d
DTSTAMP:20260420T233449Z
SUMMARY:Rosenkranz zur Bittwoche in der Pfarrkirche
DESCRIPTION:https://pfarreien-bistum-augsburg.df-preview.de/rosenkranz-zur-
 bittwoche-in-der-pfarrkirche_id1746573
DTSTART;TZID=Europe/Berlin:20260511T190000
DURATION:PT30M
LOCATION:St. Nikolaus\, Wertingerstraße 61\, 86405 Meitingen
END:VEVENT
BEGIN:VEVENT
UID:sabre-vobject-155a22eb-fe3c-4f2d-ad8a-b1084a544a63
DTSTAMP:20260420T233449Z
SUMMARY:Rosenkranz
DESCRIPTION:https://pfarreien-bistum-augsburg.df-preview.de/rosenkranz_id17
 46478
DTSTART;TZID=Europe/Berlin:20260512T183000
DURATION:PT30M
LOCATION:St. Wolfgang
END:VEVENT
BEGIN:VEVENT
UID:sabre-vobject-31e63d28-0664-4d44-b5c5-49405a7e5e66
DTSTAMP:20260420T233449Z
SUMMARY:Rosenkranz
DESCRIPTION:https://pfarreien-bistum-augsburg.df-preview.de/rosenkranz_id17
 46535
DTSTART;TZID=Europe/Berlin:20260512T183000
DURATION:PT30M
LOCATION:St. Clemens
END:VEVENT
BEGIN:VEVENT
UID:sabre-vobject-2db8c1e6-8bf0-44c3-8f53-8bc6950c397c
DTSTAMP:20260420T233449Z
SUMMARY:Bittgottesdienst
DESCRIPTION:https://pfarreien-bistum-augsburg.df-preview.de/bittgottesdiens
 t_id1746476
DTSTART;TZID=Europe/Berlin:20260512T190000
DURATION:PT30M
LOCATION:St. Wolfgang
END:VEVENT
BEGIN:VEVENT
UID:sabre-vobject-6928995f-bdc7-46f9-b5d8-a426ce1dc56a
DTSTAMP:20260420T233449Z
SUMMARY:Rosenkranz zur Bittwoche in der Pfarrkirche
DESCRIPTION:https://pfarreien-bistum-augsburg.df-preview.de/rosenkranz-zur-
 bittwoche-in-der-pfarrkirche_id1746486
DTSTART;TZID=Europe/Berlin:20260512T190000
DURATION:PT30M
LOCATION:St. Nikolaus\, Wertingerstraße 61\, 86405 Meitingen
END:VEVENT
BEGIN:VEVENT
UID:sabre-vobject-23e05bcf-a9c2-4d85-89c2-2e7c91ac62f0
DTSTAMP:20260420T233449Z
SUMMARY:Rosenkranz
DESCRIPTION:https://pfarreien-bistum-augsburg.df-preview.de/rosenkranz_id17
 46538
DTSTART;TZID=Europe/Berlin:20260513T180000
DURATION:PT30M
LOCATION:St. Wolfgang
END:VEVENT
BEGIN:VEVENT
UID:sabre-vobject-73085fe6-7078-4c45-9f21-ae46ad34790b
DTSTAMP:20260420T233449Z
SUMMARY:Rosenkranz
DESCRIPTION:https://pfarreien-bistum-augsburg.df-preview.de/rosenkranz_id17
 46536
DTSTART;TZID=Europe/Berlin:20260513T183000
DURATION:PT30M
LOCATION:St. Clemens
END:VEVENT
BEGIN:VEVENT
UID:sabre-vobject-27e82822-f5b1-47ca-8c1b-5f9086338f66
DTSTAMP:20260420T233449Z
SUMMARY:Rosenkranz zur Bittwoche in der Pfarrkirche
DESCRIPTION:https://pfarreien-bistum-augsburg.df-preview.de/rosenkranz-zur-
 bittwoche-in-der-pfarrkirche_id1746487
DTSTART;TZID=Europe/Berlin:20260513T190000
DURATION:PT30M
LOCATION:St. Nikolaus\, Wertingerstraße 61\, 86405 Meitingen
END:VEVENT
BEGIN:VEVENT
UID:sabre-vobject-eba8bb5a-83fc-4696-9622-4721633afd77
DTSTAMP:20260420T233449Z
SUMMARY:An der Erlinger Kapelle: Festgottesdienst für die Pfarreiengemeins
 chaft   -  anschl. Imbiss an der Kapelle zur Feier des 30.jährigen Besteh
 ens
DESCRIPTION:https://pfarreien-bistum-augsburg.df-preview.de/an-der-erlinger
 -kapelle-festgottesdienst-fuer-die-pfarreiengemeinschaft-anschl-imbiss-an-
 der-kapelle-zur-feier-des-30-jaehrigen-bestehens_id1746537
DTSTART;TZID=Europe/Berlin:20260514T100000
DURATION:PT30M
LOCATION:St. Wolfgang
END:VEVENT
BEGIN:VEVENT
UID:sabre-vobject-b8b55cf1-00a6-4d49-83fe-e0f77043d55a
DTSTAMP:20260420T233449Z
SUMMARY:Festgottesdienst für die Pfarreiengemeinschaft an der Kapelle in E
 rlingen  -  anschl. Imbiss an der Kapelle zur Feier des 30.jährigen Beste
 hens
DESCRIPTION:https://pfarreien-bistum-augsburg.df-preview.de/festgottesdiens
 t-fuer-die-pfarreiengemeinschaft-an-der-kapelle-in-erlingen-anschl-imbiss-
 an-der-kapelle-zur-feier-des-30-jaehrigen-bestehens_id1746541
DTSTART;TZID=Europe/Berlin:20260514T100000
DURATION:PT30M
LOCATION:St. Clemens
END:VEVENT
BEGIN:VEVENT
UID:sabre-vobject-4d2a98e1-3c4f-47ee-82e8-47fdc045e134
DTSTAMP:20260420T233449Z
SUMMARY:Eucharistischer Rosenkranz zum Tag der ewigen Anbetung mit Aussetzu
 ng (bis 19.00 Uhr)
DESCRIPTION:https://pfarreien-bistum-augsburg.df-preview.de/eucharistischer
 -rosenkranz-zum-tag-der-ewigen-anbetung-mit-aussetzung-bis-19-00-uhr_id174
 6539
DTSTART;TZID=Europe/Berlin:20260514T180000
DURATION:PT30M
LOCATION:St. Wolfgang
END:VEVENT
BEGIN:VEVENT
UID:sabre-vobject-1de6753b-6cff-45b5-95de-7aa74df64580
DTSTAMP:20260420T233449Z
SUMMARY:Rosenkranz
DESCRIPTION:https://pfarreien-bistum-augsburg.df-preview.de/rosenkranz_id17
 46542
DTSTART;TZID=Europe/Berlin:20260514T183000
DURATION:PT30M
LOCATION:St. Clemens
END:VEVENT
BEGIN:VEVENT
UID:sabre-vobject-9c03b244-79f0-4f95-9417-beb2ccc6e193
DTSTAMP:20260420T233449Z
SUMMARY:Rosenkranz
DESCRIPTION:https://pfarreien-bistum-augsburg.df-preview.de/rosenkranz_id17
 46540
DTSTART;TZID=Europe/Berlin:20260515T180000
DURATION:PT30M
LOCATION:St. Wolfgang
END:VEVENT
BEGIN:VEVENT
UID:sabre-vobject-18f5391d-60c7-4315-a305-370a6e86a5b4
DTSTAMP:20260420T233449Z
SUMMARY:Rosenkranz
DESCRIPTION:https://pfarreien-bistum-augsburg.df-preview.de/rosenkranz_id17
 46543
DTSTART;TZID=Europe/Berlin:20260515T183000
DURATION:PT30M
LOCATION:St. Clemens
END:VEVENT
END:VCALENDAR
