BEGIN:VCALENDAR
VERSION:2.0
PRODID:-//Sabre//Sabre VObject 4.5.8//EN
CALSCALE:GREGORIAN
NAME:Bistum Augsburg
X-WR-CALNAME:Bistum Augsburg
BEGIN:VEVENT
UID:sabre-vobject-512d95c8-e3cf-4458-9b3a-5c250eb495c1
DTSTAMP:20260421T053554Z
SUMMARY:Ewige Anbetung\, 21.45 Uhr Kirchliches Nachtgebet - Einsetzung um 2
 2 Uhr
DESCRIPTION:https://pfarreien-bistum-augsburg.df-preview.de/ewige-anbetung-
 21-45-uhr-kirchliches-nachtgebet-einsetzung-um-22-uhr_id1741247
DTSTART;TZID=Europe/Berlin:20260421T100000
DURATION:PT30M
LOCATION:St. Josef der Arbeiter
END:VEVENT
BEGIN:VEVENT
UID:sabre-vobject-261e5be7-4825-4995-82d2-768532a7b923
DTSTAMP:20260421T053554Z
SUMMARY:Heilige Messe
DESCRIPTION:https://pfarreien-bistum-augsburg.df-preview.de/heilige-messe_i
 d1741275
DTSTART;TZID=Europe/Berlin:20260421T150000
DURATION:PT30M
LOCATION:St. Salvator
END:VEVENT
BEGIN:VEVENT
UID:sabre-vobject-52747df4-01b2-41d9-8000-cf00c48aee0c
DTSTAMP:20260421T053554Z
SUMMARY:Rosenkranz
DESCRIPTION:https://pfarreien-bistum-augsburg.df-preview.de/rosenkranz_id17
 41248
DTSTART;TZID=Europe/Berlin:20260421T173000
DURATION:PT30M
LOCATION:St. Josef der Arbeiter
END:VEVENT
BEGIN:VEVENT
UID:sabre-vobject-90608947-39ff-4f3c-b0e8-3b8547782727
DTSTAMP:20260421T053554Z
SUMMARY:Heilige Messe in der Kapelle
DESCRIPTION:https://pfarreien-bistum-augsburg.df-preview.de/heilige-messe-i
 n-der-kapelle_id1741249
DTSTART;TZID=Europe/Berlin:20260421T180000
DURATION:PT30M
LOCATION:St. Josef der Arbeiter
END:VEVENT
BEGIN:VEVENT
UID:sabre-vobject-1411209b-fb85-46a6-83ce-69a139ef14aa
DTSTAMP:20260421T053554Z
SUMMARY:Marktmesse in der Kapelle von Maria Stern
DESCRIPTION:https://pfarreien-bistum-augsburg.df-preview.de/marktmesse-in-d
 er-kapelle-von-maria-stern_id1741277
DTSTART;TZID=Europe/Berlin:20260422T090000
DURATION:PT30M
LOCATION:St. Salvator
END:VEVENT
BEGIN:VEVENT
UID:sabre-vobject-52f1dff8-6dda-45d0-9cc4-ca15f4b15f9d
DTSTAMP:20260421T053554Z
SUMMARY:Rosenkranz
DESCRIPTION:https://pfarreien-bistum-augsburg.df-preview.de/rosenkranz_id17
 41244
DTSTART;TZID=Europe/Berlin:20260422T183000
DURATION:PT30M
LOCATION:St. Martin
END:VEVENT
BEGIN:VEVENT
UID:sabre-vobject-f150b382-ed44-4b3e-ac04-c739198e95c2
DTSTAMP:20260421T053554Z
SUMMARY:Heilige Messe
DESCRIPTION:https://pfarreien-bistum-augsburg.df-preview.de/heilige-messe_i
 d1741245
DTSTART;TZID=Europe/Berlin:20260422T190000
DURATION:PT30M
LOCATION:St. Martin
END:VEVENT
BEGIN:VEVENT
UID:sabre-vobject-d4c31514-12dc-4386-a7bd-2b5350a1d6ec
DTSTAMP:20260421T053554Z
SUMMARY:Ewige Anbetung\, 21.45 Uhr Kirchliches Nachtgebet - Einsetzung um 2
 2 Uhr
DESCRIPTION:https://pfarreien-bistum-augsburg.df-preview.de/ewige-anbetung-
 21-45-uhr-kirchliches-nachtgebet-einsetzung-um-22-uhr_id1741280
DTSTART;TZID=Europe/Berlin:20260422T190000
DURATION:PT30M
LOCATION:St. Josef der Arbeiter
END:VEVENT
BEGIN:VEVENT
UID:sabre-vobject-9afa0cbc-7a8a-4077-a90a-0390d7edefce
DTSTAMP:20260421T053554Z
SUMMARY:Heilige Messe
DESCRIPTION:https://pfarreien-bistum-augsburg.df-preview.de/heilige-messe_i
 d1741278
DTSTART;TZID=Europe/Berlin:20260423T100000
DURATION:PT30M
LOCATION:St. Salvator
END:VEVENT
BEGIN:VEVENT
UID:sabre-vobject-395ec705-8760-43b3-a149-f9b6a16a18aa
DTSTAMP:20260421T053554Z
SUMMARY:Rosenkranz und Beichtgelegenheit (Pfr. Riese)
DESCRIPTION:https://pfarreien-bistum-augsburg.df-preview.de/rosenkranz-und-
 beichtgelegenheit-pfr-riese_id1741279
DTSTART;TZID=Europe/Berlin:20260423T173000
DURATION:PT30M
LOCATION:St. Salvator
END:VEVENT
BEGIN:VEVENT
UID:sabre-vobject-d849518c-59af-432b-9f3b-572797dbab33
DTSTAMP:20260421T053554Z
SUMMARY:Heilige Messe
DESCRIPTION:https://pfarreien-bistum-augsburg.df-preview.de/heilige-messe_i
 d1741240
DTSTART;TZID=Europe/Berlin:20260423T180000
DURATION:PT30M
LOCATION:St. Martin
END:VEVENT
BEGIN:VEVENT
UID:sabre-vobject-44daeec0-f7eb-4a30-8b2f-155959949ae2
DTSTAMP:20260421T053554Z
SUMMARY:Heilige Messe
DESCRIPTION:https://pfarreien-bistum-augsburg.df-preview.de/heilige-messe_i
 d1741276
DTSTART;TZID=Europe/Berlin:20260423T180000
DURATION:PT30M
LOCATION:St. Salvator
END:VEVENT
BEGIN:VEVENT
UID:sabre-vobject-fc75dfbf-a9ba-474c-8e6a-09fc9e32b8f6
DTSTAMP:20260421T053554Z
SUMMARY:Ewige Anbetung\; Einsetzung um 24 Uhr
DESCRIPTION:https://pfarreien-bistum-augsburg.df-preview.de/ewige-anbetung-
 einsetzung-um-24-uhr_id1741281
DTSTART;TZID=Europe/Berlin:20260424T200000
DURATION:PT30M
LOCATION:St. Josef der Arbeiter
END:VEVENT
END:VCALENDAR
