BEGIN:VCALENDAR
VERSION:2.0
PRODID:-//Sabre//Sabre VObject 4.5.8//EN
CALSCALE:GREGORIAN
NAME:Bistum Augsburg
X-WR-CALNAME:Bistum Augsburg
BEGIN:VEVENT
UID:sabre-vobject-cc9cf301-5a39-474a-85f4-9b7de72d7c68
DTSTAMP:20260422T233546Z
SUMMARY:Rosenkranz um geistliche Berufe und Beichtgelegenheit
DESCRIPTION:https://pfarreien-bistum-augsburg.df-preview.de/rosenkranz-um-g
 eistliche-berufe-und-beichtgelegenheit_id1740168
DTSTART;TZID=Europe/Berlin:20260423T183000
DURATION:PT30M
LOCATION:St. Leonhard
END:VEVENT
BEGIN:VEVENT
UID:sabre-vobject-0d18cbe3-f547-499e-89c7-26a50ba5c374
DTSTAMP:20260422T233546Z
SUMMARY:Hl. Messe
DESCRIPTION:https://pfarreien-bistum-augsburg.df-preview.de/hl-messe_id1740
 171
DTSTART;TZID=Europe/Berlin:20260423T190000
DURATION:PT30M
LOCATION:St. Leonhard
END:VEVENT
BEGIN:VEVENT
UID:sabre-vobject-eb2153db-8385-41f4-9a5b-ef88a3e74a74
DTSTAMP:20260422T233546Z
SUMMARY:in Hollenbach: Treffen der Firmlinge und Paten im Pfarrzentrum
DESCRIPTION:https://pfarreien-bistum-augsburg.df-preview.de/in-hollenbach-t
 reffen-der-firmlinge-und-paten-im-pfarrzentrum_id1740172
DTSTART;TZID=Europe/Berlin:20260424T200000
DURATION:PT30M
LOCATION:St. Leonhard
END:VEVENT
BEGIN:VEVENT
UID:sabre-vobject-3db0de02-f466-4127-88ff-32a2ff1119af
DTSTAMP:20260422T233546Z
SUMMARY:Heiliges Amt
DESCRIPTION:https://pfarreien-bistum-augsburg.df-preview.de/heiliges-amt_id
 1753177
DTSTART;TZID=Europe/Berlin:20260426T094500
DURATION:PT30M
LOCATION:St. Leonhard
END:VEVENT
BEGIN:VEVENT
UID:sabre-vobject-f66e8450-5558-4012-812e-d0506ab82675
DTSTAMP:20260422T233546Z
SUMMARY:Hl. Messe
DESCRIPTION:https://pfarreien-bistum-augsburg.df-preview.de/hl-messe_id1753
 242
DTSTART;TZID=Europe/Berlin:20260427T190000
DURATION:PT30M
LOCATION:St. Leonhard
END:VEVENT
BEGIN:VEVENT
UID:sabre-vobject-e5665c43-2780-4be1-ab4e-ceded4373eff
DTSTAMP:20260422T233546Z
SUMMARY:Rosenkranz um geistliche Berufe und Beichtgelegenheit
DESCRIPTION:https://pfarreien-bistum-augsburg.df-preview.de/rosenkranz-um-g
 eistliche-berufe-und-beichtgelegenheit_id1753243
DTSTART;TZID=Europe/Berlin:20260430T183000
DURATION:PT30M
LOCATION:St. Leonhard
END:VEVENT
BEGIN:VEVENT
UID:sabre-vobject-5ec84fe0-3636-40d3-9222-ca7ef1fbe8e2
DTSTAMP:20260422T233546Z
SUMMARY:Hl. Messe
DESCRIPTION:https://pfarreien-bistum-augsburg.df-preview.de/hl-messe_id1753
 244
DTSTART;TZID=Europe/Berlin:20260430T190000
DURATION:PT30M
LOCATION:St. Leonhard
END:VEVENT
BEGIN:VEVENT
UID:sabre-vobject-26413477-16a5-4b2e-bcc9-cd73f55a2d26
DTSTAMP:20260422T233546Z
SUMMARY:Hochamt zum Bauernjahrtag mit dem Leonhards-Chor und anschließende
 m Gedenken am Bauernkreuz
DESCRIPTION:https://pfarreien-bistum-augsburg.df-preview.de/hochamt-zum-bau
 ernjahrtag-mit-dem-leonhards-chor-und-anschliessendem-gedenken-am-bauernkr
 euz_id1753204
DTSTART;TZID=Europe/Berlin:20260501T094500
DURATION:PT30M
LOCATION:St. Leonhard
END:VEVENT
BEGIN:VEVENT
UID:sabre-vobject-6a9f2cf3-b4d6-4539-9585-6e2fe11fca25
DTSTAMP:20260422T233546Z
SUMMARY:Segnung des Maibaums am Marktplatz
DESCRIPTION:https://pfarreien-bistum-augsburg.df-preview.de/segnung-des-mai
 baums-am-marktplatz_id1753205
DTSTART;TZID=Europe/Berlin:20260501T110000
DURATION:PT30M
LOCATION:St. Leonhard
END:VEVENT
BEGIN:VEVENT
UID:sabre-vobject-a932da3f-a121-4154-8eef-b1f46e00cdcf
DTSTAMP:20260422T233546Z
SUMMARY:Maiandacht mit Segnung von Erstkommunionandenken und Andachtsgegens
 tänden
DESCRIPTION:https://pfarreien-bistum-augsburg.df-preview.de/maiandacht-mit-
 segnung-von-erstkommunionandenken-und-andachtsgegenstaenden_id1753209
DTSTART;TZID=Europe/Berlin:20260501T183000
DURATION:PT30M
LOCATION:St. Leonhard
END:VEVENT
BEGIN:VEVENT
UID:sabre-vobject-99a098cb-83e6-432f-a025-c5508f6f1e39
DTSTAMP:20260422T233546Z
SUMMARY:Rosenkranz und Beichtgelegenheit
DESCRIPTION:https://pfarreien-bistum-augsburg.df-preview.de/rosenkranz-und-
 beichtgelegenheit_id1753202
DTSTART;TZID=Europe/Berlin:20260502T173000
DURATION:PT30M
LOCATION:St. Leonhard
END:VEVENT
BEGIN:VEVENT
UID:sabre-vobject-f0cbef89-5acc-4f74-ad66-725efd3a74a4
DTSTAMP:20260422T233546Z
SUMMARY:Sonntagvorabendmesse\nhl. Messe für die Lebenden und Verstorbenen 
 der Pfarreiengemeinschaft
DESCRIPTION:https://pfarreien-bistum-augsburg.df-preview.de/sonntagvorabend
 messe-hl-messe-fuer-die-lebenden-und-verstorbenen-der-pfarreiengemeinschaf
 t_id1753197
DTSTART;TZID=Europe/Berlin:20260502T180000
DURATION:PT30M
LOCATION:St. Leonhard
END:VEVENT
BEGIN:VEVENT
UID:sabre-vobject-ad127846-4e61-4587-8756-429d0545494c
DTSTAMP:20260422T233546Z
SUMMARY:Heiliges Amt
DESCRIPTION:https://pfarreien-bistum-augsburg.df-preview.de/heiliges-amt_id
 1753141
DTSTART;TZID=Europe/Berlin:20260503T094500
DURATION:PT30M
LOCATION:St. Leonhard
END:VEVENT
BEGIN:VEVENT
UID:sabre-vobject-0be8245e-7205-4ec8-8423-d99bbc52e43d
DTSTAMP:20260422T233546Z
SUMMARY:in Hollenbach: Firmcafé im Pfarrzentrum
DESCRIPTION:https://pfarreien-bistum-augsburg.df-preview.de/in-hollenbach-f
 irmcafe-im-pfarrzentrum_id1753142
DTSTART;TZID=Europe/Berlin:20260503T143000
DURATION:PT30M
LOCATION:St. Leonhard
END:VEVENT
BEGIN:VEVENT
UID:sabre-vobject-03c6ce68-b782-4578-9be5-7d2a04246e81
DTSTAMP:20260422T233546Z
SUMMARY:Maiandacht
DESCRIPTION:https://pfarreien-bistum-augsburg.df-preview.de/maiandacht_id17
 53144
DTSTART;TZID=Europe/Berlin:20260503T183000
DURATION:PT30M
LOCATION:St. Leonhard
END:VEVENT
BEGIN:VEVENT
UID:sabre-vobject-cdc60a7e-3286-446a-8364-62da0a544cd5
DTSTAMP:20260422T233546Z
SUMMARY:Hl. Messe
DESCRIPTION:https://pfarreien-bistum-augsburg.df-preview.de/hl-messe_id1753
 145
DTSTART;TZID=Europe/Berlin:20260504T190000
DURATION:PT30M
LOCATION:St. Leonhard
END:VEVENT
BEGIN:VEVENT
UID:sabre-vobject-d40e9f42-0123-4d7b-9d3b-266ac4c70c8c
DTSTAMP:20260422T233546Z
SUMMARY:Weggang vom Kath. Frauenbund zur Fußwallfahrt nach Ainertshofen do
 rt Maiandacht
DESCRIPTION:https://pfarreien-bistum-augsburg.df-preview.de/weggang-vom-kat
 h-frauenbund-zur-fusswallfahrt-nach-ainertshofen-dort-maiandacht_id1753146
DTSTART;TZID=Europe/Berlin:20260506T190000
DURATION:PT30M
LOCATION:St. Leonhard
END:VEVENT
BEGIN:VEVENT
UID:sabre-vobject-adce6c05-1b81-4c7d-8698-c78d549d3281
DTSTAMP:20260422T233546Z
SUMMARY:Rosenkranz um geistliche Berufe und Beichtgelegenheit
DESCRIPTION:https://pfarreien-bistum-augsburg.df-preview.de/rosenkranz-um-g
 eistliche-berufe-und-beichtgelegenheit_id1753147
DTSTART;TZID=Europe/Berlin:20260507T183000
DURATION:PT30M
LOCATION:St. Leonhard
END:VEVENT
BEGIN:VEVENT
UID:sabre-vobject-ced40f15-66e5-40a5-9f2c-91ec5a9b40d2
DTSTAMP:20260422T233546Z
SUMMARY:Hl. Messe
DESCRIPTION:https://pfarreien-bistum-augsburg.df-preview.de/hl-messe_id1753
 140
DTSTART;TZID=Europe/Berlin:20260507T190000
DURATION:PT30M
LOCATION:St. Leonhard
END:VEVENT
BEGIN:VEVENT
UID:sabre-vobject-3ad423a2-898f-44e4-9ee7-f9b467a76558
DTSTAMP:20260422T233546Z
SUMMARY:in Hollenbach: Kindermaiandacht
DESCRIPTION:https://pfarreien-bistum-augsburg.df-preview.de/in-hollenbach-k
 indermaiandacht_id1749800
DTSTART;TZID=Europe/Berlin:20260508T180000
DURATION:PT30M
LOCATION:St. Leonhard
END:VEVENT
BEGIN:VEVENT
UID:sabre-vobject-6c86f7b8-b58c-4d23-981c-48213096067d
DTSTAMP:20260422T233546Z
SUMMARY:Diözesanministrantentag in Kaufbeuren
DESCRIPTION:https://pfarreien-bistum-augsburg.df-preview.de/dioezesanminist
 rantentag-in-kaufbeuren_id1752661
DTSTART;TZID=Europe/Berlin:20260509T000000
DURATION:PT30M
LOCATION:St. Leonhard
END:VEVENT
BEGIN:VEVENT
UID:sabre-vobject-68e2b969-7ce7-4de8-8591-057ef6ace109
DTSTAMP:20260422T233546Z
SUMMARY:Weggang zur Fußwallfahrt nach Maria Beinberg
DESCRIPTION:https://pfarreien-bistum-augsburg.df-preview.de/weggang-zur-fus
 swallfahrt-nach-maria-beinberg_id1749801
DTSTART;TZID=Europe/Berlin:20260509T051500
DURATION:PT30M
LOCATION:St. Leonhard
END:VEVENT
BEGIN:VEVENT
UID:sabre-vobject-8f0fc51a-37b0-4cd8-aa3f-c2d937e7a7df
DTSTAMP:20260422T233546Z
SUMMARY:hl. Messe in Maria Beinberg
DESCRIPTION:https://pfarreien-bistum-augsburg.df-preview.de/hl-messe-in-mar
 ia-beinberg_id1749802
DTSTART;TZID=Europe/Berlin:20260509T073000
DURATION:PT30M
LOCATION:St. Leonhard
END:VEVENT
BEGIN:VEVENT
UID:sabre-vobject-085ac3b9-12bd-4702-8146-c19e2ef5175b
DTSTAMP:20260422T233546Z
SUMMARY:Heiliges Amt
DESCRIPTION:https://pfarreien-bistum-augsburg.df-preview.de/heiliges-amt_id
 1749803
DTSTART;TZID=Europe/Berlin:20260510T094500
DURATION:PT30M
LOCATION:St. Leonhard
END:VEVENT
BEGIN:VEVENT
UID:sabre-vobject-0b109286-c3ee-4322-ad45-25e6625c19f8
DTSTAMP:20260422T233546Z
SUMMARY:Maiandacht
DESCRIPTION:https://pfarreien-bistum-augsburg.df-preview.de/maiandacht_id17
 49804
DTSTART;TZID=Europe/Berlin:20260510T183000
DURATION:PT30M
LOCATION:St. Leonhard
END:VEVENT
BEGIN:VEVENT
UID:sabre-vobject-c0084552-fb85-4a8e-898f-bab422de177b
DTSTAMP:20260422T233546Z
SUMMARY:Bittgang
DESCRIPTION:https://pfarreien-bistum-augsburg.df-preview.de/bittgang_id1749
 805
DTSTART;TZID=Europe/Berlin:20260511T183000
DURATION:PT30M
LOCATION:St. Leonhard
END:VEVENT
BEGIN:VEVENT
UID:sabre-vobject-c50cc9cd-3b60-467f-82f6-800a59b0990d
DTSTAMP:20260422T233546Z
SUMMARY:Hl. Messe zum Bittgang zusammen mit der Pfarrei Sainbach / hl. Mess
 e um günstige Witterung\, eine gute Ernte und um Segen für die Fluren / 
 anschließend Betstunde
DESCRIPTION:https://pfarreien-bistum-augsburg.df-preview.de/hl-messe-zum-bi
 ttgang-zusammen-mit-der-pfarrei-sainbach-hl-messe-um-guenstige-witterung-e
 ine-gute-ernte-und-um-segen-fuer-die-fluren-anschliessend-betstunde_id1749
 806
DTSTART;TZID=Europe/Berlin:20260511T190000
DURATION:PT30M
LOCATION:St. Leonhard
END:VEVENT
BEGIN:VEVENT
UID:sabre-vobject-6242c3fc-f5fc-4e17-ba01-84415127e1f5
DTSTAMP:20260422T233546Z
SUMMARY:Hl. Messe mit Segnung der Radlwallfahrer
DESCRIPTION:https://pfarreien-bistum-augsburg.df-preview.de/hl-messe-mit-se
 gnung-der-radlwallfahrer_id1749808
DTSTART;TZID=Europe/Berlin:20260513T063000
DURATION:PT30M
LOCATION:St. Leonhard
END:VEVENT
BEGIN:VEVENT
UID:sabre-vobject-eaf5f9ca-3fd5-4074-b604-e30eab4faa57
DTSTAMP:20260422T233546Z
SUMMARY:Kath. Frauenbund und Seniorinnen: Kaffeekränzchen zum Muttertag mi
 t Rosi Lutz\, Anmeldung bei Marianne Egger (Tel. 620)
DESCRIPTION:https://pfarreien-bistum-augsburg.df-preview.de/kath-frauenbund
 -und-seniorinnen-kaffeekraenzchen-zum-muttertag-mit-rosi-lutz-anmeldung-be
 i-marianne-egger-tel-620_id1749809
DTSTART;TZID=Europe/Berlin:20260513T140000
DURATION:PT30M
LOCATION:St. Leonhard
END:VEVENT
BEGIN:VEVENT
UID:sabre-vobject-f07d37c9-b05e-4d41-9611-48a1c9cfde07
DTSTAMP:20260422T233546Z
SUMMARY:Hochamt
DESCRIPTION:https://pfarreien-bistum-augsburg.df-preview.de/hochamt_id17497
 17
DTSTART;TZID=Europe/Berlin:20260514T094500
DURATION:PT30M
LOCATION:St. Leonhard
END:VEVENT
BEGIN:VEVENT
UID:sabre-vobject-b743befa-0351-4585-a632-b4f344dd74fe
DTSTAMP:20260422T233546Z
SUMMARY:Wallfahrtsgottesdienst Anwalting - Gebenhofen
DESCRIPTION:https://pfarreien-bistum-augsburg.df-preview.de/wallfahrtsgotte
 sdienst-anwalting-gebenhofen_id1752890
DTSTART;TZID=Europe/Berlin:20260516T090000
DURATION:PT30M
LOCATION:St. Leonhard
END:VEVENT
BEGIN:VEVENT
UID:sabre-vobject-bf959a48-6c7d-42cc-9bec-5143dc2966cd
DTSTAMP:20260422T233546Z
SUMMARY:Trauung von Patrick und Jasmin Gröbl\, Halsbach
DESCRIPTION:https://pfarreien-bistum-augsburg.df-preview.de/trauung-von-pat
 rick-und-jasmin-groebl-halsbach_id1752891
DTSTART;TZID=Europe/Berlin:20260516T110000
DURATION:PT30M
LOCATION:St. Leonhard
END:VEVENT
BEGIN:VEVENT
UID:sabre-vobject-fb5f532c-1864-45aa-a5ab-86d037c81bfe
DTSTAMP:20260422T233546Z
SUMMARY:Konzert mit dem Wittelsbacher Land Chor
DESCRIPTION:https://pfarreien-bistum-augsburg.df-preview.de/konzert-mit-dem
 -wittelsbacher-land-chor_id1752892
DTSTART;TZID=Europe/Berlin:20260516T193000
DURATION:PT30M
LOCATION:St. Leonhard
END:VEVENT
BEGIN:VEVENT
UID:sabre-vobject-368a2b5f-eb5e-4614-8d14-f165947a29b6
DTSTAMP:20260422T233546Z
SUMMARY:Wallfahrtsgottesdienst Igenhausen
DESCRIPTION:https://pfarreien-bistum-augsburg.df-preview.de/wallfahrtsgotte
 sdienst-igenhausen_id1752893
DTSTART;TZID=Europe/Berlin:20260517T073000
DURATION:PT30M
LOCATION:St. Leonhard
END:VEVENT
BEGIN:VEVENT
UID:sabre-vobject-78b6fff4-f3ff-4b35-b3d0-d1fd01ff5eec
DTSTAMP:20260422T233546Z
SUMMARY:Flurumgang
DESCRIPTION:https://pfarreien-bistum-augsburg.df-preview.de/flurumgang_id17
 52894
DTSTART;TZID=Europe/Berlin:20260517T081500
DURATION:PT30M
LOCATION:St. Leonhard
END:VEVENT
BEGIN:VEVENT
UID:sabre-vobject-f506c2a8-508b-4f5e-944d-a330012b9a02
DTSTAMP:20260422T233546Z
SUMMARY:"Kinderkirche" vom 4. Lebensjahr bis zur 2. Klasse im Pfarrsaal. An
 schließend Mitfeier des Pfarrgottesdienstes.
DESCRIPTION:https://pfarreien-bistum-augsburg.df-preview.de/kinderkirche-vo
 m-4-lebensjahr-bis-zur-2-klasse-im-pfarrsaal-anschliessend-mitfeier-des-pf
 arrgottesdienstes_id1752924
DTSTART;TZID=Europe/Berlin:20260517T093000
DURATION:PT30M
LOCATION:St. Leonhard
END:VEVENT
BEGIN:VEVENT
UID:sabre-vobject-9e3fa65c-aa75-498b-92a8-8b9c31c2f215
DTSTAMP:20260422T233546Z
SUMMARY:Heiliges Amt
DESCRIPTION:https://pfarreien-bistum-augsburg.df-preview.de/heiliges-amt_id
 1752925
DTSTART;TZID=Europe/Berlin:20260517T094500
DURATION:PT30M
LOCATION:St. Leonhard
END:VEVENT
BEGIN:VEVENT
UID:sabre-vobject-49a554f8-f6fc-4a50-8140-a53ce47c3af1
DTSTAMP:20260422T233546Z
SUMMARY:Maiandacht mit dem Leonhards-Chor
DESCRIPTION:https://pfarreien-bistum-augsburg.df-preview.de/maiandacht-mit-
 dem-leonhards-chor_id1752157
DTSTART;TZID=Europe/Berlin:20260517T183000
DURATION:PT30M
LOCATION:St. Leonhard
END:VEVENT
BEGIN:VEVENT
UID:sabre-vobject-332b9f99-3fd2-4093-bbe6-53c17b3d70ca
DTSTAMP:20260422T233546Z
SUMMARY:Hl. Messe
DESCRIPTION:https://pfarreien-bistum-augsburg.df-preview.de/hl-messe_id1752
 158
DTSTART;TZID=Europe/Berlin:20260518T190000
DURATION:PT30M
LOCATION:St. Leonhard
END:VEVENT
BEGIN:VEVENT
UID:sabre-vobject-467e1038-d793-47ed-92d6-127fc999ecd8
DTSTAMP:20260422T233546Z
SUMMARY:in Hollenbach: Bibelkreis im Pfarrzentrum
DESCRIPTION:https://pfarreien-bistum-augsburg.df-preview.de/in-hollenbach-b
 ibelkreis-im-pfarrzentrum_id1752159
DTSTART;TZID=Europe/Berlin:20260519T200000
DURATION:PT30M
LOCATION:St. Leonhard
END:VEVENT
BEGIN:VEVENT
UID:sabre-vobject-74f19ecd-0cad-4a18-8c3f-066403d7816d
DTSTAMP:20260422T233546Z
SUMMARY:in Motzenhofen: hl. Messe zum "Maiausflug" der Mitarbeiterinnen und
  Mitarbeiter der Kirchenstiftungen sowie aller Mitglieder der Pfarrgemeind
 eräte und Kirchenverwaltungen 		anschließend Eink
DESCRIPTION:https://pfarreien-bistum-augsburg.df-preview.de/in-motzenhofen-
 hl-messe-zum-maiausflug-der-mitarbeiterinnen-und-mitarbeiter-der-kirchenst
 iftungen-sowie-aller-mitglieder-der-pfarrgemeinderaete-und-kirchenverwaltu
 ngen-anschliessend-eink_id1752160
DTSTART;TZID=Europe/Berlin:20260520T190000
DURATION:PT30M
LOCATION:St. Leonhard
END:VEVENT
BEGIN:VEVENT
UID:sabre-vobject-0a5f6d19-12e9-4097-bde9-fcdcc6bad22c
DTSTAMP:20260422T233546Z
SUMMARY:Rosenkranz um geistliche Berufe und Beichtgelegenheit
DESCRIPTION:https://pfarreien-bistum-augsburg.df-preview.de/rosenkranz-um-g
 eistliche-berufe-und-beichtgelegenheit_id1752161
DTSTART;TZID=Europe/Berlin:20260521T183000
DURATION:PT30M
LOCATION:St. Leonhard
END:VEVENT
BEGIN:VEVENT
UID:sabre-vobject-a9be56d7-9fd1-425e-a495-f5f22e4049f8
DTSTAMP:20260422T233546Z
SUMMARY:Hl. Messe
DESCRIPTION:https://pfarreien-bistum-augsburg.df-preview.de/hl-messe_id1752
 235
DTSTART;TZID=Europe/Berlin:20260521T190000
DURATION:PT30M
LOCATION:St. Leonhard
END:VEVENT
END:VCALENDAR
