BEGIN:VCALENDAR
VERSION:2.0
PRODID:-//Sabre//Sabre VObject 4.5.8//EN
CALSCALE:GREGORIAN
NAME:Bistum Augsburg
X-WR-CALNAME:Bistum Augsburg
BEGIN:VEVENT
UID:sabre-vobject-2702e704-8b6d-4a2a-81eb-8c702d950a96
DTSTAMP:20260420T202521Z
SUMMARY:Heilige Messe - 17:25 Uhr Rosenkranz
DESCRIPTION:https://pfarreien-bistum-augsburg.df-preview.de/heilige-messe-1
 7-25-uhr-rosenkranz_id1739951
DTSTART;TZID=Europe/Berlin:20260423T180000
DURATION:PT30M
LOCATION:St. Raphael\, Kolpingstr. 8a\, 86356 Neusäß
END:VEVENT
BEGIN:VEVENT
UID:sabre-vobject-b06a28c7-e3ee-452d-9dff-5e64071cebbf
DTSTAMP:20260420T202522Z
SUMMARY:Anbetung des Allerheiligsten
DESCRIPTION:https://pfarreien-bistum-augsburg.df-preview.de/anbetung-des-al
 lerheiligsten_id1739853
DTSTART;TZID=Europe/Berlin:20260424T160000
DURATION:PT30M
LOCATION:St. Raphael\, Kolpingstr. 8a\, 86356 Neusäß
END:VEVENT
BEGIN:VEVENT
UID:sabre-vobject-f4435954-d062-44b8-a6c0-4d1d4f14d2ae
DTSTAMP:20260420T202522Z
SUMMARY:Pfarrmesse
DESCRIPTION:https://pfarreien-bistum-augsburg.df-preview.de/pfarrmesse_id17
 39072
DTSTART;TZID=Europe/Berlin:20260426T110000
DURATION:PT30M
LOCATION:St. Raphael\, Kolpingstr. 8a\, 86356 Neusäß
END:VEVENT
BEGIN:VEVENT
UID:sabre-vobject-3f82b521-bd21-4a08-9c2a-de03f932757d
DTSTAMP:20260420T202522Z
SUMMARY:Heilige Messe - 17:25 Uhr Rosenkranz
DESCRIPTION:https://pfarreien-bistum-augsburg.df-preview.de/heilige-messe-1
 7-25-uhr-rosenkranz_id1739073
DTSTART;TZID=Europe/Berlin:20260430T180000
DURATION:PT30M
LOCATION:St. Raphael\, Kolpingstr. 8a\, 86356 Neusäß
END:VEVENT
BEGIN:VEVENT
UID:sabre-vobject-541de675-f5b1-4e8e-b99c-aab46b2d34b4
DTSTAMP:20260420T202522Z
SUMMARY:Heilige Messe
DESCRIPTION:https://pfarreien-bistum-augsburg.df-preview.de/heilige-messe_i
 d1740054
DTSTART;TZID=Europe/Berlin:20260503T110000
DURATION:PT30M
LOCATION:St. Raphael\, Kolpingstr. 8a\, 86356 Neusäß
END:VEVENT
BEGIN:VEVENT
UID:sabre-vobject-55881578-d8b8-4026-9b6a-eb795c75c871
DTSTAMP:20260420T202522Z
SUMMARY:Heilige Messe - 17:25 Uhr Rosenkranz
DESCRIPTION:https://pfarreien-bistum-augsburg.df-preview.de/heilige-messe-1
 7-25-uhr-rosenkranz_id1740055
DTSTART;TZID=Europe/Berlin:20260507T180000
DURATION:PT30M
LOCATION:St. Raphael\, Kolpingstr. 8a\, 86356 Neusäß
END:VEVENT
BEGIN:VEVENT
UID:sabre-vobject-9ea20291-3960-4be6-9f19-9d840c6baca4
DTSTAMP:20260420T202522Z
SUMMARY:Anbetung des Allerheiligsten
DESCRIPTION:https://pfarreien-bistum-augsburg.df-preview.de/anbetung-des-al
 lerheiligsten_id1740016
DTSTART;TZID=Europe/Berlin:20260508T160000
DURATION:PT30M
LOCATION:St. Raphael\, Kolpingstr. 8a\, 86356 Neusäß
END:VEVENT
END:VCALENDAR
