BEGIN:VCALENDAR
VERSION:2.0
PRODID:-//Sabre//Sabre VObject 4.5.8//EN
CALSCALE:GREGORIAN
NAME:Bistum Augsburg
X-WR-CALNAME:Bistum Augsburg
BEGIN:VEVENT
UID:sabre-vobject-88740c79-46af-44e7-b2bf-df1f8f384d6e
DTSTAMP:20260422T073544Z
SUMMARY:Hl. Messe in Mainbach
DESCRIPTION:https://pfarreien-bistum-augsburg.df-preview.de/hl-messe-in-mai
 nbach_id1740114
DTSTART;TZID=Europe/Berlin:20260422T190000
DURATION:PT30M
LOCATION:St. Peter und Paul
END:VEVENT
BEGIN:VEVENT
UID:sabre-vobject-12675d8a-faa5-4b8d-880d-5ae2e52a7c4e
DTSTAMP:20260422T073544Z
SUMMARY:Bibelkreis im Pfarrzentrum
DESCRIPTION:https://pfarreien-bistum-augsburg.df-preview.de/bibelkreis-im-p
 farrzentrum_id1740115
DTSTART;TZID=Europe/Berlin:20260422T200000
DURATION:PT30M
LOCATION:St. Peter und Paul
END:VEVENT
BEGIN:VEVENT
UID:sabre-vobject-ff8a6007-e544-4205-ac08-e20af0269364
DTSTAMP:20260422T073544Z
SUMMARY:Hl. Messe
DESCRIPTION:https://pfarreien-bistum-augsburg.df-preview.de/hl-messe_id1739
 806
DTSTART;TZID=Europe/Berlin:20260423T190000
DURATION:PT30M
LOCATION:St. Peter und Paul
END:VEVENT
BEGIN:VEVENT
UID:sabre-vobject-030b1b4c-7f5d-4c70-93d5-208d97d0e775
DTSTAMP:20260422T073544Z
SUMMARY:Treffen der Firmlinge und Paten im Pfarrzentrum
DESCRIPTION:https://pfarreien-bistum-augsburg.df-preview.de/treffen-der-fir
 mlinge-und-paten-im-pfarrzentrum_id1739807
DTSTART;TZID=Europe/Berlin:20260424T200000
DURATION:PT30M
LOCATION:St. Peter und Paul
END:VEVENT
BEGIN:VEVENT
UID:sabre-vobject-94b19ac1-ae1f-4d62-90c6-a71f6fcf7f97
DTSTAMP:20260422T073544Z
SUMMARY:Bittgang nach Schönbach\, anschl.\nHl. Messe in Schönbach
DESCRIPTION:https://pfarreien-bistum-augsburg.df-preview.de/bittgang-nach-s
 choenbach-anschl-hl-messe-in-schoenbach_id1753154
DTSTART;TZID=Europe/Berlin:20260425T173000
DURATION:PT30M
LOCATION:St. Peter und Paul
END:VEVENT
BEGIN:VEVENT
UID:sabre-vobject-4737d21c-d563-4df6-91f5-6aa2285f36e3
DTSTAMP:20260422T073544Z
SUMMARY:Fußwallfahrt von Hollenbach nach Maria Beinberg
DESCRIPTION:https://pfarreien-bistum-augsburg.df-preview.de/fusswallfahrt-v
 on-hollenbach-nach-maria-beinberg_id1753155
DTSTART;TZID=Europe/Berlin:20260426T040000
DURATION:PT30M
LOCATION:St. Peter und Paul
END:VEVENT
BEGIN:VEVENT
UID:sabre-vobject-a0e1736c-e244-4157-85b5-ba1762d30f9a
DTSTAMP:20260422T073544Z
SUMMARY:Hl. Messe in Maria Beinberg
DESCRIPTION:https://pfarreien-bistum-augsburg.df-preview.de/hl-messe-in-mar
 ia-beinberg_id1753156
DTSTART;TZID=Europe/Berlin:20260426T073000
DURATION:PT30M
LOCATION:St. Peter und Paul
END:VEVENT
BEGIN:VEVENT
UID:sabre-vobject-8ac18de1-e950-49d7-a81a-d979f7fb4ad1
DTSTAMP:20260422T073544Z
SUMMARY:Heiliges Amt
DESCRIPTION:https://pfarreien-bistum-augsburg.df-preview.de/heiliges-amt_id
 1753176
DTSTART;TZID=Europe/Berlin:20260426T083000
DURATION:PT30M
LOCATION:St. Peter und Paul
END:VEVENT
BEGIN:VEVENT
UID:sabre-vobject-a48effea-deff-45f6-b7d8-a61e407a5560
DTSTAMP:20260422T073544Z
SUMMARY:Hochamt
DESCRIPTION:https://pfarreien-bistum-augsburg.df-preview.de/hochamt_id17531
 79
DTSTART;TZID=Europe/Berlin:20260501T100000
DURATION:PT30M
LOCATION:St. Peter und Paul
END:VEVENT
BEGIN:VEVENT
UID:sabre-vobject-3a7ca516-6752-43dd-bc8c-2c83806c5e1a
DTSTAMP:20260422T073544Z
SUMMARY:Erste feierliche Maiandacht mit\nSegnung von Erstkommunionandenken 
 und Andachtsgegenständen
DESCRIPTION:https://pfarreien-bistum-augsburg.df-preview.de/erste-feierlich
 e-maiandacht-mit-segnung-von-erstkommunionandenken-und-andachtsgegenstaend
 en_id1753180
DTSTART;TZID=Europe/Berlin:20260501T193000
DURATION:PT30M
LOCATION:St. Peter und Paul
END:VEVENT
BEGIN:VEVENT
UID:sabre-vobject-d320eb1a-2ef6-47cd-809f-67bf013afee9
DTSTAMP:20260422T073544Z
SUMMARY:Heiliges Amt
DESCRIPTION:https://pfarreien-bistum-augsburg.df-preview.de/heiliges-amt_id
 1753148
DTSTART;TZID=Europe/Berlin:20260503T100000
DURATION:PT30M
LOCATION:St. Peter und Paul
END:VEVENT
BEGIN:VEVENT
UID:sabre-vobject-0b686e69-09be-4dcc-8a45-0dd582bee383
DTSTAMP:20260422T073544Z
SUMMARY:Firmcafè im Pfarrzentrum
DESCRIPTION:https://pfarreien-bistum-augsburg.df-preview.de/firmcafe-im-pfa
 rrzentrum_id1753149
DTSTART;TZID=Europe/Berlin:20260503T143000
DURATION:PT30M
LOCATION:St. Peter und Paul
END:VEVENT
BEGIN:VEVENT
UID:sabre-vobject-c70ffdbf-79ec-4080-88a8-81eb322a4be7
DTSTAMP:20260422T073544Z
SUMMARY:Feierliche Maiandacht
DESCRIPTION:https://pfarreien-bistum-augsburg.df-preview.de/feierliche-maia
 ndacht_id1753178
DTSTART;TZID=Europe/Berlin:20260503T193000
DURATION:PT30M
LOCATION:St. Peter und Paul
END:VEVENT
BEGIN:VEVENT
UID:sabre-vobject-e5844053-4188-4e38-9e32-682327875217
DTSTAMP:20260422T073544Z
SUMMARY:Hl. Messe
DESCRIPTION:https://pfarreien-bistum-augsburg.df-preview.de/hl-messe_id1753
 187
DTSTART;TZID=Europe/Berlin:20260507T190000
DURATION:PT30M
LOCATION:St. Peter und Paul
END:VEVENT
BEGIN:VEVENT
UID:sabre-vobject-72d87ebf-579f-484a-9871-829f2fff99d1
DTSTAMP:20260422T073544Z
SUMMARY:Kindermaiandacht
DESCRIPTION:https://pfarreien-bistum-augsburg.df-preview.de/kindermaiandach
 t_id1753139
DTSTART;TZID=Europe/Berlin:20260508T180000
DURATION:PT30M
LOCATION:St. Peter und Paul
END:VEVENT
BEGIN:VEVENT
UID:sabre-vobject-bbb4d414-9a12-439c-863b-5ce1fb71b0ff
DTSTAMP:20260422T073544Z
SUMMARY:Diözesanministrantentag in Kaufbeuren
DESCRIPTION:https://pfarreien-bistum-augsburg.df-preview.de/dioezesanminist
 rantentag-in-kaufbeuren_id1749711
DTSTART;TZID=Europe/Berlin:20260509T000000
DURATION:PT30M
LOCATION:St. Peter und Paul
END:VEVENT
BEGIN:VEVENT
UID:sabre-vobject-307351e4-9497-45e4-b74e-503fbdec5d97
DTSTAMP:20260422T073544Z
SUMMARY:Rosenkranz und Beichtgelegenheit
DESCRIPTION:https://pfarreien-bistum-augsburg.df-preview.de/rosenkranz-und-
 beichtgelegenheit_id1749714
DTSTART;TZID=Europe/Berlin:20260509T173000
DURATION:PT30M
LOCATION:St. Peter und Paul
END:VEVENT
BEGIN:VEVENT
UID:sabre-vobject-48dbcb8c-6b6e-4f71-ad0b-7905fa0db0d0
DTSTAMP:20260422T073544Z
SUMMARY:Vorabendmesse\nfür die Lebenden und Verstorbenen der Pfarreiengeme
 inschaft
DESCRIPTION:https://pfarreien-bistum-augsburg.df-preview.de/vorabendmesse-f
 uer-die-lebenden-und-verstorbenen-der-pfarreiengemeinschaft_id1749715
DTSTART;TZID=Europe/Berlin:20260509T180000
DURATION:PT30M
LOCATION:St. Peter und Paul
END:VEVENT
BEGIN:VEVENT
UID:sabre-vobject-949d7e3d-a00e-469a-9a36-c13440cbbcf6
DTSTAMP:20260422T073544Z
SUMMARY:Heiliges Amt\, anschl. feierliche Maiandacht
DESCRIPTION:https://pfarreien-bistum-augsburg.df-preview.de/heiliges-amt-an
 schl-feierliche-maiandacht_id1749738
DTSTART;TZID=Europe/Berlin:20260510T083000
DURATION:PT30M
LOCATION:St. Peter und Paul
END:VEVENT
BEGIN:VEVENT
UID:sabre-vobject-2f5be784-942c-4e19-9efb-d3a0d09eb9ff
DTSTAMP:20260422T073544Z
SUMMARY:Taufe von Lio Stark in Schönbach
DESCRIPTION:https://pfarreien-bistum-augsburg.df-preview.de/taufe-von-lio-s
 tark-in-schoenbach_id1752185
DTSTART;TZID=Europe/Berlin:20260510T111500
DURATION:PT30M
LOCATION:St. Peter und Paul
END:VEVENT
BEGIN:VEVENT
UID:sabre-vobject-3cda283e-4f60-4153-aa00-b15d603b8e2b
DTSTAMP:20260422T073544Z
SUMMARY:Bittgang nach Motzenhofen\,\ndort Bittmesse
DESCRIPTION:https://pfarreien-bistum-augsburg.df-preview.de/bittgang-nach-m
 otzenhofen-dort-bittmesse_id1749739
DTSTART;TZID=Europe/Berlin:20260511T183000
DURATION:PT30M
LOCATION:St. Peter und Paul
END:VEVENT
BEGIN:VEVENT
UID:sabre-vobject-43424882-2f8d-4589-8327-a19962f67f69
DTSTAMP:20260422T073544Z
SUMMARY:Bittgang von Igenhausen nach Schönbach\,\ndort Bittmesse
DESCRIPTION:https://pfarreien-bistum-augsburg.df-preview.de/bittgang-von-ig
 enhausen-nach-schoenbach-dort-bittmesse_id1749740
DTSTART;TZID=Europe/Berlin:20260512T183000
DURATION:PT30M
LOCATION:St. Peter und Paul
END:VEVENT
BEGIN:VEVENT
UID:sabre-vobject-b5d84873-e6e7-4b4f-8278-67e18be0aeb9
DTSTAMP:20260422T073544Z
SUMMARY:Bittgang nach Mainbach\,\ndort Bittmesse
DESCRIPTION:https://pfarreien-bistum-augsburg.df-preview.de/bittgang-nach-m
 ainbach-dort-bittmesse_id1749741
DTSTART;TZID=Europe/Berlin:20260513T183000
DURATION:PT30M
LOCATION:St. Peter und Paul
END:VEVENT
BEGIN:VEVENT
UID:sabre-vobject-ad1a40c3-6811-400e-a910-2044e58c493c
DTSTAMP:20260422T073544Z
SUMMARY:Hochamt
DESCRIPTION:https://pfarreien-bistum-augsburg.df-preview.de/hochamt_id17497
 42
DTSTART;TZID=Europe/Berlin:20260514T100000
DURATION:PT30M
LOCATION:St. Peter und Paul
END:VEVENT
BEGIN:VEVENT
UID:sabre-vobject-80b9f92e-244d-4359-ba30-615a07d921c2
DTSTAMP:20260422T073545Z
SUMMARY:Flurumgang
DESCRIPTION:https://pfarreien-bistum-augsburg.df-preview.de/flurumgang_id17
 49744
DTSTART;TZID=Europe/Berlin:20260514T190000
DURATION:PT30M
LOCATION:St. Peter und Paul
END:VEVENT
BEGIN:VEVENT
UID:sabre-vobject-65b2478b-d6aa-4647-a741-c2774e7cfe17
DTSTAMP:20260422T073545Z
SUMMARY:Trauung von Robert und Kathrin Maria Brucklackner in Mainbach
DESCRIPTION:https://pfarreien-bistum-augsburg.df-preview.de/trauung-von-rob
 ert-und-kathrin-maria-brucklackner-in-mainbach_id1752207
DTSTART;TZID=Europe/Berlin:20260516T123000
DURATION:PT30M
LOCATION:St. Peter und Paul
END:VEVENT
BEGIN:VEVENT
UID:sabre-vobject-df6e468c-5f1e-4815-be47-f357d2d57d3b
DTSTAMP:20260422T073545Z
SUMMARY:Konzert mit dem Wittelsbacher Land Chor in Inchenhofen
DESCRIPTION:https://pfarreien-bistum-augsburg.df-preview.de/konzert-mit-dem
 -wittelsbacher-land-chor-in-inchenhofen_id1752208
DTSTART;TZID=Europe/Berlin:20260516T193000
DURATION:PT30M
LOCATION:St. Peter und Paul
END:VEVENT
BEGIN:VEVENT
UID:sabre-vobject-0fb61749-1881-4f68-99f9-2349e172bdae
DTSTAMP:20260422T073545Z
SUMMARY:Heiliges Amt
DESCRIPTION:https://pfarreien-bistum-augsburg.df-preview.de/heiliges-amt_id
 1752209
DTSTART;TZID=Europe/Berlin:20260517T100000
DURATION:PT30M
LOCATION:St. Peter und Paul
END:VEVENT
BEGIN:VEVENT
UID:sabre-vobject-d4fb414b-4e2f-4aea-bc5a-311271fda69b
DTSTAMP:20260422T073545Z
SUMMARY:Feierliche Maiandacht
DESCRIPTION:https://pfarreien-bistum-augsburg.df-preview.de/feierliche-maia
 ndacht_id1752210
DTSTART;TZID=Europe/Berlin:20260517T193000
DURATION:PT30M
LOCATION:St. Peter und Paul
END:VEVENT
BEGIN:VEVENT
UID:sabre-vobject-8fcf3d2e-eb02-4d77-952d-0087b15b1794
DTSTAMP:20260422T073545Z
SUMMARY:Bibelkreis im Pfarrzentrum
DESCRIPTION:https://pfarreien-bistum-augsburg.df-preview.de/bibelkreis-im-p
 farrzentrum_id1752211
DTSTART;TZID=Europe/Berlin:20260519T200000
DURATION:PT30M
LOCATION:St. Peter und Paul
END:VEVENT
BEGIN:VEVENT
UID:sabre-vobject-d33860cb-2d8d-4ea6-9d02-3d6cf405e5ad
DTSTAMP:20260422T073545Z
SUMMARY:Hl. Messe zum "Maiausflug" der Mitarbeiterinnen und Mitarbeiter der
  Kirchenstiftungen sowie aller Mitglieder der Pfarrgemeinderäte und Kirch
 enverwaltungen\nanschließend Einkehr im Sportheim H
DESCRIPTION:https://pfarreien-bistum-augsburg.df-preview.de/hl-messe-zum-ma
 iausflug-der-mitarbeiterinnen-und-mitarbeiter-der-kirchenstiftungen-sowie-
 aller-mitglieder-der-pfarrgemeinderaete-und-kirchenverwaltungen-anschliess
 end-einkehr-im-sportheim-h_id1752367
DTSTART;TZID=Europe/Berlin:20260520T190000
DURATION:PT30M
LOCATION:St. Peter und Paul
END:VEVENT
BEGIN:VEVENT
UID:sabre-vobject-11c32057-a3ac-45c8-b3da-85bbb9eec836
DTSTAMP:20260422T073545Z
SUMMARY:Hl. Messe
DESCRIPTION:https://pfarreien-bistum-augsburg.df-preview.de/hl-messe_id1752
 368
DTSTART;TZID=Europe/Berlin:20260521T190000
DURATION:PT30M
LOCATION:St. Peter und Paul
END:VEVENT
END:VCALENDAR
