BEGIN:VCALENDAR
VERSION:2.0
PRODID:-//Sabre//Sabre VObject 4.5.8//EN
CALSCALE:GREGORIAN
NAME:Bistum Augsburg
X-WR-CALNAME:Bistum Augsburg
BEGIN:VEVENT
UID:sabre-vobject-197d3531-afde-4fe3-9739-6c99cb1b4fd8
DTSTAMP:20260421T183214Z
SUMMARY:Heilige Messe
DESCRIPTION:https://pfarreien-bistum-augsburg.df-preview.de/heilige-messe_i
 d1736889
DTSTART;TZID=Europe/Berlin:20260422T090000
DURATION:PT30M
LOCATION:St. Wolfgang
END:VEVENT
BEGIN:VEVENT
UID:sabre-vobject-62d2487c-f9ae-40e8-aa51-2869a92b9352
DTSTAMP:20260421T183215Z
SUMMARY:Vorabendmesse als Dankgottesdienst der Erstkommunionkinder
DESCRIPTION:https://pfarreien-bistum-augsburg.df-preview.de/vorabendmesse-a
 ls-dankgottesdienst-der-erstkommunionkinder_id1745607
DTSTART;TZID=Europe/Berlin:20260425T190000
DURATION:PT30M
LOCATION:St. Wolfgang
END:VEVENT
BEGIN:VEVENT
UID:sabre-vobject-fb767d9d-06f5-4bb0-a78a-8fe11b01a092
DTSTAMP:20260421T183215Z
SUMMARY:Heilige Messe
DESCRIPTION:https://pfarreien-bistum-augsburg.df-preview.de/heilige-messe_i
 d1745608
DTSTART;TZID=Europe/Berlin:20260429T090000
DURATION:PT30M
LOCATION:St. Wolfgang
END:VEVENT
BEGIN:VEVENT
UID:sabre-vobject-f709c6c4-c3ef-49af-87ac-595f94a634ae
DTSTAMP:20260421T183215Z
SUMMARY:Heilige Messe mit den Wallfahrern aus Habertsweiler
DESCRIPTION:https://pfarreien-bistum-augsburg.df-preview.de/heilige-messe-m
 it-den-wallfahrern-aus-habertsweiler_id1745609
DTSTART;TZID=Europe/Berlin:20260501T083000
DURATION:PT30M
LOCATION:St. Wolfgang
END:VEVENT
BEGIN:VEVENT
UID:sabre-vobject-f039f21c-3906-4615-bc7b-a922e1e50b1d
DTSTAMP:20260421T183215Z
SUMMARY:Feierliche Maiandacht in der Herrgottsruhkapelle
DESCRIPTION:https://pfarreien-bistum-augsburg.df-preview.de/feierliche-maia
 ndacht-in-der-herrgottsruhkapelle_id1745610
DTSTART;TZID=Europe/Berlin:20260501T190000
DURATION:PT30M
LOCATION:St. Wolfgang
END:VEVENT
BEGIN:VEVENT
UID:sabre-vobject-944e6d6c-1f07-47d7-a0f3-30a3733e0b42
DTSTAMP:20260421T183215Z
SUMMARY:Heilige Messe
DESCRIPTION:https://pfarreien-bistum-augsburg.df-preview.de/heilige-messe_i
 d1745540
DTSTART;TZID=Europe/Berlin:20260503T083000
DURATION:PT30M
LOCATION:St. Wolfgang
END:VEVENT
BEGIN:VEVENT
UID:sabre-vobject-7fdc129b-34a7-4999-9869-5a2200242be0
DTSTAMP:20260421T183215Z
SUMMARY:Krankenkommunion
DESCRIPTION:https://pfarreien-bistum-augsburg.df-preview.de/krankenkommunio
 n_id1745355
DTSTART;TZID=Europe/Berlin:20260508T140000
DURATION:PT30M
LOCATION:St. Wolfgang
END:VEVENT
BEGIN:VEVENT
UID:sabre-vobject-7be6d9f4-7182-47d4-8ab6-0a9256685a66
DTSTAMP:20260421T183215Z
SUMMARY:Taufe von Mia Flenter
DESCRIPTION:https://pfarreien-bistum-augsburg.df-preview.de/taufe-von-mia-f
 lenter_id1745356
DTSTART;TZID=Europe/Berlin:20260509T110000
DURATION:PT30M
LOCATION:St. Wolfgang
END:VEVENT
BEGIN:VEVENT
UID:sabre-vobject-e5aa91dc-86c9-40b1-bbe9-db03037d895a
DTSTAMP:20260421T183215Z
SUMMARY:Vorabendmesse
DESCRIPTION:https://pfarreien-bistum-augsburg.df-preview.de/vorabendmesse_i
 d1745340
DTSTART;TZID=Europe/Berlin:20260509T190000
DURATION:PT30M
LOCATION:St. Wolfgang
END:VEVENT
BEGIN:VEVENT
UID:sabre-vobject-0b5a944b-6dac-446d-b21b-6997d5bd2ebb
DTSTAMP:20260421T183215Z
SUMMARY:Bittgang von Mickhausen nach Münster\, dort Hl. Messe
DESCRIPTION:https://pfarreien-bistum-augsburg.df-preview.de/bittgang-von-mi
 ckhausen-nach-muenster-dort-hl-messe_id1745187
DTSTART;TZID=Europe/Berlin:20260511T191000
DURATION:PT30M
LOCATION:St. Wolfgang
END:VEVENT
BEGIN:VEVENT
UID:sabre-vobject-833dad39-98f5-4c5a-812d-a7819f882dac
DTSTAMP:20260421T183215Z
SUMMARY:Bittrosenkranz
DESCRIPTION:https://pfarreien-bistum-augsburg.df-preview.de/bittrosenkranz_
 id1745188
DTSTART;TZID=Europe/Berlin:20260512T190000
DURATION:PT30M
LOCATION:St. Wolfgang
END:VEVENT
BEGIN:VEVENT
UID:sabre-vobject-16392dd2-b1a5-42df-95b3-03d293fb24c7
DTSTAMP:20260421T183215Z
SUMMARY:Bittgang
DESCRIPTION:https://pfarreien-bistum-augsburg.df-preview.de/bittgang_id1745
 189
DTSTART;TZID=Europe/Berlin:20260514T080000
DURATION:PT30M
LOCATION:St. Wolfgang
END:VEVENT
END:VCALENDAR
