BEGIN:VCALENDAR
VERSION:2.0
PRODID:-//Sabre//Sabre VObject 4.5.8//EN
CALSCALE:GREGORIAN
NAME:Bistum Augsburg
X-WR-CALNAME:Bistum Augsburg
BEGIN:VEVENT
UID:sabre-vobject-42c23f7b-784e-4ce3-929b-0f7ffa5ead4c
DTSTAMP:20260421T001716Z
SUMMARY:Heilige Messe
DESCRIPTION:https://pfarreien-bistum-augsburg.df-preview.de/heilige-messe_i
 d1743878
DTSTART;TZID=Europe/Berlin:20260421T190000
DURATION:PT30M
LOCATION:St. Ulrich und Martin
END:VEVENT
BEGIN:VEVENT
UID:sabre-vobject-b622b485-105e-485f-9df1-6783b28426a8
DTSTAMP:20260421T001716Z
SUMMARY:Rosenkranz
DESCRIPTION:https://pfarreien-bistum-augsburg.df-preview.de/rosenkranz_id17
 43791
DTSTART;TZID=Europe/Berlin:20260422T183000
DURATION:PT30M
LOCATION:St. Peter
END:VEVENT
BEGIN:VEVENT
UID:sabre-vobject-69b14421-6597-4782-9542-fee1bad21953
DTSTAMP:20260421T001716Z
SUMMARY:Heilige Messe
DESCRIPTION:https://pfarreien-bistum-augsburg.df-preview.de/heilige-messe_i
 d1743792
DTSTART;TZID=Europe/Berlin:20260422T190000
DURATION:PT30M
LOCATION:St. Peter
END:VEVENT
BEGIN:VEVENT
UID:sabre-vobject-e2e484e0-0b23-4b0e-9210-840b1e48f65e
DTSTAMP:20260421T001716Z
SUMMARY:Heilige Messe
DESCRIPTION:https://pfarreien-bistum-augsburg.df-preview.de/heilige-messe_i
 d1743912
DTSTART;TZID=Europe/Berlin:20260422T190000
DURATION:PT30M
LOCATION:St. Vitus
END:VEVENT
BEGIN:VEVENT
UID:sabre-vobject-5792f747-0a83-4151-b5a7-5130bf9a2fa9
DTSTAMP:20260421T001716Z
SUMMARY:Rosenkranz
DESCRIPTION:https://pfarreien-bistum-augsburg.df-preview.de/rosenkranz_id17
 43977
DTSTART;TZID=Europe/Berlin:20260422T190000
DURATION:PT30M
LOCATION:St. Ägidius
END:VEVENT
BEGIN:VEVENT
UID:sabre-vobject-cb7d2fac-c71e-40bb-b143-abd23138f92d
DTSTAMP:20260421T001716Z
SUMMARY:Heilige Messe
DESCRIPTION:https://pfarreien-bistum-augsburg.df-preview.de/heilige-messe_i
 d1743771
DTSTART;TZID=Europe/Berlin:20260423T190000
DURATION:PT30M
LOCATION:St. Michael
END:VEVENT
BEGIN:VEVENT
UID:sabre-vobject-0ef53f80-dd44-4cf4-933e-fef2ec0d13a1
DTSTAMP:20260421T001716Z
SUMMARY:Rosenkranz
DESCRIPTION:https://pfarreien-bistum-augsburg.df-preview.de/rosenkranz_id17
 43875
DTSTART;TZID=Europe/Berlin:20260423T190000
DURATION:PT30M
LOCATION:St. Veronika
END:VEVENT
BEGIN:VEVENT
UID:sabre-vobject-a4062c07-89f5-474f-8785-dcdcc38d2815
DTSTAMP:20260421T001716Z
SUMMARY:Heilige Messe
DESCRIPTION:https://pfarreien-bistum-augsburg.df-preview.de/heilige-messe_i
 d1743918
DTSTART;TZID=Europe/Berlin:20260423T190000
DURATION:PT30M
LOCATION:St. Otmar
END:VEVENT
BEGIN:VEVENT
UID:sabre-vobject-91282f3e-9801-491e-9419-eafbaf7a1f04
DTSTAMP:20260421T001716Z
SUMMARY:Bibelabend
DESCRIPTION:https://pfarreien-bistum-augsburg.df-preview.de/bibelabend_id17
 43919
DTSTART;TZID=Europe/Berlin:20260423T193000
DURATION:PT30M
LOCATION:St. Otmar
END:VEVENT
BEGIN:VEVENT
UID:sabre-vobject-32da7d2a-d3a7-440c-bb94-b4882678fba0
DTSTAMP:20260421T001716Z
SUMMARY:Bibelgesprächskreis im Gemeindesaal
DESCRIPTION:https://pfarreien-bistum-augsburg.df-preview.de/bibelgespraechs
 kreis-im-gemeindesaal_id1743876
DTSTART;TZID=Europe/Berlin:20260423T194500
DURATION:PT30M
LOCATION:St. Veronika
END:VEVENT
BEGIN:VEVENT
UID:sabre-vobject-1b21b771-b7f4-4be3-8b21-da2e01045767
DTSTAMP:20260421T001716Z
SUMMARY:"SingAlong" - gemeinsames Singen um FRIEDEN
DESCRIPTION:https://pfarreien-bistum-augsburg.df-preview.de/singalong-gemei
 nsames-singen-um-frieden_id1742638
DTSTART;TZID=Europe/Berlin:20260424T190000
DURATION:PT30M
LOCATION:St. Otmar
END:VEVENT
BEGIN:VEVENT
UID:sabre-vobject-1e857782-54a5-4347-a2b8-1dda0e5a37e8
DTSTAMP:20260421T001716Z
SUMMARY:"SingAlong" - gemeinsames Singen um FRIEDEN in der Klosterkirche M.
 M.
DESCRIPTION:https://pfarreien-bistum-augsburg.df-preview.de/singalong-gemei
 nsames-singen-um-frieden-in-der-klosterkirche-m-m_id1742718
DTSTART;TZID=Europe/Berlin:20260424T190000
DURATION:PT30M
LOCATION:St. Peter
END:VEVENT
BEGIN:VEVENT
UID:sabre-vobject-5892735e-a10e-4587-a62c-a145717f048b
DTSTAMP:20260421T001716Z
SUMMARY:"SingAlong" - gemeinsames Singen um FRIEDEN in der Klosterkirche M.
 M.
DESCRIPTION:https://pfarreien-bistum-augsburg.df-preview.de/singalong-gemei
 nsames-singen-um-frieden-in-der-klosterkirche-m-m_id1742719
DTSTART;TZID=Europe/Berlin:20260424T190000
DURATION:PT30M
LOCATION:St. Ägidius
END:VEVENT
BEGIN:VEVENT
UID:sabre-vobject-f66af79e-15a1-4aeb-af90-d66b74130910
DTSTAMP:20260421T001716Z
SUMMARY:"SingAlong" - gemeinsames Singen um FRIEDEN in der Klosterkirche M.
 M.
DESCRIPTION:https://pfarreien-bistum-augsburg.df-preview.de/singalong-gemei
 nsames-singen-um-frieden-in-der-klosterkirche-m-m_id1742729
DTSTART;TZID=Europe/Berlin:20260424T190000
DURATION:PT30M
LOCATION:St. Michael
END:VEVENT
BEGIN:VEVENT
UID:sabre-vobject-0ca47933-9b8e-41e8-98b8-0c59ba9b2225
DTSTAMP:20260421T001716Z
SUMMARY:"SingAlong" - gemeinsames Singen um FRIEDEN in der Klosterkirche M.
 M.
DESCRIPTION:https://pfarreien-bistum-augsburg.df-preview.de/singalong-gemei
 nsames-singen-um-frieden-in-der-klosterkirche-m-m_id1742730
DTSTART;TZID=Europe/Berlin:20260424T190000
DURATION:PT30M
LOCATION:St. Ulrich und Martin
END:VEVENT
BEGIN:VEVENT
UID:sabre-vobject-d3afcbd6-cfe0-4fbf-8142-0bcce0b14dba
DTSTAMP:20260421T001716Z
SUMMARY:"SingAlong" - gemeinsames Singen um FRIEDEN in der Klosterkirche M.
 M.
DESCRIPTION:https://pfarreien-bistum-augsburg.df-preview.de/singalong-gemei
 nsames-singen-um-frieden-in-der-klosterkirche-m-m_id1742738
DTSTART;TZID=Europe/Berlin:20260424T190000
DURATION:PT30M
LOCATION:St. Michael
END:VEVENT
BEGIN:VEVENT
UID:sabre-vobject-fc08243b-33a2-4105-a413-1c4e374986ea
DTSTAMP:20260421T001716Z
SUMMARY:"SingAlong" - gemeinsames Singen um FRIEDEN in der Klosterkirche M.
 M.
DESCRIPTION:https://pfarreien-bistum-augsburg.df-preview.de/singalong-gemei
 nsames-singen-um-frieden-in-der-klosterkirche-m-m_id1742751
DTSTART;TZID=Europe/Berlin:20260424T190000
DURATION:PT30M
LOCATION:St. Vitus
END:VEVENT
BEGIN:VEVENT
UID:sabre-vobject-3d2dc04f-fd57-4529-970a-481c5685db2c
DTSTAMP:20260421T001716Z
SUMMARY:"SingAlong" - gemeinsames Singen um FRIEDEN in der Klosterkirche M.
 M.
DESCRIPTION:https://pfarreien-bistum-augsburg.df-preview.de/singalong-gemei
 nsames-singen-um-frieden-in-der-klosterkirche-m-m_id1742828
DTSTART;TZID=Europe/Berlin:20260424T190000
DURATION:PT30M
LOCATION:St. Veronika
END:VEVENT
BEGIN:VEVENT
UID:sabre-vobject-a92ee41b-de2f-4e67-9c4e-05a1b3a349e8
DTSTAMP:20260421T001716Z
SUMMARY:"SingAlong" - gemeinsames Singen um FRIEDEN in der Klosterkirche M.
 M.
DESCRIPTION:https://pfarreien-bistum-augsburg.df-preview.de/singalong-gemei
 nsames-singen-um-frieden-in-der-klosterkirche-m-m_id1742846
DTSTART;TZID=Europe/Berlin:20260424T190000
DURATION:PT30M
LOCATION:St. Martin\, Vogteistraße 6\, 89446 Ziertheim
END:VEVENT
BEGIN:VEVENT
UID:sabre-vobject-3f791899-9162-4b76-83e8-9458ff3b08b7
DTSTAMP:20260421T001716Z
SUMMARY:Heilige Messe
DESCRIPTION:https://pfarreien-bistum-augsburg.df-preview.de/heilige-messe_i
 d1743903
DTSTART;TZID=Europe/Berlin:20260424T190000
DURATION:PT30M
LOCATION:St. Michael
END:VEVENT
BEGIN:VEVENT
UID:sabre-vobject-e4fa36d6-93cc-4ec2-91c1-d02309cf3a71
DTSTAMP:20260421T001716Z
SUMMARY:Pfarrgottesdienst
DESCRIPTION:https://pfarreien-bistum-augsburg.df-preview.de/pfarrgottesdien
 st_id1746744
DTSTART;TZID=Europe/Berlin:20260425T190000
DURATION:PT30M
LOCATION:St. Ulrich und Martin
END:VEVENT
BEGIN:VEVENT
UID:sabre-vobject-6deee436-f5ad-4b47-be41-f32b4c492729
DTSTAMP:20260421T001716Z
SUMMARY:Pfarrgottesdienst
DESCRIPTION:https://pfarreien-bistum-augsburg.df-preview.de/pfarrgottesdien
 st_id1746810
DTSTART;TZID=Europe/Berlin:20260425T190000
DURATION:PT30M
LOCATION:St. Ägidius
END:VEVENT
BEGIN:VEVENT
UID:sabre-vobject-2dfa3f3b-3a30-4cbd-abb0-03d9d94ac563
DTSTAMP:20260421T001716Z
SUMMARY:Gottesdienst
DESCRIPTION:https://pfarreien-bistum-augsburg.df-preview.de/gottesdienst_id
 1746772
DTSTART;TZID=Europe/Berlin:20260426T073000
DURATION:PT30M
LOCATION:St. Otmar
END:VEVENT
BEGIN:VEVENT
UID:sabre-vobject-4cdc42ba-6fbc-4b36-b580-b3fadda92b93
DTSTAMP:20260421T001716Z
SUMMARY:Pfarrgottesdienst
DESCRIPTION:https://pfarreien-bistum-augsburg.df-preview.de/pfarrgottesdien
 st_id1746746
DTSTART;TZID=Europe/Berlin:20260426T083000
DURATION:PT30M
LOCATION:St. Martin\, Vogteistraße 6\, 89446 Ziertheim
END:VEVENT
BEGIN:VEVENT
UID:sabre-vobject-1149edf2-45e1-4c31-9529-bd241f2a2640
DTSTAMP:20260421T001716Z
SUMMARY:Pfarrgottesdienst
DESCRIPTION:https://pfarreien-bistum-augsburg.df-preview.de/pfarrgottesdien
 st_id1746705
DTSTART;TZID=Europe/Berlin:20260426T084500
DURATION:PT30M
LOCATION:St. Peter
END:VEVENT
BEGIN:VEVENT
UID:sabre-vobject-15b06c2e-18e7-489b-9700-d797f91f995c
DTSTAMP:20260421T001716Z
SUMMARY:Festgottesdienst zur Feier der Erstkommunion der Kinder aus Berghei
 m und Reistingen
DESCRIPTION:https://pfarreien-bistum-augsburg.df-preview.de/festgottesdiens
 t-zur-feier-der-erstkommunion-der-kinder-aus-bergheim-und-reistingen_id174
 6735
DTSTART;TZID=Europe/Berlin:20260426T100000
DURATION:PT30M
LOCATION:St. Ulrich und Martin
END:VEVENT
BEGIN:VEVENT
UID:sabre-vobject-1ff58dce-43f8-4fbb-868e-7eca64b418a8
DTSTAMP:20260421T001716Z
SUMMARY:Pfarrgottesdienst
DESCRIPTION:https://pfarreien-bistum-augsburg.df-preview.de/pfarrgottesdien
 st_id1746754
DTSTART;TZID=Europe/Berlin:20260426T100000
DURATION:PT30M
LOCATION:St. Michael
END:VEVENT
BEGIN:VEVENT
UID:sabre-vobject-bbc35775-23c8-4436-9b5b-87db4819df17
DTSTAMP:20260421T001716Z
SUMMARY:Festgottesdienst zur Feier der Erstkommunion der Kinder aus Berghei
 m und Reisingen in der Kirche Wittislingen
DESCRIPTION:https://pfarreien-bistum-augsburg.df-preview.de/festgottesdiens
 t-zur-feier-der-erstkommunion-der-kinder-aus-bergheim-und-reisingen-in-der
 -kirche-wittislingen_id1746762
DTSTART;TZID=Europe/Berlin:20260426T100000
DURATION:PT30M
LOCATION:St. Michael
END:VEVENT
BEGIN:VEVENT
UID:sabre-vobject-325bd542-8174-4dba-9a4b-396401727ba4
DTSTAMP:20260421T001716Z
SUMMARY:Festgottesdienst zur Feier der Erstkommunion der Kinder Bergheim un
 d Reistingen in der Kirche Wittislingen
DESCRIPTION:https://pfarreien-bistum-augsburg.df-preview.de/festgottesdiens
 t-zur-feier-der-erstkommunion-der-kinder-bergheim-und-reistingen-in-der-ki
 rche-wittislingen_id1746768
DTSTART;TZID=Europe/Berlin:20260426T100000
DURATION:PT30M
LOCATION:St. Vitus
END:VEVENT
BEGIN:VEVENT
UID:sabre-vobject-89e9fbd9-aba6-4aa0-a00a-d16e23c51c96
DTSTAMP:20260421T001716Z
SUMMARY:Rosenkranz in der Friedhofkapelle
DESCRIPTION:https://pfarreien-bistum-augsburg.df-preview.de/rosenkranz-in-d
 er-friedhofkapelle_id1746736
DTSTART;TZID=Europe/Berlin:20260426T130000
DURATION:PT30M
LOCATION:St. Ulrich und Martin
END:VEVENT
BEGIN:VEVENT
UID:sabre-vobject-7dfd84ca-9663-42dc-bdc7-3b330f3853ad
DTSTAMP:20260421T001716Z
SUMMARY:Pfarrgottesdienst
DESCRIPTION:https://pfarreien-bistum-augsburg.df-preview.de/pfarrgottesdien
 st_id1746773
DTSTART;TZID=Europe/Berlin:20260426T190000
DURATION:PT30M
LOCATION:St. Otmar
END:VEVENT
BEGIN:VEVENT
UID:sabre-vobject-9d5185f7-45d1-49fc-9dd8-b0204a7572de
DTSTAMP:20260421T001716Z
SUMMARY:Heilige Messe
DESCRIPTION:https://pfarreien-bistum-augsburg.df-preview.de/heilige-messe_i
 d1746737
DTSTART;TZID=Europe/Berlin:20260428T190000
DURATION:PT30M
LOCATION:St. Ulrich und Martin
END:VEVENT
BEGIN:VEVENT
UID:sabre-vobject-3911f8b0-06d5-489b-afe8-37aa4e3bb508
DTSTAMP:20260421T001716Z
SUMMARY:Rosenkranz
DESCRIPTION:https://pfarreien-bistum-augsburg.df-preview.de/rosenkranz_id17
 46697
DTSTART;TZID=Europe/Berlin:20260429T183000
DURATION:PT30M
LOCATION:St. Peter
END:VEVENT
BEGIN:VEVENT
UID:sabre-vobject-b5d284b1-830a-421d-ae60-98962568551d
DTSTAMP:20260421T001716Z
SUMMARY:Heilige Messe
DESCRIPTION:https://pfarreien-bistum-augsburg.df-preview.de/heilige-messe_i
 d1746769
DTSTART;TZID=Europe/Berlin:20260429T190000
DURATION:PT30M
LOCATION:St. Vitus
END:VEVENT
BEGIN:VEVENT
UID:sabre-vobject-43992480-863b-4549-a4b9-e1456cf339b3
DTSTAMP:20260421T001716Z
SUMMARY:Heilige Messe
DESCRIPTION:https://pfarreien-bistum-augsburg.df-preview.de/heilige-messe_i
 d1746755
DTSTART;TZID=Europe/Berlin:20260430T190000
DURATION:PT30M
LOCATION:St. Michael
END:VEVENT
BEGIN:VEVENT
UID:sabre-vobject-61682d19-0ec1-4637-b7d8-de644cfceb88
DTSTAMP:20260421T001716Z
SUMMARY:Gottesdienst
DESCRIPTION:https://pfarreien-bistum-augsburg.df-preview.de/gottesdienst_id
 1745708
DTSTART;TZID=Europe/Berlin:20260501T080000
DURATION:PT30M
LOCATION:St. Otmar
END:VEVENT
BEGIN:VEVENT
UID:sabre-vobject-98cf3baa-5482-4754-a39b-97e6be702983
DTSTAMP:20260421T001716Z
SUMMARY:Festgottesdienst
DESCRIPTION:https://pfarreien-bistum-augsburg.df-preview.de/festgottesdiens
 t_id1746698
DTSTART;TZID=Europe/Berlin:20260501T084500
DURATION:PT30M
LOCATION:St. Peter
END:VEVENT
BEGIN:VEVENT
UID:sabre-vobject-9d8f5fa6-71af-4648-9a3d-88155a1d0978
DTSTAMP:20260421T001716Z
SUMMARY:Festgottesdienst
DESCRIPTION:https://pfarreien-bistum-augsburg.df-preview.de/festgottesdiens
 t_id1745709
DTSTART;TZID=Europe/Berlin:20260501T100000
DURATION:PT30M
LOCATION:St. Otmar
END:VEVENT
BEGIN:VEVENT
UID:sabre-vobject-adc1a616-5c16-49d6-bfbb-0e4dbe1be7a4
DTSTAMP:20260421T001716Z
SUMMARY:Maiandacht
DESCRIPTION:https://pfarreien-bistum-augsburg.df-preview.de/maiandacht_id17
 46699
DTSTART;TZID=Europe/Berlin:20260501T183000
DURATION:PT30M
LOCATION:St. Peter
END:VEVENT
BEGIN:VEVENT
UID:sabre-vobject-aad2e847-7d05-478b-a65c-f89a8de865f3
DTSTAMP:20260421T001716Z
SUMMARY:Maiandacht mit Aussetzung des Allerheiligsten
DESCRIPTION:https://pfarreien-bistum-augsburg.df-preview.de/maiandacht-mit-
 aussetzung-des-allerheiligsten_id1746756
DTSTART;TZID=Europe/Berlin:20260501T183000
DURATION:PT30M
LOCATION:St. Michael
END:VEVENT
BEGIN:VEVENT
UID:sabre-vobject-98842fa2-3eaa-4584-b9f4-402f96331fa2
DTSTAMP:20260421T001716Z
SUMMARY:Maiandacht
DESCRIPTION:https://pfarreien-bistum-augsburg.df-preview.de/maiandacht_id17
 46738
DTSTART;TZID=Europe/Berlin:20260501T190000
DURATION:PT30M
LOCATION:St. Ulrich und Martin
END:VEVENT
BEGIN:VEVENT
UID:sabre-vobject-820221cd-ad0d-4868-bf7d-8cfbcb61620f
DTSTAMP:20260421T001716Z
SUMMARY:Maiandacht - Opfer f.d.Maialtar
DESCRIPTION:https://pfarreien-bistum-augsburg.df-preview.de/maiandacht-opfe
 r-f-d-maialtar_id1746743
DTSTART;TZID=Europe/Berlin:20260501T190000
DURATION:PT30M
LOCATION:St. Veronika
END:VEVENT
BEGIN:VEVENT
UID:sabre-vobject-77b9edb0-8224-435f-a749-fa22a0c7199b
DTSTAMP:20260421T001716Z
SUMMARY:Maiandacht
DESCRIPTION:https://pfarreien-bistum-augsburg.df-preview.de/maiandacht_id17
 46770
DTSTART;TZID=Europe/Berlin:20260501T190000
DURATION:PT30M
LOCATION:St. Vitus
END:VEVENT
BEGIN:VEVENT
UID:sabre-vobject-1e6e9e30-fe3f-488d-9e41-d41d38c9eaab
DTSTAMP:20260421T001716Z
SUMMARY:Maiandacht
DESCRIPTION:https://pfarreien-bistum-augsburg.df-preview.de/maiandacht_id17
 46811
DTSTART;TZID=Europe/Berlin:20260501T190000
DURATION:PT30M
LOCATION:St. Ägidius
END:VEVENT
BEGIN:VEVENT
UID:sabre-vobject-cdfd1a2f-23dc-47ac-a59b-be15f0bc7def
DTSTAMP:20260421T001716Z
SUMMARY:Wallfahrt Wemding
DESCRIPTION:https://pfarreien-bistum-augsburg.df-preview.de/wallfahrt-wemdi
 ng_id1746747
DTSTART;TZID=Europe/Berlin:20260502T000000
DURATION:PT30M
LOCATION:St. Martin\, Vogteistraße 6\, 89446 Ziertheim
END:VEVENT
BEGIN:VEVENT
UID:sabre-vobject-87bc81ca-772d-4e03-9578-14bf14dacd28
DTSTAMP:20260421T001716Z
SUMMARY:Festgottesdienst zur Feier der Erstkommunion der Kinder aus Möding
 en\, Dattenhausen und Burghagel in der Kirche Wittislingen
DESCRIPTION:https://pfarreien-bistum-augsburg.df-preview.de/festgottesdiens
 t-zur-feier-der-erstkommunion-der-kinder-aus-moedingen-dattenhausen-und-bu
 rghagel-in-der-kirche-wittislingen_id1746700
DTSTART;TZID=Europe/Berlin:20260502T100000
DURATION:PT30M
LOCATION:St. Peter
END:VEVENT
BEGIN:VEVENT
UID:sabre-vobject-08610361-f544-491c-92e8-20abe8ca1710
DTSTAMP:20260421T001716Z
SUMMARY:Festgottesdienst zur Feier der Erstkommunion der Kinder aus Möding
 en\, Dattenhausen und Burghagel
DESCRIPTION:https://pfarreien-bistum-augsburg.df-preview.de/festgottesdiens
 t-zur-feier-der-erstkommunion-der-kinder-aus-moedingen-dattenhausen-und-bu
 rghagel_id1746741
DTSTART;TZID=Europe/Berlin:20260502T100000
DURATION:PT30M
LOCATION:St. Ulrich und Martin
END:VEVENT
BEGIN:VEVENT
UID:sabre-vobject-26765bed-99cc-4328-b7f8-a21a218930c9
DTSTAMP:20260421T001716Z
SUMMARY:Festgottesdienst zur Feier der Erstkommunion der Kinder aus Möding
 en\, Dattenhausen und Burghagel in der Kirche Wittislingen
DESCRIPTION:https://pfarreien-bistum-augsburg.df-preview.de/festgottesdiens
 t-zur-feier-der-erstkommunion-der-kinder-aus-moedingen-dattenhausen-und-bu
 rghagel-in-der-kirche-wittislingen_id1746785
DTSTART;TZID=Europe/Berlin:20260502T100000
DURATION:PT30M
LOCATION:St. Otmar
END:VEVENT
BEGIN:VEVENT
UID:sabre-vobject-31fc9019-0012-4c9c-804f-539db8fa8f83
DTSTAMP:20260421T001716Z
SUMMARY:Festgottesdienst zur Feier der Erstkommunion der Kinder aus Möding
 en\, Dattenhausen und Burghagel in der Kirche Wittislingen
DESCRIPTION:https://pfarreien-bistum-augsburg.df-preview.de/festgottesdiens
 t-zur-feier-der-erstkommunion-der-kinder-aus-moedingen-dattenhausen-und-bu
 rghagel-in-der-kirche-wittislingen_id1746787
DTSTART;TZID=Europe/Berlin:20260502T100000
DURATION:PT30M
LOCATION:St. Martin\, Vogteistraße 6\, 89446 Ziertheim
END:VEVENT
BEGIN:VEVENT
UID:sabre-vobject-f12913a4-f646-448e-ba3f-789ebc589233
DTSTAMP:20260421T001716Z
SUMMARY:Pfarrgottesdienst
DESCRIPTION:https://pfarreien-bistum-augsburg.df-preview.de/pfarrgottesdien
 st_id1746763
DTSTART;TZID=Europe/Berlin:20260502T190000
DURATION:PT30M
LOCATION:St. Michael
END:VEVENT
BEGIN:VEVENT
UID:sabre-vobject-ba9ef8f2-f9d4-40a5-8bdd-345504db20d9
DTSTAMP:20260421T001716Z
SUMMARY:Gottesdienst
DESCRIPTION:https://pfarreien-bistum-augsburg.df-preview.de/gottesdienst_id
 1746786
DTSTART;TZID=Europe/Berlin:20260503T073000
DURATION:PT30M
LOCATION:St. Otmar
END:VEVENT
BEGIN:VEVENT
UID:sabre-vobject-97fcf3f6-bc94-4d0c-85a2-d326f4f5b84f
DTSTAMP:20260421T001716Z
SUMMARY:Pfarrgottesdienst
DESCRIPTION:https://pfarreien-bistum-augsburg.df-preview.de/pfarrgottesdien
 st_id1746742
DTSTART;TZID=Europe/Berlin:20260503T084500
DURATION:PT30M
LOCATION:St. Ulrich und Martin
END:VEVENT
BEGIN:VEVENT
UID:sabre-vobject-288ac2dc-f10e-4ebf-9350-7153501c117d
DTSTAMP:20260421T001716Z
SUMMARY:Pfarrgottesdienst
DESCRIPTION:https://pfarreien-bistum-augsburg.df-preview.de/pfarrgottesdien
 st_id1746757
DTSTART;TZID=Europe/Berlin:20260503T084500
DURATION:PT30M
LOCATION:St. Michael
END:VEVENT
BEGIN:VEVENT
UID:sabre-vobject-b60fe9ce-eb94-4316-8636-e09d0ec70e2f
DTSTAMP:20260421T001716Z
SUMMARY:Pfarrgottesdienst
DESCRIPTION:https://pfarreien-bistum-augsburg.df-preview.de/pfarrgottesdien
 st_id1746696
DTSTART;TZID=Europe/Berlin:20260503T100000
DURATION:PT30M
LOCATION:St. Peter
END:VEVENT
BEGIN:VEVENT
UID:sabre-vobject-14fd8518-0299-4a03-9411-322a61aea50e
DTSTAMP:20260421T001716Z
SUMMARY:Pfarrgottesdienst
DESCRIPTION:https://pfarreien-bistum-augsburg.df-preview.de/pfarrgottesdien
 st_id1746745
DTSTART;TZID=Europe/Berlin:20260503T100000
DURATION:PT30M
LOCATION:St. Veronika
END:VEVENT
BEGIN:VEVENT
UID:sabre-vobject-c05c61f5-ad66-4f9d-8c0c-d6591b4c7d52
DTSTAMP:20260421T001716Z
SUMMARY:Maiandacht mit Wemding-Wallfahrer - Opfer f. d. Maialtar
DESCRIPTION:https://pfarreien-bistum-augsburg.df-preview.de/maiandacht-mit-
 wemding-wallfahrer-opfer-f-d-maialtar_id1746788
DTSTART;TZID=Europe/Berlin:20260503T180000
DURATION:PT30M
LOCATION:St. Martin\, Vogteistraße 6\, 89446 Ziertheim
END:VEVENT
BEGIN:VEVENT
UID:sabre-vobject-13e4651e-3250-4190-a432-65ed90faeb09
DTSTAMP:20260421T001716Z
SUMMARY:Maiandacht
DESCRIPTION:https://pfarreien-bistum-augsburg.df-preview.de/maiandacht_id17
 46758
DTSTART;TZID=Europe/Berlin:20260503T183000
DURATION:PT30M
LOCATION:St. Michael
END:VEVENT
BEGIN:VEVENT
UID:sabre-vobject-b05e0666-df58-447a-a50c-d3d42b5e66a7
DTSTAMP:20260421T001716Z
SUMMARY:Pfarrgottesdienst
DESCRIPTION:https://pfarreien-bistum-augsburg.df-preview.de/pfarrgottesdien
 st_id1746740
DTSTART;TZID=Europe/Berlin:20260503T190000
DURATION:PT30M
LOCATION:St. Ägidius
END:VEVENT
BEGIN:VEVENT
UID:sabre-vobject-9e124a73-7e75-4468-bd30-f5e652d4f863
DTSTAMP:20260421T001716Z
SUMMARY:Pfarrgottesdienst
DESCRIPTION:https://pfarreien-bistum-augsburg.df-preview.de/pfarrgottesdien
 st_id1746771
DTSTART;TZID=Europe/Berlin:20260503T190000
DURATION:PT30M
LOCATION:St. Otmar
END:VEVENT
END:VCALENDAR
