BEGIN:VCALENDAR
VERSION:2.0
PRODID:-//Sabre//Sabre VObject 4.5.8//EN
CALSCALE:GREGORIAN
NAME:Bistum Augsburg
X-WR-CALNAME:Bistum Augsburg
BEGIN:VEVENT
UID:sabre-vobject-597d2da1-f3fe-47b3-89b0-f1e30cd8fef9
DTSTAMP:20260421T084330Z
SUMMARY:Hl. Messe (Aschering)
DESCRIPTION:https://pfarreien-bistum-augsburg.df-preview.de/hl-messe-ascher
 ing_id1735416
DTSTART;TZID=Europe/Berlin:20260423T190000
DURATION:PT30M
LOCATION:St. Pius
END:VEVENT
BEGIN:VEVENT
UID:sabre-vobject-14806afd-335a-45e9-a7ed-ab11efc64fb8
DTSTAMP:20260421T084330Z
SUMMARY:Glaubensstammtisch im Gasthaus zur Post in Pöcking
DESCRIPTION:https://pfarreien-bistum-augsburg.df-preview.de/glaubensstammti
 sch-im-gasthaus-zur-post-in-poecking_id1735418
DTSTART;TZID=Europe/Berlin:20260424T190000
DURATION:PT30M
LOCATION:St. Pius
END:VEVENT
BEGIN:VEVENT
UID:sabre-vobject-98d0b1fd-d8c1-4faa-931a-7e18528e4b24
DTSTAMP:20260421T084330Z
SUMMARY:Hl. Messe
DESCRIPTION:https://pfarreien-bistum-augsburg.df-preview.de/hl-messe_id1735
 419
DTSTART;TZID=Europe/Berlin:20260425T180000
DURATION:PT30M
LOCATION:St. Pius
END:VEVENT
END:VCALENDAR
