BEGIN:VCALENDAR
VERSION:2.0
PRODID:-//Sabre//Sabre VObject 4.5.8//EN
CALSCALE:GREGORIAN
NAME:Bistum Augsburg
X-WR-CALNAME:Bistum Augsburg
BEGIN:VEVENT
UID:sabre-vobject-cac1ee56-f2e8-4cba-bedd-c0e8b4f02ca2
DTSTAMP:20260420T084544Z
SUMMARY:Rosenkranz / Betstunde\, gestaltet von Schönstatt
DESCRIPTION:https://pfarreien-bistum-augsburg.df-preview.de/rosenkranz-bets
 tunde-gestaltet-von-schoenstatt_id1740098
DTSTART;TZID=Europe/Berlin:20260420T170000
DURATION:PT30M
LOCATION:Christkönig
END:VEVENT
BEGIN:VEVENT
UID:sabre-vobject-df588ec9-52f2-41ce-89b3-32498dc3d4f7
DTSTAMP:20260420T084544Z
SUMMARY:Rosenkranz
DESCRIPTION:https://pfarreien-bistum-augsburg.df-preview.de/rosenkranz_id17
 40099
DTSTART;TZID=Europe/Berlin:20260421T170000
DURATION:PT30M
LOCATION:Christkönig
END:VEVENT
BEGIN:VEVENT
UID:sabre-vobject-8636258c-70f2-4bb7-9f74-8e561f4afac6
DTSTAMP:20260420T084544Z
SUMMARY:Heilige Messe
DESCRIPTION:https://pfarreien-bistum-augsburg.df-preview.de/heilige-messe_i
 d1740103
DTSTART;TZID=Europe/Berlin:20260422T083000
DURATION:PT30M
LOCATION:Christkönig
END:VEVENT
BEGIN:VEVENT
UID:sabre-vobject-07894344-c03a-4f58-8533-87d09fb2349f
DTSTAMP:20260420T084544Z
SUMMARY:Beten für Kinder
DESCRIPTION:https://pfarreien-bistum-augsburg.df-preview.de/beten-fuer-kind
 er_id1740105
DTSTART;TZID=Europe/Berlin:20260422T091500
DURATION:PT30M
LOCATION:Christkönig
END:VEVENT
BEGIN:VEVENT
UID:sabre-vobject-419adb68-fe38-4f6d-a19c-35f1aa6671c6
DTSTAMP:20260420T084544Z
SUMMARY:Rosenkranz
DESCRIPTION:https://pfarreien-bistum-augsburg.df-preview.de/rosenkranz_id17
 40106
DTSTART;TZID=Europe/Berlin:20260422T170000
DURATION:PT30M
LOCATION:Christkönig
END:VEVENT
BEGIN:VEVENT
UID:sabre-vobject-4d45a0f9-892d-47d3-a0df-f55ca7ea67f3
DTSTAMP:20260420T084544Z
SUMMARY:Rosenkranz
DESCRIPTION:https://pfarreien-bistum-augsburg.df-preview.de/rosenkranz_id17
 40108
DTSTART;TZID=Europe/Berlin:20260423T173000
DURATION:PT30M
LOCATION:Christkönig
END:VEVENT
BEGIN:VEVENT
UID:sabre-vobject-78ae26d9-8717-4665-86cf-aa11f5ed7acf
DTSTAMP:20260420T084544Z
SUMMARY:Heilige Messe
DESCRIPTION:https://pfarreien-bistum-augsburg.df-preview.de/heilige-messe_i
 d1740062
DTSTART;TZID=Europe/Berlin:20260423T183000
DURATION:PT30M
LOCATION:Christkönig
END:VEVENT
BEGIN:VEVENT
UID:sabre-vobject-cfdfd655-ce7b-467c-aef6-9b41e6cc0392
DTSTAMP:20260420T084544Z
SUMMARY:Anbetung vor dem Allerheiligsten
DESCRIPTION:https://pfarreien-bistum-augsburg.df-preview.de/anbetung-vor-de
 m-allerheiligsten_id1739922
DTSTART;TZID=Europe/Berlin:20260423T190000
DURATION:PT30M
LOCATION:Christkönig
END:VEVENT
BEGIN:VEVENT
UID:sabre-vobject-c0423350-f1d4-4ad3-8312-ba56c341cada
DTSTAMP:20260420T084544Z
SUMMARY:Rosenkranz
DESCRIPTION:https://pfarreien-bistum-augsburg.df-preview.de/rosenkranz_id17
 39933
DTSTART;TZID=Europe/Berlin:20260424T170000
DURATION:PT30M
LOCATION:Christkönig
END:VEVENT
BEGIN:VEVENT
UID:sabre-vobject-f2737151-fe91-41f7-882b-e63c8cce281e
DTSTAMP:20260420T084544Z
SUMMARY:Rosenkranz
DESCRIPTION:https://pfarreien-bistum-augsburg.df-preview.de/rosenkranz_id17
 39117
DTSTART;TZID=Europe/Berlin:20260425T170000
DURATION:PT30M
LOCATION:Christkönig
END:VEVENT
BEGIN:VEVENT
UID:sabre-vobject-4ebd9d6e-8796-44dc-815f-d538c10f26f8
DTSTAMP:20260420T084544Z
SUMMARY:Wortgottesfeier mit Kommunionspendung
DESCRIPTION:https://pfarreien-bistum-augsburg.df-preview.de/wortgottesfeier
 -mit-kommunionspendung_id1739118
DTSTART;TZID=Europe/Berlin:20260426T084500
DURATION:PT30M
LOCATION:Christkönig
END:VEVENT
BEGIN:VEVENT
UID:sabre-vobject-c852e2af-29c0-47aa-9046-a6d9db8b984c
DTSTAMP:20260420T084544Z
SUMMARY:Rosenkranz
DESCRIPTION:https://pfarreien-bistum-augsburg.df-preview.de/rosenkranz_id17
 39119
DTSTART;TZID=Europe/Berlin:20260426T170000
DURATION:PT30M
LOCATION:Christkönig
END:VEVENT
BEGIN:VEVENT
UID:sabre-vobject-72f0ce0e-4713-4b20-a9ad-38744715d83d
DTSTAMP:20260420T084544Z
SUMMARY:Wortgottesfeier mit Kommunionspendung   e n t f ä l l t
DESCRIPTION:https://pfarreien-bistum-augsburg.df-preview.de/wortgottesfeier
 -mit-kommunionspendung-e-n-t-f-ae-l-l-t_id1739083
DTSTART;TZID=Europe/Berlin:20260426T180000
DURATION:PT30M
LOCATION:Christkönig
END:VEVENT
BEGIN:VEVENT
UID:sabre-vobject-ad530551-c76a-4156-b101-a90d69d50492
DTSTAMP:20260420T084544Z
SUMMARY:Rosenkranz / Betstunde\, gestaltet von Schönstatt
DESCRIPTION:https://pfarreien-bistum-augsburg.df-preview.de/rosenkranz-bets
 tunde-gestaltet-von-schoenstatt_id1739116
DTSTART;TZID=Europe/Berlin:20260427T170000
DURATION:PT30M
LOCATION:Christkönig
END:VEVENT
BEGIN:VEVENT
UID:sabre-vobject-e8d43db1-d91e-42e9-87e3-9e656f046221
DTSTAMP:20260420T084544Z
SUMMARY:Rosenkranz
DESCRIPTION:https://pfarreien-bistum-augsburg.df-preview.de/rosenkranz_id17
 39127
DTSTART;TZID=Europe/Berlin:20260428T170000
DURATION:PT30M
LOCATION:Christkönig
END:VEVENT
BEGIN:VEVENT
UID:sabre-vobject-641214c5-9973-45e4-b3b5-f9bbeab2d299
DTSTAMP:20260420T084544Z
SUMMARY:Heilige Messe
DESCRIPTION:https://pfarreien-bistum-augsburg.df-preview.de/heilige-messe_i
 d1739128
DTSTART;TZID=Europe/Berlin:20260429T083000
DURATION:PT30M
LOCATION:Christkönig
END:VEVENT
BEGIN:VEVENT
UID:sabre-vobject-b6a88e97-bff3-463b-87a1-10eab632507e
DTSTAMP:20260420T084544Z
SUMMARY:Beten für Kinder
DESCRIPTION:https://pfarreien-bistum-augsburg.df-preview.de/beten-fuer-kind
 er_id1739129
DTSTART;TZID=Europe/Berlin:20260429T091500
DURATION:PT30M
LOCATION:Christkönig
END:VEVENT
BEGIN:VEVENT
UID:sabre-vobject-ad088767-5d56-4dbc-bdd6-6cf9cacf4aff
DTSTAMP:20260420T084544Z
SUMMARY:Rosenkranz
DESCRIPTION:https://pfarreien-bistum-augsburg.df-preview.de/rosenkranz_id17
 39149
DTSTART;TZID=Europe/Berlin:20260429T170000
DURATION:PT30M
LOCATION:Christkönig
END:VEVENT
BEGIN:VEVENT
UID:sabre-vobject-f4959e00-09de-4251-90c7-93a2253e4333
DTSTAMP:20260420T084544Z
SUMMARY:Rosenkranz
DESCRIPTION:https://pfarreien-bistum-augsburg.df-preview.de/rosenkranz_id17
 39150
DTSTART;TZID=Europe/Berlin:20260430T173000
DURATION:PT30M
LOCATION:Christkönig
END:VEVENT
BEGIN:VEVENT
UID:sabre-vobject-356ea6bd-2eab-4289-a045-3f1eb6cc17cb
DTSTAMP:20260420T084544Z
SUMMARY:Heilige Messe
DESCRIPTION:https://pfarreien-bistum-augsburg.df-preview.de/heilige-messe_i
 d1739151
DTSTART;TZID=Europe/Berlin:20260430T183000
DURATION:PT30M
LOCATION:Christkönig
END:VEVENT
BEGIN:VEVENT
UID:sabre-vobject-aac61048-ad66-4bc5-8b56-3fad12138103
DTSTAMP:20260420T084544Z
SUMMARY:Anbetung vor dem Allerheiligsten
DESCRIPTION:https://pfarreien-bistum-augsburg.df-preview.de/anbetung-vor-de
 m-allerheiligsten_id1739460
DTSTART;TZID=Europe/Berlin:20260430T190000
DURATION:PT30M
LOCATION:Christkönig
END:VEVENT
BEGIN:VEVENT
UID:sabre-vobject-9a5af88b-6d93-4e53-847d-f63dc72cf01b
DTSTAMP:20260420T084544Z
SUMMARY:Rosenkranz
DESCRIPTION:https://pfarreien-bistum-augsburg.df-preview.de/rosenkranz_id17
 39153
DTSTART;TZID=Europe/Berlin:20260501T170000
DURATION:PT30M
LOCATION:Christkönig
END:VEVENT
BEGIN:VEVENT
UID:sabre-vobject-c42f388f-e405-4929-9230-2b7091b2cecc
DTSTAMP:20260420T084544Z
SUMMARY:Festmesse
DESCRIPTION:https://pfarreien-bistum-augsburg.df-preview.de/festmesse_id173
 9156
DTSTART;TZID=Europe/Berlin:20260501T183000
DURATION:PT30M
LOCATION:Christkönig
END:VEVENT
BEGIN:VEVENT
UID:sabre-vobject-da2c4ff2-7e55-4803-a905-c323f5e8d547
DTSTAMP:20260420T084544Z
SUMMARY:Rosenkranz
DESCRIPTION:https://pfarreien-bistum-augsburg.df-preview.de/rosenkranz_id17
 39160
DTSTART;TZID=Europe/Berlin:20260502T170000
DURATION:PT30M
LOCATION:Christkönig
END:VEVENT
BEGIN:VEVENT
UID:sabre-vobject-df0ac511-0d1e-4803-910a-8817b4f7fdfb
DTSTAMP:20260420T084544Z
SUMMARY:Pfarrgottesdienst
DESCRIPTION:https://pfarreien-bistum-augsburg.df-preview.de/pfarrgottesdien
 st_id1739162
DTSTART;TZID=Europe/Berlin:20260503T084500
DURATION:PT30M
LOCATION:Christkönig
END:VEVENT
BEGIN:VEVENT
UID:sabre-vobject-5dd4d493-54df-440d-a63a-c83c6884d005
DTSTAMP:20260420T084544Z
SUMMARY:Rosenkranz
DESCRIPTION:https://pfarreien-bistum-augsburg.df-preview.de/rosenkranz_id17
 39163
DTSTART;TZID=Europe/Berlin:20260503T170000
DURATION:PT30M
LOCATION:Christkönig
END:VEVENT
BEGIN:VEVENT
UID:sabre-vobject-3dfde84e-6313-4576-9b50-2dd418b86525
DTSTAMP:20260420T084544Z
SUMMARY:Beichtgelegenheit
DESCRIPTION:https://pfarreien-bistum-augsburg.df-preview.de/beichtgelegenhe
 it_id1739196
DTSTART;TZID=Europe/Berlin:20260503T173000
DURATION:PT30M
LOCATION:Christkönig
END:VEVENT
BEGIN:VEVENT
UID:sabre-vobject-37c462d2-0564-4322-a1f3-b75132d5ee9e
DTSTAMP:20260420T084544Z
SUMMARY:Abendgottesdienst
DESCRIPTION:https://pfarreien-bistum-augsburg.df-preview.de/abendgottesdien
 st_id1739183
DTSTART;TZID=Europe/Berlin:20260503T180000
DURATION:PT30M
LOCATION:Christkönig
END:VEVENT
BEGIN:VEVENT
UID:sabre-vobject-7e8991aa-02de-496c-a709-d2254daa5bb1
DTSTAMP:20260420T084544Z
SUMMARY:Rosenkranz / Betstunde\, gestaltet von Schönstatt
DESCRIPTION:https://pfarreien-bistum-augsburg.df-preview.de/rosenkranz-bets
 tunde-gestaltet-von-schoenstatt_id1739184
DTSTART;TZID=Europe/Berlin:20260504T170000
DURATION:PT30M
LOCATION:Christkönig
END:VEVENT
BEGIN:VEVENT
UID:sabre-vobject-0bd46424-af59-4c35-a0ca-13d722a5a5fa
DTSTAMP:20260420T084544Z
SUMMARY:Rosenkranz
DESCRIPTION:https://pfarreien-bistum-augsburg.df-preview.de/rosenkranz_id17
 39185
DTSTART;TZID=Europe/Berlin:20260505T170000
DURATION:PT30M
LOCATION:Christkönig
END:VEVENT
BEGIN:VEVENT
UID:sabre-vobject-297bf32e-798a-4400-b845-7554a11ce759
DTSTAMP:20260420T084545Z
SUMMARY:Maiandacht
DESCRIPTION:https://pfarreien-bistum-augsburg.df-preview.de/maiandacht_id17
 39186
DTSTART;TZID=Europe/Berlin:20260505T183000
DURATION:PT30M
LOCATION:Christkönig
END:VEVENT
BEGIN:VEVENT
UID:sabre-vobject-fa2f869b-43c1-4785-a300-22fd0c60a604
DTSTAMP:20260420T084545Z
SUMMARY:Heilige Messe
DESCRIPTION:https://pfarreien-bistum-augsburg.df-preview.de/heilige-messe_i
 d1739187
DTSTART;TZID=Europe/Berlin:20260506T083000
DURATION:PT30M
LOCATION:Christkönig
END:VEVENT
BEGIN:VEVENT
UID:sabre-vobject-d86065c7-edea-4f96-ba55-3d0f9fbbf845
DTSTAMP:20260420T084545Z
SUMMARY:Beten für Kinder
DESCRIPTION:https://pfarreien-bistum-augsburg.df-preview.de/beten-fuer-kind
 er_id1739461
DTSTART;TZID=Europe/Berlin:20260506T091500
DURATION:PT30M
LOCATION:Christkönig
END:VEVENT
BEGIN:VEVENT
UID:sabre-vobject-2b010613-a263-4477-a1db-14665a2090f1
DTSTAMP:20260420T084545Z
SUMMARY:Rosenkranz
DESCRIPTION:https://pfarreien-bistum-augsburg.df-preview.de/rosenkranz_id17
 39188
DTSTART;TZID=Europe/Berlin:20260506T170000
DURATION:PT30M
LOCATION:Christkönig
END:VEVENT
BEGIN:VEVENT
UID:sabre-vobject-8ef3f50e-6f15-4ab9-9d35-50faecabaa8d
DTSTAMP:20260420T084545Z
SUMMARY:Rosenkranz
DESCRIPTION:https://pfarreien-bistum-augsburg.df-preview.de/rosenkranz_id17
 39189
DTSTART;TZID=Europe/Berlin:20260507T173000
DURATION:PT30M
LOCATION:Christkönig
END:VEVENT
BEGIN:VEVENT
UID:sabre-vobject-4faa068c-4cd1-4aee-85c3-cf6bd7f68364
DTSTAMP:20260420T084545Z
SUMMARY:Heilige Messe
DESCRIPTION:https://pfarreien-bistum-augsburg.df-preview.de/heilige-messe_i
 d1739190
DTSTART;TZID=Europe/Berlin:20260507T183000
DURATION:PT30M
LOCATION:Christkönig
END:VEVENT
BEGIN:VEVENT
UID:sabre-vobject-3a43e4f4-b292-430b-acc3-10acc82fcb4e
DTSTAMP:20260420T084545Z
SUMMARY:Anbetung vor dem Allerheiligsten
DESCRIPTION:https://pfarreien-bistum-augsburg.df-preview.de/anbetung-vor-de
 m-allerheiligsten_id1739191
DTSTART;TZID=Europe/Berlin:20260507T190000
DURATION:PT30M
LOCATION:Christkönig
END:VEVENT
BEGIN:VEVENT
UID:sabre-vobject-bcbde13f-54d2-4d20-b23d-4109a9fbc091
DTSTAMP:20260420T084545Z
SUMMARY:Rosenkranz
DESCRIPTION:https://pfarreien-bistum-augsburg.df-preview.de/rosenkranz_id17
 38810
DTSTART;TZID=Europe/Berlin:20260508T170000
DURATION:PT30M
LOCATION:Christkönig
END:VEVENT
BEGIN:VEVENT
UID:sabre-vobject-e98ed292-7c9f-48b3-ad0e-2eb2e48f8334
DTSTAMP:20260420T084545Z
SUMMARY:Maiandacht\, gestaltet von der KAB-Christkönig
DESCRIPTION:https://pfarreien-bistum-augsburg.df-preview.de/maiandacht-gest
 altet-von-der-kab-christkoenig_id1738811
DTSTART;TZID=Europe/Berlin:20260508T183000
DURATION:PT30M
LOCATION:Christkönig
END:VEVENT
BEGIN:VEVENT
UID:sabre-vobject-1fcd9dae-3967-4d26-a607-9e382a03154a
DTSTAMP:20260420T084545Z
SUMMARY:Rosenkranz
DESCRIPTION:https://pfarreien-bistum-augsburg.df-preview.de/rosenkranz_id17
 39833
DTSTART;TZID=Europe/Berlin:20260509T170000
DURATION:PT30M
LOCATION:Christkönig
END:VEVENT
BEGIN:VEVENT
UID:sabre-vobject-6895faef-ab0f-43f0-bb7c-1616dcda3a40
DTSTAMP:20260420T084545Z
SUMMARY:Pfarrgottesdienst
DESCRIPTION:https://pfarreien-bistum-augsburg.df-preview.de/pfarrgottesdien
 st_id1739831
DTSTART;TZID=Europe/Berlin:20260510T084500
DURATION:PT30M
LOCATION:Christkönig
END:VEVENT
BEGIN:VEVENT
UID:sabre-vobject-a24dd987-e8ba-4a88-bafa-12b26767353f
DTSTAMP:20260420T084545Z
SUMMARY:Kinderkirche
DESCRIPTION:https://pfarreien-bistum-augsburg.df-preview.de/kinderkirche_id
 1739834
DTSTART;TZID=Europe/Berlin:20260510T100000
DURATION:PT30M
LOCATION:Christkönig
END:VEVENT
BEGIN:VEVENT
UID:sabre-vobject-ef32ae33-e21f-4551-b837-73cf97ffb720
DTSTAMP:20260420T084545Z
SUMMARY:Rosenkranz
DESCRIPTION:https://pfarreien-bistum-augsburg.df-preview.de/rosenkranz_id17
 39645
DTSTART;TZID=Europe/Berlin:20260510T170000
DURATION:PT30M
LOCATION:Christkönig
END:VEVENT
BEGIN:VEVENT
UID:sabre-vobject-58cdc324-e1d2-444c-907b-b286c57fb3f6
DTSTAMP:20260420T084545Z
SUMMARY:Wortgottesfeier mit Kommunionspendung
DESCRIPTION:https://pfarreien-bistum-augsburg.df-preview.de/wortgottesfeier
 -mit-kommunionspendung_id1739666
DTSTART;TZID=Europe/Berlin:20260510T180000
DURATION:PT30M
LOCATION:Christkönig
END:VEVENT
BEGIN:VEVENT
UID:sabre-vobject-2d107dab-7d64-46b0-ab74-2b383abbab53
DTSTAMP:20260420T084545Z
SUMMARY:Rosenkranz / Betstunde\, gestaltet von Schönstatt
DESCRIPTION:https://pfarreien-bistum-augsburg.df-preview.de/rosenkranz-bets
 tunde-gestaltet-von-schoenstatt_id1739670
DTSTART;TZID=Europe/Berlin:20260511T170000
DURATION:PT30M
LOCATION:Christkönig
END:VEVENT
BEGIN:VEVENT
UID:sabre-vobject-b9d9c98f-a37e-4010-b241-aba224c48ef2
DTSTAMP:20260420T084545Z
SUMMARY:Rosenkranz
DESCRIPTION:https://pfarreien-bistum-augsburg.df-preview.de/rosenkranz_id17
 39671
DTSTART;TZID=Europe/Berlin:20260512T170000
DURATION:PT30M
LOCATION:Christkönig
END:VEVENT
BEGIN:VEVENT
UID:sabre-vobject-ed2c1272-4d4a-4f1f-9106-05ca386bfd3e
DTSTAMP:20260420T084545Z
SUMMARY:Maiandacht
DESCRIPTION:https://pfarreien-bistum-augsburg.df-preview.de/maiandacht_id17
 39672
DTSTART;TZID=Europe/Berlin:20260512T183000
DURATION:PT30M
LOCATION:Christkönig
END:VEVENT
BEGIN:VEVENT
UID:sabre-vobject-a0d428ae-61f9-490d-916a-de0666ee467a
DTSTAMP:20260420T084545Z
SUMMARY:Heilige Messe
DESCRIPTION:https://pfarreien-bistum-augsburg.df-preview.de/heilige-messe_i
 d1739678
DTSTART;TZID=Europe/Berlin:20260513T083000
DURATION:PT30M
LOCATION:Christkönig
END:VEVENT
BEGIN:VEVENT
UID:sabre-vobject-a66745c7-bace-4aa7-86c9-8086e2be33bb
DTSTAMP:20260420T084545Z
SUMMARY:Beten für Kinder
DESCRIPTION:https://pfarreien-bistum-augsburg.df-preview.de/beten-fuer-kind
 er_id1739679
DTSTART;TZID=Europe/Berlin:20260513T091500
DURATION:PT30M
LOCATION:Christkönig
END:VEVENT
BEGIN:VEVENT
UID:sabre-vobject-7d8a7dca-a77c-4c73-8882-fc81f97a6d5e
DTSTAMP:20260420T084545Z
SUMMARY:Rosenkranz
DESCRIPTION:https://pfarreien-bistum-augsburg.df-preview.de/rosenkranz_id17
 39680
DTSTART;TZID=Europe/Berlin:20260513T170000
DURATION:PT30M
LOCATION:Christkönig
END:VEVENT
BEGIN:VEVENT
UID:sabre-vobject-9a2fd7bb-23c3-4d10-91b0-e13a5a1ea99f
DTSTAMP:20260420T084545Z
SUMMARY:Rosenkranz
DESCRIPTION:https://pfarreien-bistum-augsburg.df-preview.de/rosenkranz_id17
 39694
DTSTART;TZID=Europe/Berlin:20260514T173000
DURATION:PT30M
LOCATION:Christkönig
END:VEVENT
BEGIN:VEVENT
UID:sabre-vobject-d117efde-13bd-495e-ac8f-eee823503d8d
DTSTAMP:20260420T084545Z
SUMMARY:Heilige Messe   e n t f ä l l t
DESCRIPTION:https://pfarreien-bistum-augsburg.df-preview.de/heilige-messe-e
 -n-t-f-ae-l-l-t_id1739707
DTSTART;TZID=Europe/Berlin:20260514T183000
DURATION:PT30M
LOCATION:Christkönig
END:VEVENT
BEGIN:VEVENT
UID:sabre-vobject-029782dc-5a82-4a45-b106-fe2f3b8d0dcd
DTSTAMP:20260420T084545Z
SUMMARY:Anbetung vor dem Allerheiligsten   e  n t f  ä l l t
DESCRIPTION:https://pfarreien-bistum-augsburg.df-preview.de/anbetung-vor-de
 m-allerheiligsten-e-n-t-f-ae-l-l-t_id1739708
DTSTART;TZID=Europe/Berlin:20260514T190000
DURATION:PT30M
LOCATION:Christkönig
END:VEVENT
BEGIN:VEVENT
UID:sabre-vobject-7978a9e9-c0f2-4a94-a4b2-c4586c874319
DTSTAMP:20260420T084545Z
SUMMARY:Rosenkranz
DESCRIPTION:https://pfarreien-bistum-augsburg.df-preview.de/rosenkranz_id17
 39818
DTSTART;TZID=Europe/Berlin:20260515T170000
DURATION:PT30M
LOCATION:Christkönig
END:VEVENT
BEGIN:VEVENT
UID:sabre-vobject-cc8d76e5-922e-4eaf-bd7d-d6b39caa2f7f
DTSTAMP:20260420T084545Z
SUMMARY:Maiandacht
DESCRIPTION:https://pfarreien-bistum-augsburg.df-preview.de/maiandacht_id17
 39819
DTSTART;TZID=Europe/Berlin:20260515T183000
DURATION:PT30M
LOCATION:Christkönig
END:VEVENT
END:VCALENDAR
