BEGIN:VCALENDAR
VERSION:2.0
PRODID:-//Sabre//Sabre VObject 4.5.8//EN
CALSCALE:GREGORIAN
NAME:Bistum Augsburg
X-WR-CALNAME:Bistum Augsburg
BEGIN:VEVENT
UID:sabre-vobject-17512397-cea0-4a62-be88-3f47eb88ad3e
DTSTAMP:20260420T165223Z
SUMMARY:Heilige Messe
DESCRIPTION:https://pfarreien-bistum-augsburg.df-preview.de/heilige-messe_i
 d1744830
DTSTART;TZID=Europe/Berlin:20260420T083000
DURATION:PT30M
LOCATION:St. Peter
END:VEVENT
BEGIN:VEVENT
UID:sabre-vobject-25ef05c7-bf3a-4344-8a11-a4ec9ce24696
DTSTAMP:20260420T165223Z
SUMMARY:Stille Anbetung
DESCRIPTION:https://pfarreien-bistum-augsburg.df-preview.de/stille-anbetung
 _id1744937
DTSTART;TZID=Europe/Berlin:20260420T090000
DURATION:PT30M
LOCATION:Mariä Himmelfahrt\, Monheimer Straße 113\, 86633 Bittenbrunn
END:VEVENT
BEGIN:VEVENT
UID:sabre-vobject-760c4945-1065-4975-9d46-b07ef5782044
DTSTAMP:20260420T165223Z
SUMMARY:Heilige Messe
DESCRIPTION:https://pfarreien-bistum-augsburg.df-preview.de/heilige-messe_i
 d1744938
DTSTART;TZID=Europe/Berlin:20260421T083000
DURATION:PT30M
LOCATION:St. Peter
END:VEVENT
BEGIN:VEVENT
UID:sabre-vobject-165380b9-79b0-41af-a498-024ba1704d8c
DTSTAMP:20260420T165223Z
SUMMARY:Stille Anbetung
DESCRIPTION:https://pfarreien-bistum-augsburg.df-preview.de/stille-anbetung
 _id1744942
DTSTART;TZID=Europe/Berlin:20260421T090000
DURATION:PT30M
LOCATION:Mariä Himmelfahrt\, Monheimer Straße 113\, 86633 Bittenbrunn
END:VEVENT
BEGIN:VEVENT
UID:sabre-vobject-3e6fee54-8d9f-4e79-943f-4c02b68bda87
DTSTAMP:20260420T165223Z
SUMMARY:Heilige Messe im BRK-Seniorenheim
DESCRIPTION:https://pfarreien-bistum-augsburg.df-preview.de/heilige-messe-i
 m-brk-seniorenheim_id1744939
DTSTART;TZID=Europe/Berlin:20260421T163000
DURATION:PT30M
LOCATION:St. Peter
END:VEVENT
BEGIN:VEVENT
UID:sabre-vobject-8fda7dbc-6f9e-40e5-834f-ee78b88341fa
DTSTAMP:20260420T165223Z
SUMMARY:Abendmesse
DESCRIPTION:https://pfarreien-bistum-augsburg.df-preview.de/abendmesse_id17
 44940
DTSTART;TZID=Europe/Berlin:20260421T180000
DURATION:PT30M
LOCATION:Mariä Himmelfahrt\, Monheimer Straße 113\, 86633 Bittenbrunn
END:VEVENT
BEGIN:VEVENT
UID:sabre-vobject-8d764921-9bed-4219-8549-6a54e1f68cf2
DTSTAMP:20260420T165223Z
SUMMARY:Heilige Messe
DESCRIPTION:https://pfarreien-bistum-augsburg.df-preview.de/heilige-messe_i
 d1744941
DTSTART;TZID=Europe/Berlin:20260422T083000
DURATION:PT30M
LOCATION:St. Peter
END:VEVENT
BEGIN:VEVENT
UID:sabre-vobject-68be40f8-626f-4f23-8fb3-9b562c6efdf3
DTSTAMP:20260420T165223Z
SUMMARY:Stille Anbetung
DESCRIPTION:https://pfarreien-bistum-augsburg.df-preview.de/stille-anbetung
 _id1744950
DTSTART;TZID=Europe/Berlin:20260422T090000
DURATION:PT30M
LOCATION:Mariä Himmelfahrt\, Monheimer Straße 113\, 86633 Bittenbrunn
END:VEVENT
BEGIN:VEVENT
UID:sabre-vobject-4f2c8a4b-f932-400c-9e82-e5bdb027d33d
DTSTAMP:20260420T165223Z
SUMMARY:Bestattung der Sternenkinder
DESCRIPTION:https://pfarreien-bistum-augsburg.df-preview.de/bestattung-der-
 sternenkinder_id1744951
DTSTART;TZID=Europe/Berlin:20260422T150000
DURATION:PT30M
LOCATION:St. Peter
END:VEVENT
BEGIN:VEVENT
UID:sabre-vobject-19d30a2d-4011-4835-afac-c16584bfdbe2
DTSTAMP:20260420T165223Z
SUMMARY:Heilige Messe
DESCRIPTION:https://pfarreien-bistum-augsburg.df-preview.de/heilige-messe_i
 d1744952
DTSTART;TZID=Europe/Berlin:20260423T083000
DURATION:PT30M
LOCATION:St. Peter
END:VEVENT
BEGIN:VEVENT
UID:sabre-vobject-7a65582e-3893-40fb-aa95-136c157204e8
DTSTAMP:20260420T165223Z
SUMMARY:Stille Anbetung
DESCRIPTION:https://pfarreien-bistum-augsburg.df-preview.de/stille-anbetung
 _id1744953
DTSTART;TZID=Europe/Berlin:20260423T090000
DURATION:PT30M
LOCATION:Mariä Himmelfahrt\, Monheimer Straße 113\, 86633 Bittenbrunn
END:VEVENT
BEGIN:VEVENT
UID:sabre-vobject-4be69834-2e3e-4627-8618-5f6d4b46aa67
DTSTAMP:20260420T165223Z
SUMMARY:Abendmesse
DESCRIPTION:https://pfarreien-bistum-augsburg.df-preview.de/abendmesse_id17
 44954
DTSTART;TZID=Europe/Berlin:20260423T180000
DURATION:PT30M
LOCATION:St. Peter
END:VEVENT
BEGIN:VEVENT
UID:sabre-vobject-0c6c8156-00aa-4218-b908-415088785043
DTSTAMP:20260420T165223Z
SUMMARY:Heilige Messe
DESCRIPTION:https://pfarreien-bistum-augsburg.df-preview.de/heilige-messe_i
 d1744828
DTSTART;TZID=Europe/Berlin:20260424T083000
DURATION:PT30M
LOCATION:St. Peter
END:VEVENT
BEGIN:VEVENT
UID:sabre-vobject-07962e52-71e2-4d07-b836-a959337ccb65
DTSTAMP:20260420T165223Z
SUMMARY:Stille Anbetung
DESCRIPTION:https://pfarreien-bistum-augsburg.df-preview.de/stille-anbetung
 _id1744977
DTSTART;TZID=Europe/Berlin:20260424T090000
DURATION:PT30M
LOCATION:Mariä Himmelfahrt\, Monheimer Straße 113\, 86633 Bittenbrunn
END:VEVENT
BEGIN:VEVENT
UID:sabre-vobject-00e1ef76-a772-4d98-84cf-5a4da863b9ac
DTSTAMP:20260420T165223Z
SUMMARY:Heilige Messe
DESCRIPTION:https://pfarreien-bistum-augsburg.df-preview.de/heilige-messe_i
 d1744873
DTSTART;TZID=Europe/Berlin:20260425T083000
DURATION:PT30M
LOCATION:St. Peter
END:VEVENT
BEGIN:VEVENT
UID:sabre-vobject-0104d54c-da3e-4fbd-be3a-12c4b3c06322
DTSTAMP:20260420T165223Z
SUMMARY:Beichtgelegenheit
DESCRIPTION:https://pfarreien-bistum-augsburg.df-preview.de/beichtgelegenhe
 it_id1744874
DTSTART;TZID=Europe/Berlin:20260425T143000
DURATION:PT30M
LOCATION:St. Peter
END:VEVENT
BEGIN:VEVENT
UID:sabre-vobject-ff5014f5-f1b8-4909-8f66-87255812e2ee
DTSTAMP:20260420T165223Z
SUMMARY:Heilige Messe
DESCRIPTION:https://pfarreien-bistum-augsburg.df-preview.de/heilige-messe_i
 d1744875
DTSTART;TZID=Europe/Berlin:20260426T090000
DURATION:PT30M
LOCATION:St. Peter
END:VEVENT
BEGIN:VEVENT
UID:sabre-vobject-d32544d7-3dfb-4f21-a3d6-73b8312b0336
DTSTAMP:20260420T165223Z
SUMMARY:Familiengottesdienst mit Kinderchor und Band \nVorstellung des neue
 n Pfarrgemeinderats und Verabschiedung der ausscheidenden Mitglieder
DESCRIPTION:https://pfarreien-bistum-augsburg.df-preview.de/familiengottesd
 ienst-mit-kinderchor-und-band-vorstellung-des-neuen-pfarrgemeinderats-und-
 verabschiedung-der-ausscheidenden-mitglieder_id1744906
DTSTART;TZID=Europe/Berlin:20260426T103000
DURATION:PT30M
LOCATION:St. Peter
END:VEVENT
BEGIN:VEVENT
UID:sabre-vobject-febaf18a-9713-4dc2-8c3d-87062dce8fa1
DTSTAMP:20260420T165223Z
SUMMARY:Abendmesse
DESCRIPTION:https://pfarreien-bistum-augsburg.df-preview.de/abendmesse_id17
 44912
DTSTART;TZID=Europe/Berlin:20260426T190000
DURATION:PT30M
LOCATION:St. Peter
END:VEVENT
BEGIN:VEVENT
UID:sabre-vobject-d74d0a2d-0b25-40b2-a1eb-016286f6ed4c
DTSTAMP:20260420T165223Z
SUMMARY:Heilige Messe
DESCRIPTION:https://pfarreien-bistum-augsburg.df-preview.de/heilige-messe_i
 d1744913
DTSTART;TZID=Europe/Berlin:20260427T083000
DURATION:PT30M
LOCATION:St. Peter
END:VEVENT
BEGIN:VEVENT
UID:sabre-vobject-8e3b40a5-e6ff-40f2-83cb-f552c8fbedf7
DTSTAMP:20260420T165223Z
SUMMARY:Stille Anbetung
DESCRIPTION:https://pfarreien-bistum-augsburg.df-preview.de/stille-anbetung
 _id1744968
DTSTART;TZID=Europe/Berlin:20260427T090000
DURATION:PT30M
LOCATION:Mariä Himmelfahrt\, Monheimer Straße 113\, 86633 Bittenbrunn
END:VEVENT
BEGIN:VEVENT
UID:sabre-vobject-815f66a3-0423-468d-8482-3eb49a6fa2e4
DTSTAMP:20260420T165223Z
SUMMARY:Heilige Messe
DESCRIPTION:https://pfarreien-bistum-augsburg.df-preview.de/heilige-messe_i
 d1744969
DTSTART;TZID=Europe/Berlin:20260428T083000
DURATION:PT30M
LOCATION:St. Peter
END:VEVENT
BEGIN:VEVENT
UID:sabre-vobject-b0692674-d16b-4432-b25c-9854537af5a3
DTSTAMP:20260420T165223Z
SUMMARY:Stille Anbetung
DESCRIPTION:https://pfarreien-bistum-augsburg.df-preview.de/stille-anbetung
 _id1744970
DTSTART;TZID=Europe/Berlin:20260428T090000
DURATION:PT30M
LOCATION:Mariä Himmelfahrt\, Monheimer Straße 113\, 86633 Bittenbrunn
END:VEVENT
BEGIN:VEVENT
UID:sabre-vobject-9acad54f-6277-4415-9d1e-7a6b551fb742
DTSTAMP:20260420T165223Z
SUMMARY:Abendmesse
DESCRIPTION:https://pfarreien-bistum-augsburg.df-preview.de/abendmesse_id17
 44990
DTSTART;TZID=Europe/Berlin:20260428T180000
DURATION:PT30M
LOCATION:Mariä Himmelfahrt\, Monheimer Straße 113\, 86633 Bittenbrunn
END:VEVENT
BEGIN:VEVENT
UID:sabre-vobject-15339cb5-a5e5-4274-a93b-e27b1ce25db9
DTSTAMP:20260420T165223Z
SUMMARY:Heilige Messe
DESCRIPTION:https://pfarreien-bistum-augsburg.df-preview.de/heilige-messe_i
 d1744991
DTSTART;TZID=Europe/Berlin:20260429T083000
DURATION:PT30M
LOCATION:St. Peter
END:VEVENT
BEGIN:VEVENT
UID:sabre-vobject-b8808255-653c-44ea-8d9d-94973ac27fa7
DTSTAMP:20260420T165223Z
SUMMARY:Stille Anbetung
DESCRIPTION:https://pfarreien-bistum-augsburg.df-preview.de/stille-anbetung
 _id1744992
DTSTART;TZID=Europe/Berlin:20260429T090000
DURATION:PT30M
LOCATION:Mariä Himmelfahrt\, Monheimer Straße 113\, 86633 Bittenbrunn
END:VEVENT
BEGIN:VEVENT
UID:sabre-vobject-353148ed-ba28-4916-8cf0-8e11ab50788c
DTSTAMP:20260420T165223Z
SUMMARY:Heilige Messe
DESCRIPTION:https://pfarreien-bistum-augsburg.df-preview.de/heilige-messe_i
 d1744993
DTSTART;TZID=Europe/Berlin:20260430T083000
DURATION:PT30M
LOCATION:St. Peter
END:VEVENT
BEGIN:VEVENT
UID:sabre-vobject-e2171a25-61b5-4e1a-8bb6-194b7092a285
DTSTAMP:20260420T165223Z
SUMMARY:Stille Anbetung
DESCRIPTION:https://pfarreien-bistum-augsburg.df-preview.de/stille-anbetung
 _id1744994
DTSTART;TZID=Europe/Berlin:20260430T090000
DURATION:PT30M
LOCATION:Mariä Himmelfahrt\, Monheimer Straße 113\, 86633 Bittenbrunn
END:VEVENT
BEGIN:VEVENT
UID:sabre-vobject-776306fa-bf97-4792-b099-0c94506beaec
DTSTAMP:20260420T165223Z
SUMMARY:Abendmesse
DESCRIPTION:https://pfarreien-bistum-augsburg.df-preview.de/abendmesse_id17
 44995
DTSTART;TZID=Europe/Berlin:20260430T180000
DURATION:PT30M
LOCATION:St. Peter
END:VEVENT
BEGIN:VEVENT
UID:sabre-vobject-f170a73b-9d7c-454b-b533-5648c798a9c9
DTSTAMP:20260420T165223Z
SUMMARY:Wallfahrt nach Bergen\, dort Hl. Messe um 9.00 Uhr \nmit Goldener H
 ochzeit Angelika und Peter Segeth
DESCRIPTION:https://pfarreien-bistum-augsburg.df-preview.de/wallfahrt-nach-
 bergen-dort-hl-messe-um-9-00-uhr-mit-goldener-hochzeit-angelika-und-peter-
 segeth_id1744996
DTSTART;TZID=Europe/Berlin:20260501T070000
DURATION:PT30M
LOCATION:St. Peter
END:VEVENT
BEGIN:VEVENT
UID:sabre-vobject-657d1147-d46e-40e1-a1b5-d63e6323d0df
DTSTAMP:20260420T165223Z
SUMMARY:Heilige Messe
DESCRIPTION:https://pfarreien-bistum-augsburg.df-preview.de/heilige-messe_i
 d1744840
DTSTART;TZID=Europe/Berlin:20260501T083000
DURATION:PT30M
LOCATION:St. Peter
END:VEVENT
BEGIN:VEVENT
UID:sabre-vobject-cb15a62f-20f8-4c95-8a33-37ad6c3b7362
DTSTAMP:20260420T165223Z
SUMMARY:Stille Anbetung
DESCRIPTION:https://pfarreien-bistum-augsburg.df-preview.de/stille-anbetung
 _id1744841
DTSTART;TZID=Europe/Berlin:20260501T090000
DURATION:PT30M
LOCATION:Mariä Himmelfahrt\, Monheimer Straße 113\, 86633 Bittenbrunn
END:VEVENT
BEGIN:VEVENT
UID:sabre-vobject-4177d7f1-9d07-4f54-96a6-6bfa30731acf
DTSTAMP:20260420T165223Z
SUMMARY:Maiandacht
DESCRIPTION:https://pfarreien-bistum-augsburg.df-preview.de/maiandacht_id17
 44842
DTSTART;TZID=Europe/Berlin:20260501T190000
DURATION:PT30M
LOCATION:St. Peter
END:VEVENT
BEGIN:VEVENT
UID:sabre-vobject-d0991330-6579-4812-9ea1-1272cca0ef7a
DTSTAMP:20260420T165223Z
SUMMARY:Heilige Messe
DESCRIPTION:https://pfarreien-bistum-augsburg.df-preview.de/heilige-messe_i
 d1744843
DTSTART;TZID=Europe/Berlin:20260502T083000
DURATION:PT30M
LOCATION:St. Peter
END:VEVENT
BEGIN:VEVENT
UID:sabre-vobject-78d53e2d-e9b1-4a80-9994-2c7416cd0cb4
DTSTAMP:20260420T165223Z
SUMMARY:Taufe von Luca Jovanovic
DESCRIPTION:https://pfarreien-bistum-augsburg.df-preview.de/taufe-von-luca-
 jovanovic_id1744844
DTSTART;TZID=Europe/Berlin:20260502T110000
DURATION:PT30M
LOCATION:St. Peter
END:VEVENT
BEGIN:VEVENT
UID:sabre-vobject-9b5722ae-a95f-4378-98e9-b9a41eb55a7c
DTSTAMP:20260420T165223Z
SUMMARY:Beichtgelegenheit
DESCRIPTION:https://pfarreien-bistum-augsburg.df-preview.de/beichtgelegenhe
 it_id1744845
DTSTART;TZID=Europe/Berlin:20260502T143000
DURATION:PT30M
LOCATION:St. Peter
END:VEVENT
BEGIN:VEVENT
UID:sabre-vobject-8b25382c-f9c9-4a3c-95bf-12cb83637605
DTSTAMP:20260420T165223Z
SUMMARY:Heilige Messe
DESCRIPTION:https://pfarreien-bistum-augsburg.df-preview.de/heilige-messe_i
 d1744846
DTSTART;TZID=Europe/Berlin:20260503T090000
DURATION:PT30M
LOCATION:St. Peter
END:VEVENT
BEGIN:VEVENT
UID:sabre-vobject-428620d5-f83a-4581-955c-e29cbb8e5f46
DTSTAMP:20260420T165223Z
SUMMARY:FEIER DER ERSTKOMMUNION
DESCRIPTION:https://pfarreien-bistum-augsburg.df-preview.de/feier-der-erstk
 ommunion_id1744847
DTSTART;TZID=Europe/Berlin:20260503T103000
DURATION:PT30M
LOCATION:St. Peter
END:VEVENT
BEGIN:VEVENT
UID:sabre-vobject-9b36c0c6-e498-4bcd-9bcf-d11a93fa2c7f
DTSTAMP:20260420T165223Z
SUMMARY:Heilige Messe in kroatischer Sprache
DESCRIPTION:https://pfarreien-bistum-augsburg.df-preview.de/heilige-messe-i
 n-kroatischer-sprache_id1744885
DTSTART;TZID=Europe/Berlin:20260503T160000
DURATION:PT30M
LOCATION:St. Peter
END:VEVENT
BEGIN:VEVENT
UID:sabre-vobject-5b190e29-bfcb-4447-b40b-98df3ffb28b4
DTSTAMP:20260420T165223Z
SUMMARY:Abendmesse
DESCRIPTION:https://pfarreien-bistum-augsburg.df-preview.de/abendmesse_id17
 44886
DTSTART;TZID=Europe/Berlin:20260503T190000
DURATION:PT30M
LOCATION:St. Peter
END:VEVENT
END:VCALENDAR
