BEGIN:VCALENDAR
VERSION:2.0
PRODID:-//Sabre//Sabre VObject 4.5.8//EN
CALSCALE:GREGORIAN
NAME:Bistum Augsburg
X-WR-CALNAME:Bistum Augsburg
BEGIN:VEVENT
UID:sabre-vobject-6744810d-9b70-4537-919a-f6bda9ad11c4
DTSTAMP:20260422T060526Z
SUMMARY:Abendgottesdienst
DESCRIPTION:https://pfarreien-bistum-augsburg.df-preview.de/abendgottesdien
 st_id1733193
DTSTART;TZID=Europe/Berlin:20260422T183000
DURATION:PT30M
LOCATION:St. Peter\, Schloßstraße 10\, 85123 Adelshausen
END:VEVENT
BEGIN:VEVENT
UID:sabre-vobject-f4344e58-0b49-4419-bbe3-0bebff663f9c
DTSTAMP:20260422T060526Z
SUMMARY:Pfarrgemeinderatssitzung im Feuerwehrhaus
DESCRIPTION:https://pfarreien-bistum-augsburg.df-preview.de/pfarrgemeindera
 tssitzung-im-feuerwehrhaus_id1733194
DTSTART;TZID=Europe/Berlin:20260422T193000
DURATION:PT30M
LOCATION:St. Peter\, Schloßstraße 10\, 85123 Adelshausen
END:VEVENT
BEGIN:VEVENT
UID:sabre-vobject-ddfe3472-dd25-43f9-92a0-57f3b5b72980
DTSTAMP:20260422T060526Z
SUMMARY:Sonntagsgottesdienst mit Verabschiedung und Einführung der Pfarrge
 meinderatsmitglieder
DESCRIPTION:https://pfarreien-bistum-augsburg.df-preview.de/sonntagsgottesd
 ienst-mit-verabschiedung-und-einfuehrung-der-pfarrgemeinderatsmitglieder_i
 d1749743
DTSTART;TZID=Europe/Berlin:20260426T100000
DURATION:PT30M
LOCATION:St. Peter\, Schloßstraße 10\, 85123 Adelshausen
END:VEVENT
BEGIN:VEVENT
UID:sabre-vobject-4ac0ba80-6f28-4448-b951-ac2aedf03161
DTSTAMP:20260422T060526Z
SUMMARY:Abendgottesdienst mit Aussetzung um geistliche Berufung
DESCRIPTION:https://pfarreien-bistum-augsburg.df-preview.de/abendgottesdien
 st-mit-aussetzung-um-geistliche-berufung_id1749807
DTSTART;TZID=Europe/Berlin:20260429T183000
DURATION:PT30M
LOCATION:St. Peter\, Schloßstraße 10\, 85123 Adelshausen
END:VEVENT
BEGIN:VEVENT
UID:sabre-vobject-b7335167-bab8-47f7-a2d6-36de2bec984f
DTSTAMP:20260422T060526Z
SUMMARY:Gottesdienst mit Maiandacht
DESCRIPTION:https://pfarreien-bistum-augsburg.df-preview.de/gottesdienst-mi
 t-maiandacht_id1749753
DTSTART;TZID=Europe/Berlin:20260501T084500
DURATION:PT30M
LOCATION:St. Peter\, Schloßstraße 10\, 85123 Adelshausen
END:VEVENT
BEGIN:VEVENT
UID:sabre-vobject-842676bd-00d2-42f9-b9d9-5b0a268aef70
DTSTAMP:20260422T060526Z
SUMMARY:Floriansmesse anschl. Segnung des neuen Feuerwehrfahrzeuges am Feue
 rwehrhaus und gemütlichem Beisammensein
DESCRIPTION:https://pfarreien-bistum-augsburg.df-preview.de/floriansmesse-a
 nschl-segnung-des-neuen-feuerwehrfahrzeuges-am-feuerwehrhaus-und-gemuetlic
 hem-beisammensein_id1749754
DTSTART;TZID=Europe/Berlin:20260502T180000
DURATION:PT30M
LOCATION:St. Peter\, Schloßstraße 10\, 85123 Adelshausen
END:VEVENT
BEGIN:VEVENT
UID:sabre-vobject-2aef4c1e-85fc-414e-8031-3ae068211126
DTSTAMP:20260422T060526Z
SUMMARY:feierliche Maiandacht an der Linde in Aschelsried
DESCRIPTION:https://pfarreien-bistum-augsburg.df-preview.de/feierliche-maia
 ndacht-an-der-linde-in-aschelsried_id1749755
DTSTART;TZID=Europe/Berlin:20260503T183000
DURATION:PT30M
LOCATION:St. Peter\, Schloßstraße 10\, 85123 Adelshausen
END:VEVENT
BEGIN:VEVENT
UID:sabre-vobject-6d25accd-a06e-4126-8b0b-fe2c92ec8031
DTSTAMP:20260422T060526Z
SUMMARY:Abendgottesdienst
DESCRIPTION:https://pfarreien-bistum-augsburg.df-preview.de/abendgottesdien
 st_id1749756
DTSTART;TZID=Europe/Berlin:20260506T183000
DURATION:PT30M
LOCATION:St. Peter\, Schloßstraße 10\, 85123 Adelshausen
END:VEVENT
BEGIN:VEVENT
UID:sabre-vobject-70e034bb-3933-4ca4-8795-cd1b24b4736a
DTSTAMP:20260422T060526Z
SUMMARY:Sonntagsgottesdienst
DESCRIPTION:https://pfarreien-bistum-augsburg.df-preview.de/sonntagsgottesd
 ienst_id1751104
DTSTART;TZID=Europe/Berlin:20260510T100000
DURATION:PT30M
LOCATION:St. Peter\, Schloßstraße 10\, 85123 Adelshausen
END:VEVENT
END:VCALENDAR
