BEGIN:VCALENDAR
VERSION:2.0
PRODID:-//Sabre//Sabre VObject 4.5.8//EN
CALSCALE:GREGORIAN
NAME:Bistum Augsburg
X-WR-CALNAME:Bistum Augsburg
BEGIN:VEVENT
UID:sabre-vobject-fd4b288e-5121-42f9-9354-cb17fcb1cce1
DTSTAMP:20260420T202518Z
SUMMARY:Probe zur Estkommunion
DESCRIPTION:https://pfarreien-bistum-augsburg.df-preview.de/probe-zur-estko
 mmunion_id1744413
DTSTART;TZID=Europe/Berlin:20260423T160000
DURATION:PT30M
LOCATION:St. Michael
END:VEVENT
BEGIN:VEVENT
UID:sabre-vobject-3e07ac49-48f3-4cfa-b8ff-6a31f69be1b9
DTSTAMP:20260420T202518Z
SUMMARY:Feier der Erstkommunion
DESCRIPTION:https://pfarreien-bistum-augsburg.df-preview.de/feier-der-erstk
 ommunion_id1744414
DTSTART;TZID=Europe/Berlin:20260426T100000
DURATION:PT30M
LOCATION:St. Michael
END:VEVENT
BEGIN:VEVENT
UID:sabre-vobject-daf75587-adba-4fdf-9cfb-eac6c2d3311d
DTSTAMP:20260420T202518Z
SUMMARY:Taufe Moritz Lecheler
DESCRIPTION:https://pfarreien-bistum-augsburg.df-preview.de/taufe-moritz-le
 cheler_id1744415
DTSTART;TZID=Europe/Berlin:20260502T110000
DURATION:PT30M
LOCATION:St. Michael
END:VEVENT
BEGIN:VEVENT
UID:sabre-vobject-5c454560-1442-4859-b737-9ccfb8fdd5b8
DTSTAMP:20260420T202518Z
SUMMARY:Vorabendmesse
DESCRIPTION:https://pfarreien-bistum-augsburg.df-preview.de/vorabendmesse_i
 d1744416
DTSTART;TZID=Europe/Berlin:20260502T180000
DURATION:PT30M
LOCATION:St. Michael
END:VEVENT
BEGIN:VEVENT
UID:sabre-vobject-a37adb4c-2d65-401a-a6f6-3427df2b3be6
DTSTAMP:20260420T202518Z
SUMMARY:Heilige Messe
DESCRIPTION:https://pfarreien-bistum-augsburg.df-preview.de/heilige-messe_i
 d1744437
DTSTART;TZID=Europe/Berlin:20260507T083000
DURATION:PT30M
LOCATION:St. Michael
END:VEVENT
BEGIN:VEVENT
UID:sabre-vobject-31807ba1-4ef2-45dc-aa03-c2a9d975d297
DTSTAMP:20260420T202518Z
SUMMARY:Taufe Luca Westermann
DESCRIPTION:https://pfarreien-bistum-augsburg.df-preview.de/taufe-luca-west
 ermann_id1744438
DTSTART;TZID=Europe/Berlin:20260509T110000
DURATION:PT30M
LOCATION:St. Michael
END:VEVENT
BEGIN:VEVENT
UID:sabre-vobject-b901e5b9-b1f7-4f99-95c0-9bf98c885988
DTSTAMP:20260420T202518Z
SUMMARY:Bittgang zur Bruder-Konrad Kapelle\, Treffpunkt Tennisheim
DESCRIPTION:https://pfarreien-bistum-augsburg.df-preview.de/bittgang-zur-br
 uder-konrad-kapelle-treffpunkt-tennisheim_id1744442
DTSTART;TZID=Europe/Berlin:20260511T180000
DURATION:PT30M
LOCATION:St. Michael
END:VEVENT
BEGIN:VEVENT
UID:sabre-vobject-f6ef6b5e-f65d-4b47-997b-268769728885
DTSTAMP:20260420T202518Z
SUMMARY:Heilige Messe
DESCRIPTION:https://pfarreien-bistum-augsburg.df-preview.de/heilige-messe_i
 d1744443
DTSTART;TZID=Europe/Berlin:20260517T083000
DURATION:PT30M
LOCATION:St. Michael
END:VEVENT
BEGIN:VEVENT
UID:sabre-vobject-2a07b9ba-6f02-426e-9b02-9e06a4a2d44e
DTSTAMP:20260420T202518Z
SUMMARY:Heilige Messe
DESCRIPTION:https://pfarreien-bistum-augsburg.df-preview.de/heilige-messe_i
 d1744445
DTSTART;TZID=Europe/Berlin:20260521T083000
DURATION:PT30M
LOCATION:St. Michael
END:VEVENT
BEGIN:VEVENT
UID:sabre-vobject-f2d5e477-e680-45cb-8e68-b175646f9980
DTSTAMP:20260420T202518Z
SUMMARY:Heilige Messe für die Lebenden u. Verstorbenen der PG
DESCRIPTION:https://pfarreien-bistum-augsburg.df-preview.de/heilige-messe-f
 uer-die-lebenden-u-verstorbenen-der-pg_id1744446
DTSTART;TZID=Europe/Berlin:20260524T100000
DURATION:PT30M
LOCATION:St. Michael
END:VEVENT
BEGIN:VEVENT
UID:sabre-vobject-e42b6b88-90a4-4d84-b734-45ec5aaa4e1d
DTSTAMP:20260420T202518Z
SUMMARY:Taufe Luna Hassmann
DESCRIPTION:https://pfarreien-bistum-augsburg.df-preview.de/taufe-luna-hass
 mann_id1744447
DTSTART;TZID=Europe/Berlin:20260530T110000
DURATION:PT30M
LOCATION:St. Michael
END:VEVENT
BEGIN:VEVENT
UID:sabre-vobject-7c4ba250-66d4-4b08-834c-9ae69be4ed32
DTSTAMP:20260420T202518Z
SUMMARY:Heilige Messe Sandhüle
DESCRIPTION:https://pfarreien-bistum-augsburg.df-preview.de/heilige-messe-s
 andhuele_id1744448
DTSTART;TZID=Europe/Berlin:20260531T100000
DURATION:PT30M
LOCATION:St. Michael
END:VEVENT
END:VCALENDAR
