BEGIN:VCALENDAR
VERSION:2.0
PRODID:-//Sabre//Sabre VObject 4.5.8//EN
CALSCALE:GREGORIAN
NAME:Bistum Augsburg
X-WR-CALNAME:Bistum Augsburg
BEGIN:VEVENT
UID:sabre-vobject-445695af-5da8-45ac-87fd-d1d2580eee18
DTSTAMP:20260420T181208Z
SUMMARY:Heilige Messe
DESCRIPTION:https://pfarreien-bistum-augsburg.df-preview.de/heilige-messe_i
 d1740885
DTSTART;TZID=Europe/Berlin:20260420T093000
DURATION:PT30M
LOCATION:St. Nikolaus
END:VEVENT
BEGIN:VEVENT
UID:sabre-vobject-55a8a5d2-8e1d-4aee-a65d-b757b8586515
DTSTAMP:20260420T181208Z
SUMMARY:Rosenkranz
DESCRIPTION:https://pfarreien-bistum-augsburg.df-preview.de/rosenkranz_id17
 40898
DTSTART;TZID=Europe/Berlin:20260420T170000
DURATION:PT30M
LOCATION:St. Nikolaus
END:VEVENT
BEGIN:VEVENT
UID:sabre-vobject-89b0c055-a3ce-4f07-bed3-28f7361aa404
DTSTAMP:20260420T181208Z
SUMMARY:Rosenkranz
DESCRIPTION:https://pfarreien-bistum-augsburg.df-preview.de/rosenkranz_id17
 40899
DTSTART;TZID=Europe/Berlin:20260421T182500
DURATION:PT30M
LOCATION:St. Nikolaus
END:VEVENT
BEGIN:VEVENT
UID:sabre-vobject-cefcbe86-50b5-4010-9a11-c4bc1100db5f
DTSTAMP:20260420T181208Z
SUMMARY:Heilige Messe
DESCRIPTION:https://pfarreien-bistum-augsburg.df-preview.de/heilige-messe_i
 d1740909
DTSTART;TZID=Europe/Berlin:20260421T190000
DURATION:PT30M
LOCATION:St. Nikolaus
END:VEVENT
BEGIN:VEVENT
UID:sabre-vobject-86451e21-c89d-461f-85c1-86f544f7440c
DTSTAMP:20260420T181208Z
SUMMARY:Heilige Messe
DESCRIPTION:https://pfarreien-bistum-augsburg.df-preview.de/heilige-messe_i
 d1740910
DTSTART;TZID=Europe/Berlin:20260422T093000
DURATION:PT30M
LOCATION:St. Nikolaus
END:VEVENT
BEGIN:VEVENT
UID:sabre-vobject-18c102c7-e06a-43be-b764-41ba59bff023
DTSTAMP:20260420T181208Z
SUMMARY:Taferlrosenkranz
DESCRIPTION:https://pfarreien-bistum-augsburg.df-preview.de/taferlrosenkran
 z_id1740911
DTSTART;TZID=Europe/Berlin:20260422T190000
DURATION:PT30M
LOCATION:St. Nikolaus
END:VEVENT
BEGIN:VEVENT
UID:sabre-vobject-8f78a169-4725-435d-bc3f-74743d5d8228
DTSTAMP:20260420T181208Z
SUMMARY:Heilige Messe
DESCRIPTION:https://pfarreien-bistum-augsburg.df-preview.de/heilige-messe_i
 d1740912
DTSTART;TZID=Europe/Berlin:20260423T093000
DURATION:PT30M
LOCATION:St. Nikolaus
END:VEVENT
BEGIN:VEVENT
UID:sabre-vobject-d0ce9f11-70ee-4983-a7fb-46a096951716
DTSTAMP:20260420T181208Z
SUMMARY:Rosenkranz
DESCRIPTION:https://pfarreien-bistum-augsburg.df-preview.de/rosenkranz_id17
 40913
DTSTART;TZID=Europe/Berlin:20260423T170000
DURATION:PT30M
LOCATION:St. Nikolaus
END:VEVENT
BEGIN:VEVENT
UID:sabre-vobject-c3a40ca4-6ba2-4dfc-beae-7e403a41d293
DTSTAMP:20260420T181208Z
SUMMARY:Rosenkranz der JUGEND 2000 vor der Mariensäule mit anschl. Euchari
 stischer Anbetung in der Mariahilfkirche
DESCRIPTION:https://pfarreien-bistum-augsburg.df-preview.de/rosenkranz-der-
 jugend-2000-vor-der-mariensaeule-mit-anschl-eucharistischer-anbetung-in-de
 r-mariahilfkirche_id1740939
DTSTART;TZID=Europe/Berlin:20260423T182500
DURATION:PT30M
LOCATION:St. Nikolaus
END:VEVENT
BEGIN:VEVENT
UID:sabre-vobject-476087aa-effa-4312-afae-47d121301584
DTSTAMP:20260420T181208Z
SUMMARY:Heilige Messe
DESCRIPTION:https://pfarreien-bistum-augsburg.df-preview.de/heilige-messe_i
 d1740947
DTSTART;TZID=Europe/Berlin:20260423T190000
DURATION:PT30M
LOCATION:St. Nikolaus
END:VEVENT
BEGIN:VEVENT
UID:sabre-vobject-c280ec0c-31b7-4d04-ad46-a6a5e2d8db9a
DTSTAMP:20260420T181208Z
SUMMARY:Tauffeier
DESCRIPTION:https://pfarreien-bistum-augsburg.df-preview.de/tauffeier_id174
 1235
DTSTART;TZID=Europe/Berlin:20260424T130000
DURATION:PT30M
LOCATION:St. Nikolaus
END:VEVENT
BEGIN:VEVENT
UID:sabre-vobject-0bf89788-a7c3-4d6c-8055-26c348678e00
DTSTAMP:20260420T181208Z
SUMMARY:Rosenkranz
DESCRIPTION:https://pfarreien-bistum-augsburg.df-preview.de/rosenkranz_id17
 40948
DTSTART;TZID=Europe/Berlin:20260424T182500
DURATION:PT30M
LOCATION:St. Nikolaus
END:VEVENT
BEGIN:VEVENT
UID:sabre-vobject-983a9a53-116f-4c7e-be67-4d8247de7292
DTSTAMP:20260420T181208Z
SUMMARY:Heilige Messe
DESCRIPTION:https://pfarreien-bistum-augsburg.df-preview.de/heilige-messe_i
 d1740949
DTSTART;TZID=Europe/Berlin:20260424T190000
DURATION:PT30M
LOCATION:St. Nikolaus
END:VEVENT
BEGIN:VEVENT
UID:sabre-vobject-ffe64727-2ca1-45e0-8a58-0a651772ae19
DTSTAMP:20260420T181208Z
SUMMARY:Beichtgelegenheit
DESCRIPTION:https://pfarreien-bistum-augsburg.df-preview.de/beichtgelegenhe
 it_id1740950
DTSTART;TZID=Europe/Berlin:20260425T171700
DURATION:PT30M
LOCATION:St. Nikolaus
END:VEVENT
BEGIN:VEVENT
UID:sabre-vobject-33bea37c-2254-458a-8bea-fcbe7a8223b2
DTSTAMP:20260420T181208Z
SUMMARY:Rosenkranz
DESCRIPTION:https://pfarreien-bistum-augsburg.df-preview.de/rosenkranz_id17
 40951
DTSTART;TZID=Europe/Berlin:20260425T172500
DURATION:PT30M
LOCATION:St. Nikolaus
END:VEVENT
BEGIN:VEVENT
UID:sabre-vobject-1ee2fd8b-2d29-49d6-adc9-d6b00cb60e89
DTSTAMP:20260420T181208Z
SUMMARY:Sonntagvorabendmesse
DESCRIPTION:https://pfarreien-bistum-augsburg.df-preview.de/sonntagvorabend
 messe_id1740920
DTSTART;TZID=Europe/Berlin:20260425T180000
DURATION:PT30M
LOCATION:St. Nikolaus
END:VEVENT
BEGIN:VEVENT
UID:sabre-vobject-832afe50-f828-4a2c-9804-78a571562464
DTSTAMP:20260420T181208Z
SUMMARY:Pfarrgottesdienst für alle Lebenden und Verstorbenen der Pfarrgeme
 inde
DESCRIPTION:https://pfarreien-bistum-augsburg.df-preview.de/pfarrgottesdien
 st-fuer-alle-lebenden-und-verstorbenen-der-pfarrgemeinde_id1740921
DTSTART;TZID=Europe/Berlin:20260426T090000
DURATION:PT30M
LOCATION:St. Nikolaus
END:VEVENT
BEGIN:VEVENT
UID:sabre-vobject-bb618dac-17ba-4d11-a79b-bec0e31af192
DTSTAMP:20260420T181208Z
SUMMARY:Feierliche Erstkommunion
DESCRIPTION:https://pfarreien-bistum-augsburg.df-preview.de/feierliche-erst
 kommunion_id1740922
DTSTART;TZID=Europe/Berlin:20260426T103000
DURATION:PT30M
LOCATION:St. Nikolaus
END:VEVENT
BEGIN:VEVENT
UID:sabre-vobject-43306871-6c4f-4478-9ca7-60a0cc51a58a
DTSTAMP:20260420T181208Z
SUMMARY:Rosenkranz
DESCRIPTION:https://pfarreien-bistum-augsburg.df-preview.de/rosenkranz_id17
 40923
DTSTART;TZID=Europe/Berlin:20260426T170000
DURATION:PT30M
LOCATION:St. Nikolaus
END:VEVENT
BEGIN:VEVENT
UID:sabre-vobject-90524946-e311-4b5d-8b21-c1cdfa31d5d5
DTSTAMP:20260420T181208Z
SUMMARY:Heilige Messe
DESCRIPTION:https://pfarreien-bistum-augsburg.df-preview.de/heilige-messe_i
 d1740924
DTSTART;TZID=Europe/Berlin:20260426T180000
DURATION:PT30M
LOCATION:St. Nikolaus
END:VEVENT
BEGIN:VEVENT
UID:sabre-vobject-b0335c72-28f4-406c-8606-2b46cebe31c9
DTSTAMP:20260420T181208Z
SUMMARY:Lobpreis-Gottesdienst mit anschl. gestalteter Anbetung
DESCRIPTION:https://pfarreien-bistum-augsburg.df-preview.de/lobpreis-gottes
 dienst-mit-anschl-gestalteter-anbetung_id1740925
DTSTART;TZID=Europe/Berlin:20260426T190000
DURATION:PT30M
LOCATION:St. Nikolaus
END:VEVENT
BEGIN:VEVENT
UID:sabre-vobject-a76f5687-9352-43e5-9c0c-1962c6a8f5a8
DTSTAMP:20260420T181208Z
SUMMARY:Heilige Messe
DESCRIPTION:https://pfarreien-bistum-augsburg.df-preview.de/heilige-messe_i
 d1740926
DTSTART;TZID=Europe/Berlin:20260427T093000
DURATION:PT30M
LOCATION:St. Nikolaus
END:VEVENT
BEGIN:VEVENT
UID:sabre-vobject-b865b1c2-5a12-4d72-b6c2-1c3f306a329c
DTSTAMP:20260420T181208Z
SUMMARY:Rosenkranz
DESCRIPTION:https://pfarreien-bistum-augsburg.df-preview.de/rosenkranz_id17
 41176
DTSTART;TZID=Europe/Berlin:20260427T170000
DURATION:PT30M
LOCATION:St. Nikolaus
END:VEVENT
BEGIN:VEVENT
UID:sabre-vobject-fa0e145f-5fc0-45b1-89e6-952c9d730519
DTSTAMP:20260420T181208Z
SUMMARY:Rosenkranz
DESCRIPTION:https://pfarreien-bistum-augsburg.df-preview.de/rosenkranz_id17
 41177
DTSTART;TZID=Europe/Berlin:20260428T182500
DURATION:PT30M
LOCATION:St. Nikolaus
END:VEVENT
BEGIN:VEVENT
UID:sabre-vobject-20faddc1-8631-4fb4-88d3-4c0205024c26
DTSTAMP:20260420T181208Z
SUMMARY:Heilige Messe
DESCRIPTION:https://pfarreien-bistum-augsburg.df-preview.de/heilige-messe_i
 d1741178
DTSTART;TZID=Europe/Berlin:20260428T190000
DURATION:PT30M
LOCATION:St. Nikolaus
END:VEVENT
BEGIN:VEVENT
UID:sabre-vobject-6626a7bf-3c9f-4dbf-b72b-84e091e2a0eb
DTSTAMP:20260420T181208Z
SUMMARY:Krankenkommunion
DESCRIPTION:https://pfarreien-bistum-augsburg.df-preview.de/krankenkommunio
 n_id1741179
DTSTART;TZID=Europe/Berlin:20260429T090000
DURATION:PT30M
LOCATION:St. Nikolaus
END:VEVENT
BEGIN:VEVENT
UID:sabre-vobject-832e90b2-6063-40e1-ad98-b545c8c2f593
DTSTAMP:20260420T181208Z
SUMMARY:Heilige Messe
DESCRIPTION:https://pfarreien-bistum-augsburg.df-preview.de/heilige-messe_i
 d1741180
DTSTART;TZID=Europe/Berlin:20260429T093000
DURATION:PT30M
LOCATION:St. Nikolaus
END:VEVENT
BEGIN:VEVENT
UID:sabre-vobject-6967da9e-0f1a-4437-9e1c-2bd37c3ac1f0
DTSTAMP:20260420T181208Z
SUMMARY:Taferlrosenkranz
DESCRIPTION:https://pfarreien-bistum-augsburg.df-preview.de/taferlrosenkran
 z_id1741181
DTSTART;TZID=Europe/Berlin:20260429T190000
DURATION:PT30M
LOCATION:St. Nikolaus
END:VEVENT
BEGIN:VEVENT
UID:sabre-vobject-90b87b85-0aa5-421e-952a-aad8fd20f5f2
DTSTAMP:20260420T181208Z
SUMMARY:Heilige Messe
DESCRIPTION:https://pfarreien-bistum-augsburg.df-preview.de/heilige-messe_i
 d1741182
DTSTART;TZID=Europe/Berlin:20260430T093000
DURATION:PT30M
LOCATION:St. Nikolaus
END:VEVENT
BEGIN:VEVENT
UID:sabre-vobject-1fd0fe04-547c-468f-bf39-cc74b3d63e2f
DTSTAMP:20260420T181208Z
SUMMARY:Rosenkranz
DESCRIPTION:https://pfarreien-bistum-augsburg.df-preview.de/rosenkranz_id17
 41184
DTSTART;TZID=Europe/Berlin:20260430T170000
DURATION:PT30M
LOCATION:St. Nikolaus
END:VEVENT
BEGIN:VEVENT
UID:sabre-vobject-05a93135-6787-4aae-81c2-eca7c75a0dd5
DTSTAMP:20260420T181208Z
SUMMARY:Anbetung
DESCRIPTION:https://pfarreien-bistum-augsburg.df-preview.de/anbetung_id1741
 185
DTSTART;TZID=Europe/Berlin:20260430T190000
DURATION:PT30M
LOCATION:St. Nikolaus
END:VEVENT
BEGIN:VEVENT
UID:sabre-vobject-5c49e251-fc67-410c-b230-d08364a57b01
DTSTAMP:20260420T181208Z
SUMMARY:Bittgang zum Ramsachkircherl
DESCRIPTION:https://pfarreien-bistum-augsburg.df-preview.de/bittgang-zum-ra
 msachkircherl_id1741186
DTSTART;TZID=Europe/Berlin:20260501T090000
DURATION:PT30M
LOCATION:St. Nikolaus
END:VEVENT
BEGIN:VEVENT
UID:sabre-vobject-b91a149d-440d-45e5-9a3c-49083e7e1778
DTSTAMP:20260420T181208Z
SUMMARY:Bittgang zum Ramsachkircherl
DESCRIPTION:https://pfarreien-bistum-augsburg.df-preview.de/bittgang-zum-ra
 msachkircherl_id1741197
DTSTART;TZID=Europe/Berlin:20260501T090000
DURATION:PT30M
LOCATION:St. Nikolaus
END:VEVENT
BEGIN:VEVENT
UID:sabre-vobject-392a9967-3d72-4b98-84b3-f59294f739fa
DTSTAMP:20260420T181208Z
SUMMARY:Heilige Messe
DESCRIPTION:https://pfarreien-bistum-augsburg.df-preview.de/heilige-messe_i
 d1740972
DTSTART;TZID=Europe/Berlin:20260501T094500
DURATION:PT30M
LOCATION:St. Nikolaus
END:VEVENT
BEGIN:VEVENT
UID:sabre-vobject-56d6e759-9722-49d9-a11a-975401e13c90
DTSTAMP:20260420T181208Z
SUMMARY:Tauffeier
DESCRIPTION:https://pfarreien-bistum-augsburg.df-preview.de/tauffeier_id174
 0973
DTSTART;TZID=Europe/Berlin:20260501T130000
DURATION:PT30M
LOCATION:St. Nikolaus
END:VEVENT
BEGIN:VEVENT
UID:sabre-vobject-2444565e-3f5d-4bd0-9b78-037c4260099d
DTSTAMP:20260420T181208Z
SUMMARY:Rosenkranz
DESCRIPTION:https://pfarreien-bistum-augsburg.df-preview.de/rosenkranz_id17
 40974
DTSTART;TZID=Europe/Berlin:20260501T182500
DURATION:PT30M
LOCATION:St. Nikolaus
END:VEVENT
BEGIN:VEVENT
UID:sabre-vobject-e9e53f85-369c-464e-8d6e-158be89a9377
DTSTAMP:20260420T181208Z
SUMMARY:Maiandacht
DESCRIPTION:https://pfarreien-bistum-augsburg.df-preview.de/maiandacht_id17
 40975
DTSTART;TZID=Europe/Berlin:20260501T190000
DURATION:PT30M
LOCATION:St. Nikolaus
END:VEVENT
BEGIN:VEVENT
UID:sabre-vobject-56670b8f-a038-49e1-82ef-64dbc22e023f
DTSTAMP:20260420T181208Z
SUMMARY:Holy Hour: Eucharistische Anbetung gestaltet von der Jugend 2000
DESCRIPTION:https://pfarreien-bistum-augsburg.df-preview.de/holy-hour-eucha
 ristische-anbetung-gestaltet-von-der-jugend-2000_id1740976
DTSTART;TZID=Europe/Berlin:20260501T194500
DURATION:PT30M
LOCATION:St. Nikolaus
END:VEVENT
BEGIN:VEVENT
UID:sabre-vobject-e0332e91-b423-43b8-bd43-2a69ce691646
DTSTAMP:20260420T181208Z
SUMMARY:"Get together" nach der Holy hour im Da Noi
DESCRIPTION:https://pfarreien-bistum-augsburg.df-preview.de/get-together-na
 ch-der-holy-hour-im-da-noi_id1740977
DTSTART;TZID=Europe/Berlin:20260501T204500
DURATION:PT30M
LOCATION:St. Nikolaus
END:VEVENT
BEGIN:VEVENT
UID:sabre-vobject-d7805b13-e1e0-4a05-804a-1459ba861e90
DTSTAMP:20260420T181208Z
SUMMARY:Beichtgelegenheit
DESCRIPTION:https://pfarreien-bistum-augsburg.df-preview.de/beichtgelegenhe
 it_id1740927
DTSTART;TZID=Europe/Berlin:20260502T171700
DURATION:PT30M
LOCATION:St. Nikolaus
END:VEVENT
BEGIN:VEVENT
UID:sabre-vobject-63a615a4-d4d8-4739-be88-e1c166085720
DTSTAMP:20260420T181208Z
SUMMARY:Rosenkranz
DESCRIPTION:https://pfarreien-bistum-augsburg.df-preview.de/rosenkranz_id17
 40928
DTSTART;TZID=Europe/Berlin:20260502T172500
DURATION:PT30M
LOCATION:St. Nikolaus
END:VEVENT
BEGIN:VEVENT
UID:sabre-vobject-733959bd-9a02-4012-b859-7f2a8e00811b
DTSTAMP:20260420T181208Z
SUMMARY:Sonntagvorabendmesse
DESCRIPTION:https://pfarreien-bistum-augsburg.df-preview.de/sonntagvorabend
 messe_id1740929
DTSTART;TZID=Europe/Berlin:20260502T180000
DURATION:PT30M
LOCATION:St. Nikolaus
END:VEVENT
BEGIN:VEVENT
UID:sabre-vobject-42aad3fb-6bef-4033-afb8-ab1861c8aecb
DTSTAMP:20260420T181208Z
SUMMARY:Pfarrgottesdienst für alle Lebenden und Verstorbenen der Pfarrgeme
 inde
DESCRIPTION:https://pfarreien-bistum-augsburg.df-preview.de/pfarrgottesdien
 st-fuer-alle-lebenden-und-verstorbenen-der-pfarrgemeinde_id1740930
DTSTART;TZID=Europe/Berlin:20260503T090000
DURATION:PT30M
LOCATION:St. Nikolaus
END:VEVENT
BEGIN:VEVENT
UID:sabre-vobject-1ea82eb3-aa93-4871-af28-89e7d278d317
DTSTAMP:20260420T181208Z
SUMMARY:Heilige Messe
DESCRIPTION:https://pfarreien-bistum-augsburg.df-preview.de/heilige-messe_i
 d1740943
DTSTART;TZID=Europe/Berlin:20260503T103000
DURATION:PT30M
LOCATION:St. Nikolaus
END:VEVENT
BEGIN:VEVENT
UID:sabre-vobject-e4c24da5-214b-49e7-822d-6ad00d901235
DTSTAMP:20260420T181208Z
SUMMARY:Tauffeier
DESCRIPTION:https://pfarreien-bistum-augsburg.df-preview.de/tauffeier_id174
 0944
DTSTART;TZID=Europe/Berlin:20260503T110000
DURATION:PT30M
LOCATION:St. Nikolaus
END:VEVENT
BEGIN:VEVENT
UID:sabre-vobject-d300cb7f-fd79-4df1-9887-cf0beae1ee6e
DTSTAMP:20260420T181208Z
SUMMARY:Rosenkranz
DESCRIPTION:https://pfarreien-bistum-augsburg.df-preview.de/rosenkranz_id17
 40945
DTSTART;TZID=Europe/Berlin:20260503T170000
DURATION:PT30M
LOCATION:St. Nikolaus
END:VEVENT
BEGIN:VEVENT
UID:sabre-vobject-00d8ef19-6ae5-47c8-b125-959977bb1220
DTSTAMP:20260420T181208Z
SUMMARY:"Zeitlassn" mit Volksmusik unter der Leitung von Anita Staltmeier
DESCRIPTION:https://pfarreien-bistum-augsburg.df-preview.de/zeitlassn-mit-v
 olksmusik-unter-der-leitung-von-anita-staltmeier_id1740946
DTSTART;TZID=Europe/Berlin:20260503T190000
DURATION:PT30M
LOCATION:St. Nikolaus
END:VEVENT
BEGIN:VEVENT
UID:sabre-vobject-744d98a9-1be5-4038-bc47-248ba45ef362
DTSTAMP:20260420T181208Z
SUMMARY:"Eucharistie de Taize"
DESCRIPTION:https://pfarreien-bistum-augsburg.df-preview.de/eucharistie-de-
 taize_id1741151
DTSTART;TZID=Europe/Berlin:20260503T190000
DURATION:PT30M
LOCATION:St. Nikolaus
END:VEVENT
END:VCALENDAR
