BEGIN:VCALENDAR
VERSION:2.0
PRODID:-//Sabre//Sabre VObject 4.5.8//EN
CALSCALE:GREGORIAN
NAME:Bistum Augsburg
X-WR-CALNAME:Bistum Augsburg
BEGIN:VEVENT
UID:sabre-vobject-d12ba6c3-f6a2-46b7-a79a-bd5526b8c80e
DTSTAMP:20260422T085729Z
SUMMARY:Rosenkranz für die Kranken in unserer Pfarrei
DESCRIPTION:https://pfarreien-bistum-augsburg.df-preview.de/rosenkranz-fuer
 -die-kranken-in-unserer-pfarrei_id1744504
DTSTART;TZID=Europe/Berlin:20260422T080000
DURATION:PT30M
LOCATION:St. Afra
END:VEVENT
BEGIN:VEVENT
UID:sabre-vobject-c2e458b5-ed34-42f3-a7e1-118e9c39f554
DTSTAMP:20260422T085729Z
SUMMARY:Hl. Messe
DESCRIPTION:https://pfarreien-bistum-augsburg.df-preview.de/hl-messe_id1744
 505
DTSTART;TZID=Europe/Berlin:20260424T191500
DURATION:PT30M
LOCATION:St. Afra
END:VEVENT
BEGIN:VEVENT
UID:sabre-vobject-3ea786bf-011a-4b7d-adf0-255b474a8503
DTSTAMP:20260422T085729Z
SUMMARY:Requiem u. Urnenbeisetzung von Elisabeth Urbin
DESCRIPTION:https://pfarreien-bistum-augsburg.df-preview.de/requiem-u-urnen
 beisetzung-von-elisabeth-urbin_id1751039
DTSTART;TZID=Europe/Berlin:20260425T103000
DURATION:PT30M
LOCATION:St. Afra
END:VEVENT
BEGIN:VEVENT
UID:sabre-vobject-0aec13fe-29c7-4ff1-9912-233bcff0b473
DTSTAMP:20260422T085729Z
SUMMARY:Pfarrgottesdienst
DESCRIPTION:https://pfarreien-bistum-augsburg.df-preview.de/pfarrgottesdien
 st_id1753150
DTSTART;TZID=Europe/Berlin:20260426T083000
DURATION:PT30M
LOCATION:St. Afra
END:VEVENT
BEGIN:VEVENT
UID:sabre-vobject-0282a675-8cfb-41d0-9d28-61f0f19355d4
DTSTAMP:20260422T085729Z
SUMMARY:Führung in der Maria-Seelenkapelle (Teilnahme ohne Anmeldung)
DESCRIPTION:https://pfarreien-bistum-augsburg.df-preview.de/fuehrung-in-der
 -maria-seelenkapelle-teilnahme-ohne-anmeldung_id1751040
DTSTART;TZID=Europe/Berlin:20260426T133000
DURATION:PT30M
LOCATION:St. Afra
END:VEVENT
BEGIN:VEVENT
UID:sabre-vobject-0578a918-280a-4ada-911b-4505155f6596
DTSTAMP:20260422T085729Z
SUMMARY:Hl. Messe
DESCRIPTION:https://pfarreien-bistum-augsburg.df-preview.de/hl-messe_id1753
 151
DTSTART;TZID=Europe/Berlin:20260427T090000
DURATION:PT30M
LOCATION:St. Afra
END:VEVENT
BEGIN:VEVENT
UID:sabre-vobject-e500f061-8103-47a1-b99d-df433cf5e6d7
DTSTAMP:20260422T085729Z
SUMMARY:Rosenkranz um Priester und Ordensberufe
DESCRIPTION:https://pfarreien-bistum-augsburg.df-preview.de/rosenkranz-um-p
 riester-und-ordensberufe_id1753152
DTSTART;TZID=Europe/Berlin:20260429T080000
DURATION:PT30M
LOCATION:St. Afra
END:VEVENT
BEGIN:VEVENT
UID:sabre-vobject-55e2c216-fa44-4b06-a791-6ade15edd9bc
DTSTAMP:20260422T085729Z
SUMMARY:Hl. Messe
DESCRIPTION:https://pfarreien-bistum-augsburg.df-preview.de/hl-messe_id1753
 158
DTSTART;TZID=Europe/Berlin:20260429T191500
DURATION:PT30M
LOCATION:St. Afra
END:VEVENT
BEGIN:VEVENT
UID:sabre-vobject-e1a9c21f-ad24-4434-b1cc-a82d15dfac35
DTSTAMP:20260422T085729Z
SUMMARY:Festgottesdienst zum Hochfest in der Seelenkapelle
DESCRIPTION:https://pfarreien-bistum-augsburg.df-preview.de/festgottesdiens
 t-zum-hochfest-in-der-seelenkapelle_id1753153
DTSTART;TZID=Europe/Berlin:20260501T083000
DURATION:PT30M
LOCATION:St. Afra
END:VEVENT
BEGIN:VEVENT
UID:sabre-vobject-774aef20-4d7a-4989-8e2f-dcf352f871c5
DTSTAMP:20260422T085729Z
SUMMARY:Trauung in der Seelenkapelle Reiter Markus - Geier Amanda
DESCRIPTION:https://pfarreien-bistum-augsburg.df-preview.de/trauung-in-der-
 seelenkapelle-reiter-markus-geier-amanda_id1752043
DTSTART;TZID=Europe/Berlin:20260502T113000
DURATION:PT30M
LOCATION:St. Afra
END:VEVENT
BEGIN:VEVENT
UID:sabre-vobject-50a18661-0cee-4662-becc-c3ebeec46b1d
DTSTAMP:20260422T085729Z
SUMMARY:Pfarrgottesdienst
DESCRIPTION:https://pfarreien-bistum-augsburg.df-preview.de/pfarrgottesdien
 st_id1752044
DTSTART;TZID=Europe/Berlin:20260503T083000
DURATION:PT30M
LOCATION:St. Afra
END:VEVENT
BEGIN:VEVENT
UID:sabre-vobject-a6cfb950-bd8c-4522-8d2d-867c786c1d1d
DTSTAMP:20260422T085729Z
SUMMARY:"Ewige Anbetung"\n Aussetzung des Allerheiligsten - Rosenkranz - Eu
 charistische Andacht - Eucharistischer Segen
DESCRIPTION:https://pfarreien-bistum-augsburg.df-preview.de/ewige-anbetung-
 aussetzung-des-allerheiligsten-rosenkranz-eucharistische-andacht-eucharist
 ischer-segen_id1752045
DTSTART;TZID=Europe/Berlin:20260503T130000
DURATION:PT30M
LOCATION:St. Afra
END:VEVENT
BEGIN:VEVENT
UID:sabre-vobject-a66d22ed-998d-4270-ab04-fc88219fda8a
DTSTAMP:20260422T085729Z
SUMMARY:Rosenkranz zu Ehren der Mutter Gottes
DESCRIPTION:https://pfarreien-bistum-augsburg.df-preview.de/rosenkranz-zu-e
 hren-der-mutter-gottes_id1752050
DTSTART;TZID=Europe/Berlin:20260506T080000
DURATION:PT30M
LOCATION:St. Afra
END:VEVENT
BEGIN:VEVENT
UID:sabre-vobject-dd1a1e2c-1ab4-4aae-801f-d68d0946a5c1
DTSTAMP:20260422T085729Z
SUMMARY:Hl. Messe
DESCRIPTION:https://pfarreien-bistum-augsburg.df-preview.de/hl-messe_id1752
 617
DTSTART;TZID=Europe/Berlin:20260506T191500
DURATION:PT30M
LOCATION:St. Afra
END:VEVENT
BEGIN:VEVENT
UID:sabre-vobject-55cf2314-6bd5-4a6e-8687-035c177c64ab
DTSTAMP:20260422T085729Z
SUMMARY:Barmherzigkeits-Rosenkranz
DESCRIPTION:https://pfarreien-bistum-augsburg.df-preview.de/barmherzigkeits
 -rosenkranz_id1752567
DTSTART;TZID=Europe/Berlin:20260508T190000
DURATION:PT30M
LOCATION:St. Afra
END:VEVENT
BEGIN:VEVENT
UID:sabre-vobject-67fc022c-b5c2-4d54-9081-85d09b9b8961
DTSTAMP:20260422T085729Z
SUMMARY:Hl. Messe
DESCRIPTION:https://pfarreien-bistum-augsburg.df-preview.de/hl-messe_id1752
 568
DTSTART;TZID=Europe/Berlin:20260508T191500
DURATION:PT30M
LOCATION:St. Afra
END:VEVENT
BEGIN:VEVENT
UID:sabre-vobject-b629b4ec-1a9e-46b2-ba8a-41d366ce5280
DTSTAMP:20260422T085729Z
SUMMARY:"Singen macht Spaß" im Pfarrheim
DESCRIPTION:https://pfarreien-bistum-augsburg.df-preview.de/singen-macht-sp
 ass-im-pfarrheim_id1752569
DTSTART;TZID=Europe/Berlin:20260508T193000
DURATION:PT30M
LOCATION:St. Afra
END:VEVENT
BEGIN:VEVENT
UID:sabre-vobject-022f35b0-3646-4d5e-af96-882a8dbf4273
DTSTAMP:20260422T085729Z
SUMMARY:Pfarrgottesdienst als Familiengottesdienst
DESCRIPTION:https://pfarreien-bistum-augsburg.df-preview.de/pfarrgottesdien
 st-als-familiengottesdienst_id1752570
DTSTART;TZID=Europe/Berlin:20260510T100000
DURATION:PT30M
LOCATION:St. Afra
END:VEVENT
BEGIN:VEVENT
UID:sabre-vobject-b877e854-8fbc-4986-822d-375216a3c23f
DTSTAMP:20260422T085729Z
SUMMARY:Rosenkranz in der Maria-Seelenkapelle
DESCRIPTION:https://pfarreien-bistum-augsburg.df-preview.de/rosenkranz-in-d
 er-maria-seelenkapelle_id1751047
DTSTART;TZID=Europe/Berlin:20260510T130000
DURATION:PT30M
LOCATION:St. Afra
END:VEVENT
BEGIN:VEVENT
UID:sabre-vobject-a3d8eff9-5f11-4a46-8043-a1203fb3216c
DTSTAMP:20260422T085729Z
SUMMARY:Bittgang zur Grotte nach Bayersried (bei gutem Wetter - Treffpunkt 
 bei Ferling \, Wurmannswies
DESCRIPTION:https://pfarreien-bistum-augsburg.df-preview.de/bittgang-zur-gr
 otte-nach-bayersried-bei-gutem-wetter-treffpunkt-bei-ferling-wurmannswies_
 id1752571
DTSTART;TZID=Europe/Berlin:20260511T184500
DURATION:PT30M
LOCATION:St. Afra
END:VEVENT
BEGIN:VEVENT
UID:sabre-vobject-58f1b000-025a-4b02-a7ea-fbaf3b9b978c
DTSTAMP:20260422T085729Z
SUMMARY:Unterhaltungs-Nachmittag im Pfarrheim
DESCRIPTION:https://pfarreien-bistum-augsburg.df-preview.de/unterhaltungs-n
 achmittag-im-pfarrheim_id1752572
DTSTART;TZID=Europe/Berlin:20260512T140000
DURATION:PT30M
LOCATION:St. Afra
END:VEVENT
BEGIN:VEVENT
UID:sabre-vobject-22c6a908-9298-4871-8a62-4620733e657a
DTSTAMP:20260422T085729Z
SUMMARY:Bitt-Messe in der Marien-Seelenkapelle
DESCRIPTION:https://pfarreien-bistum-augsburg.df-preview.de/bitt-messe-in-d
 er-marien-seelenkapelle_id1752573
DTSTART;TZID=Europe/Berlin:20260513T090000
DURATION:PT30M
LOCATION:St. Afra
END:VEVENT
BEGIN:VEVENT
UID:sabre-vobject-33eedbbf-9a8b-48c9-8e62-5bb60f70f6d8
DTSTAMP:20260422T085729Z
SUMMARY:Festgottesdienst zum Hochfest anschl. Flurumgang
DESCRIPTION:https://pfarreien-bistum-augsburg.df-preview.de/festgottesdiens
 t-zum-hochfest-anschl-flurumgang_id1752574
DTSTART;TZID=Europe/Berlin:20260514T090000
DURATION:PT30M
LOCATION:St. Afra
END:VEVENT
BEGIN:VEVENT
UID:sabre-vobject-ae670626-04fb-4434-841a-d60011ce1e5d
DTSTAMP:20260422T085729Z
SUMMARY:Hl. Messe
DESCRIPTION:https://pfarreien-bistum-augsburg.df-preview.de/hl-messe_id1752
 616
DTSTART;TZID=Europe/Berlin:20260515T191500
DURATION:PT30M
LOCATION:St. Afra
END:VEVENT
BEGIN:VEVENT
UID:sabre-vobject-f829857e-95e4-4d63-86f6-413c24b22c5d
DTSTAMP:20260422T085729Z
SUMMARY:Dankgottesdienst zur Goldenen Hochzeit von Irmgard und Norbert Pfau
 dler
DESCRIPTION:https://pfarreien-bistum-augsburg.df-preview.de/dankgottesdiens
 t-zur-goldenen-hochzeit-von-irmgard-und-norbert-pfaudler_id1751053
DTSTART;TZID=Europe/Berlin:20260516T103000
DURATION:PT30M
LOCATION:St. Afra
END:VEVENT
BEGIN:VEVENT
UID:sabre-vobject-4fd54e7c-a67b-4979-a5c0-3254ac3287ae
DTSTAMP:20260422T085729Z
SUMMARY:Pfarrgottesdienst
DESCRIPTION:https://pfarreien-bistum-augsburg.df-preview.de/pfarrgottesdien
 st_id1751054
DTSTART;TZID=Europe/Berlin:20260517T083000
DURATION:PT30M
LOCATION:St. Afra
END:VEVENT
BEGIN:VEVENT
UID:sabre-vobject-d9979b0e-e028-4986-8877-ff2320e5157f
DTSTAMP:20260422T085729Z
SUMMARY:Rosenkranz in der Maria-Seelenkapelle
DESCRIPTION:https://pfarreien-bistum-augsburg.df-preview.de/rosenkranz-in-d
 er-maria-seelenkapelle_id1751076
DTSTART;TZID=Europe/Berlin:20260517T130000
DURATION:PT30M
LOCATION:St. Afra
END:VEVENT
BEGIN:VEVENT
UID:sabre-vobject-7effe069-b670-4858-b61a-bb0f361f0c0a
DTSTAMP:20260422T085729Z
SUMMARY:Feierliche Maiandacht m. d. Kommunionkindern
DESCRIPTION:https://pfarreien-bistum-augsburg.df-preview.de/feierliche-maia
 ndacht-m-d-kommunionkindern_id1751075
DTSTART;TZID=Europe/Berlin:20260517T191500
DURATION:PT30M
LOCATION:St. Afra
END:VEVENT
BEGIN:VEVENT
UID:sabre-vobject-6c6cd221-475c-4372-a758-6a7cf511d58f
DTSTAMP:20260422T085729Z
SUMMARY:Hl. Messe
DESCRIPTION:https://pfarreien-bistum-augsburg.df-preview.de/hl-messe_id1751
 135
DTSTART;TZID=Europe/Berlin:20260518T090000
DURATION:PT30M
LOCATION:St. Afra
END:VEVENT
BEGIN:VEVENT
UID:sabre-vobject-09dd7c4b-4a64-4f95-866e-66896ecbcaa8
DTSTAMP:20260422T085729Z
SUMMARY:Rosenkranz um die Gaben des Hl. Geistes
DESCRIPTION:https://pfarreien-bistum-augsburg.df-preview.de/rosenkranz-um-d
 ie-gaben-des-hl-geistes_id1751136
DTSTART;TZID=Europe/Berlin:20260520T080000
DURATION:PT30M
LOCATION:St. Afra
END:VEVENT
BEGIN:VEVENT
UID:sabre-vobject-ef2d6a60-de8d-4936-b0ab-ce270a1a3369
DTSTAMP:20260422T085729Z
SUMMARY:Hl. Messe
DESCRIPTION:https://pfarreien-bistum-augsburg.df-preview.de/hl-messe_id1752
 049
DTSTART;TZID=Europe/Berlin:20260520T191500
DURATION:PT30M
LOCATION:St. Afra
END:VEVENT
BEGIN:VEVENT
UID:sabre-vobject-ab3cb878-7b23-4768-86e1-7a52cd742d2c
DTSTAMP:20260422T085729Z
SUMMARY:Gebetsnetz vom Kath. Landvolk in der Maria-Seelenkapelle\n
DESCRIPTION:https://pfarreien-bistum-augsburg.df-preview.de/gebetsnetz-vom-
 kath-landvolk-in-der-maria-seelenkapelle_id1751137
DTSTART;TZID=Europe/Berlin:20260521T000000
DURATION:PT30M
LOCATION:St. Afra
END:VEVENT
BEGIN:VEVENT
UID:sabre-vobject-43d66219-eee3-4727-94c4-a4119e37d09c
DTSTAMP:20260422T085729Z
SUMMARY:"Singen macht Spaß" im Pfarrheim
DESCRIPTION:https://pfarreien-bistum-augsburg.df-preview.de/singen-macht-sp
 ass-im-pfarrheim_id1751160
DTSTART;TZID=Europe/Berlin:20260522T193000
DURATION:PT30M
LOCATION:St. Afra
END:VEVENT
END:VCALENDAR
