BEGIN:VCALENDAR
VERSION:2.0
PRODID:-//Sabre//Sabre VObject 4.5.8//EN
CALSCALE:GREGORIAN
NAME:Bistum Augsburg
X-WR-CALNAME:Bistum Augsburg
BEGIN:VEVENT
UID:sabre-vobject-ceb9dc0b-3261-4854-9f42-c21870f3d905
DTSTAMP:20260422T035858Z
SUMMARY:Rosenkranz
DESCRIPTION:https://pfarreien-bistum-augsburg.df-preview.de/rosenkranz_id17
 38224
DTSTART;TZID=Europe/Berlin:20260422T182000
DURATION:PT30M
LOCATION:Kuratie St. Georg
END:VEVENT
BEGIN:VEVENT
UID:sabre-vobject-ac04ea55-65e3-415a-bbcc-9122401ce2c3
DTSTAMP:20260422T035858Z
SUMMARY:Rosenkranz mit Gebet für Priester- und Ordensberufe\n\n\n\n
DESCRIPTION:https://pfarreien-bistum-augsburg.df-preview.de/rosenkranz-mit-
 gebet-fuer-priester-und-ordensberufe_id1738312
DTSTART;TZID=Europe/Berlin:20260422T182000
DURATION:PT30M
LOCATION:St. Michael
END:VEVENT
BEGIN:VEVENT
UID:sabre-vobject-fc2faf55-1243-4907-b6ba-6a884b778aa4
DTSTAMP:20260422T035858Z
SUMMARY:Rosenkranz
DESCRIPTION:https://pfarreien-bistum-augsburg.df-preview.de/rosenkranz_id17
 38113
DTSTART;TZID=Europe/Berlin:20260422T190000
DURATION:PT30M
LOCATION:St. Benedikt Basilica minor
END:VEVENT
BEGIN:VEVENT
UID:sabre-vobject-ec941883-d253-48ad-9d4b-d9303ac682c2
DTSTAMP:20260422T035858Z
SUMMARY:Hl. Messe
DESCRIPTION:https://pfarreien-bistum-augsburg.df-preview.de/hl-messe_id1738
 227
DTSTART;TZID=Europe/Berlin:20260422T190000
DURATION:PT30M
LOCATION:Kuratie St. Georg
END:VEVENT
BEGIN:VEVENT
UID:sabre-vobject-447a67d8-54a3-4094-931b-eb7ac72b6816
DTSTAMP:20260422T035858Z
SUMMARY:Hl. Messe
DESCRIPTION:https://pfarreien-bistum-augsburg.df-preview.de/hl-messe_id1738
 313
DTSTART;TZID=Europe/Berlin:20260422T190000
DURATION:PT30M
LOCATION:St. Michael
END:VEVENT
BEGIN:VEVENT
UID:sabre-vobject-43e1d511-211b-414a-b852-8c6e8b2e137c
DTSTAMP:20260422T035858Z
SUMMARY:Hl. Messe
DESCRIPTION:https://pfarreien-bistum-augsburg.df-preview.de/hl-messe_id1738
 109
DTSTART;TZID=Europe/Berlin:20260423T090000
DURATION:PT30M
LOCATION:St. Benedikt Basilica minor
END:VEVENT
BEGIN:VEVENT
UID:sabre-vobject-28eba6ab-f0ab-4894-81e4-4fe691e8324a
DTSTAMP:20260422T035858Z
SUMMARY:Andacht vom Georgibund
DESCRIPTION:https://pfarreien-bistum-augsburg.df-preview.de/andacht-vom-geo
 rgibund_id1738289
DTSTART;TZID=Europe/Berlin:20260423T190000
DURATION:PT30M
LOCATION:Kuratie St. Georg
END:VEVENT
BEGIN:VEVENT
UID:sabre-vobject-d02f84c2-acd2-4b13-8cce-71d592b2a322
DTSTAMP:20260422T035858Z
SUMMARY:Hl. Messe
DESCRIPTION:https://pfarreien-bistum-augsburg.df-preview.de/hl-messe_id1738
 296
DTSTART;TZID=Europe/Berlin:20260424T080000
DURATION:PT30M
LOCATION:Kuratie St. Georg
END:VEVENT
BEGIN:VEVENT
UID:sabre-vobject-a65ea6d4-5e89-4b8e-a927-e00343294943
DTSTAMP:20260422T035858Z
SUMMARY:Eucharistische Anbetung in der Marienkapelle bis Samstag 9:00 Uhr
DESCRIPTION:https://pfarreien-bistum-augsburg.df-preview.de/eucharistische-
 anbetung-in-der-marienkapelle-bis-samstag-9-00-uhr_id1738110
DTSTART;TZID=Europe/Berlin:20260424T090000
DURATION:PT30M
LOCATION:St. Benedikt Basilica minor
END:VEVENT
BEGIN:VEVENT
UID:sabre-vobject-e123248f-a1a9-4d3f-baab-ee4fedf49465
DTSTAMP:20260422T035858Z
SUMMARY:Mariabrunnrosenkranz
DESCRIPTION:https://pfarreien-bistum-augsburg.df-preview.de/mariabrunnrosen
 kranz_id1738111
DTSTART;TZID=Europe/Berlin:20260424T190000
DURATION:PT30M
LOCATION:St. Benedikt Basilica minor
END:VEVENT
BEGIN:VEVENT
UID:sabre-vobject-51e49a10-c0af-4bfd-8ee3-270b247d6f0a
DTSTAMP:20260422T035858Z
SUMMARY:- 11:30 Beichtgelegenheit/Beichtgespräch (Sprechzimmer)
DESCRIPTION:https://pfarreien-bistum-augsburg.df-preview.de/11-30-beichtgel
 egenheit-beichtgespraech-sprechzimmer_id1738112
DTSTART;TZID=Europe/Berlin:20260425T100000
DURATION:PT30M
LOCATION:St. Benedikt Basilica minor
END:VEVENT
BEGIN:VEVENT
UID:sabre-vobject-fbe3ae7f-bffb-49e2-b8ba-7a99fb1388f0
DTSTAMP:20260422T035858Z
SUMMARY:- 16:30 Beichtgelegenheit/Beichtgespräch (Sprechzimmer)
DESCRIPTION:https://pfarreien-bistum-augsburg.df-preview.de/16-30-beichtgel
 egenheit-beichtgespraech-sprechzimmer_id1738134
DTSTART;TZID=Europe/Berlin:20260425T150000
DURATION:PT30M
LOCATION:St. Benedikt Basilica minor
END:VEVENT
BEGIN:VEVENT
UID:sabre-vobject-5e376119-fdd0-4cb5-8d23-509a6ce8df7d
DTSTAMP:20260422T035858Z
SUMMARY:Rosenkranz
DESCRIPTION:https://pfarreien-bistum-augsburg.df-preview.de/rosenkranz_id17
 38314
DTSTART;TZID=Europe/Berlin:20260425T182000
DURATION:PT30M
LOCATION:St. Michael
END:VEVENT
BEGIN:VEVENT
UID:sabre-vobject-dc36b21f-0b90-4c83-b458-ce61188a6e7b
DTSTAMP:20260422T035858Z
SUMMARY:Vorabendmesse
DESCRIPTION:https://pfarreien-bistum-augsburg.df-preview.de/vorabendmesse_i
 d1738297
DTSTART;TZID=Europe/Berlin:20260425T190000
DURATION:PT30M
LOCATION:Kuratie St. Georg
END:VEVENT
BEGIN:VEVENT
UID:sabre-vobject-1a7984e8-7581-4b2e-b361-59437bc2a457
DTSTAMP:20260422T035858Z
SUMMARY:Vorabendmesse
DESCRIPTION:https://pfarreien-bistum-augsburg.df-preview.de/vorabendmesse_i
 d1738315
DTSTART;TZID=Europe/Berlin:20260425T190000
DURATION:PT30M
LOCATION:St. Michael
END:VEVENT
BEGIN:VEVENT
UID:sabre-vobject-2870ae70-cf63-4a72-8406-8594fd2d7fb1
DTSTAMP:20260422T035858Z
SUMMARY:Hl. Messe
DESCRIPTION:https://pfarreien-bistum-augsburg.df-preview.de/hl-messe_id1748
 013
DTSTART;TZID=Europe/Berlin:20260426T080000
DURATION:PT30M
LOCATION:St. Benedikt Basilica minor
END:VEVENT
BEGIN:VEVENT
UID:sabre-vobject-56ae0c6f-0596-4d7e-b9d7-172e5c97f4a0
DTSTAMP:20260422T035858Z
SUMMARY:Festgottesdienst zum Patrozinium\, mit Kirchenzug
DESCRIPTION:https://pfarreien-bistum-augsburg.df-preview.de/festgottesdiens
 t-zum-patrozinium-mit-kirchenzug_id1748082
DTSTART;TZID=Europe/Berlin:20260426T090000
DURATION:PT30M
LOCATION:Kuratie St. Georg
END:VEVENT
BEGIN:VEVENT
UID:sabre-vobject-f6cc7d16-faec-4b79-816f-fa277ff8539d
DTSTAMP:20260422T035858Z
SUMMARY:Hl. Messe
DESCRIPTION:https://pfarreien-bistum-augsburg.df-preview.de/hl-messe_id1748
 088
DTSTART;TZID=Europe/Berlin:20260426T093000
DURATION:PT30M
LOCATION:St. Michael
END:VEVENT
BEGIN:VEVENT
UID:sabre-vobject-22a55fb6-7f3c-40b6-883c-3809c9896b31
DTSTAMP:20260422T035858Z
SUMMARY:Hl. Messe\, Jahrtagsmesse des Musikvereins
DESCRIPTION:https://pfarreien-bistum-augsburg.df-preview.de/hl-messe-jahrta
 gsmesse-des-musikvereins_id1748049
DTSTART;TZID=Europe/Berlin:20260426T100000
DURATION:PT30M
LOCATION:St. Benedikt Basilica minor
END:VEVENT
BEGIN:VEVENT
UID:sabre-vobject-b9c1ca3a-4de2-47cc-98bd-e97a6f7d1848
DTSTAMP:20260422T035858Z
SUMMARY:Hl. Messe
DESCRIPTION:https://pfarreien-bistum-augsburg.df-preview.de/hl-messe_id1748
 050
DTSTART;TZID=Europe/Berlin:20260426T190000
DURATION:PT30M
LOCATION:St. Benedikt Basilica minor
END:VEVENT
BEGIN:VEVENT
UID:sabre-vobject-ca07bdfe-5b00-4be7-b5e6-904f22c7507f
DTSTAMP:20260422T035858Z
SUMMARY:Hl. Messe
DESCRIPTION:https://pfarreien-bistum-augsburg.df-preview.de/hl-messe_id1747
 853
DTSTART;TZID=Europe/Berlin:20260427T190000
DURATION:PT30M
LOCATION:St. Benedikt Basilica minor
END:VEVENT
BEGIN:VEVENT
UID:sabre-vobject-17d93844-6196-4cf0-9f88-23c3f42a0246
DTSTAMP:20260422T035858Z
SUMMARY:Eucharistische Anbetung
DESCRIPTION:https://pfarreien-bistum-augsburg.df-preview.de/eucharistische-
 anbetung_id1747859
DTSTART;TZID=Europe/Berlin:20260428T173000
DURATION:PT30M
LOCATION:St. Michael
END:VEVENT
BEGIN:VEVENT
UID:sabre-vobject-9b515f85-27ba-4a00-9657-e025bac900b6
DTSTAMP:20260422T035858Z
SUMMARY:Rosenkranz
DESCRIPTION:https://pfarreien-bistum-augsburg.df-preview.de/rosenkranz_id17
 47854
DTSTART;TZID=Europe/Berlin:20260428T182000
DURATION:PT30M
LOCATION:St. Benedikt Basilica minor
END:VEVENT
BEGIN:VEVENT
UID:sabre-vobject-ef6a32c2-0d85-4a2d-acca-ae5ba019076a
DTSTAMP:20260422T035858Z
SUMMARY:Monatsmesse des Frauenbundes
DESCRIPTION:https://pfarreien-bistum-augsburg.df-preview.de/monatsmesse-des
 -frauenbundes_id1747855
DTSTART;TZID=Europe/Berlin:20260428T190000
DURATION:PT30M
LOCATION:St. Benedikt Basilica minor
END:VEVENT
BEGIN:VEVENT
UID:sabre-vobject-c866d879-50f6-46f8-abb6-7be7f0e20859
DTSTAMP:20260422T035858Z
SUMMARY:Rosenkranz
DESCRIPTION:https://pfarreien-bistum-augsburg.df-preview.de/rosenkranz_id17
 47704
DTSTART;TZID=Europe/Berlin:20260429T182000
DURATION:PT30M
LOCATION:Kuratie St. Georg
END:VEVENT
BEGIN:VEVENT
UID:sabre-vobject-c7c43c96-e6c1-48a9-8f28-5f3b59b1e982
DTSTAMP:20260422T035858Z
SUMMARY:Rosenkranz mit Gebet für Kinder und Jugendliche\n\n\n\n\n
DESCRIPTION:https://pfarreien-bistum-augsburg.df-preview.de/rosenkranz-mit-
 gebet-fuer-kinder-und-jugendliche_id1747860
DTSTART;TZID=Europe/Berlin:20260429T182000
DURATION:PT30M
LOCATION:St. Michael
END:VEVENT
BEGIN:VEVENT
UID:sabre-vobject-da6776d9-811b-4ead-b129-4c47cdf74863
DTSTAMP:20260422T035858Z
SUMMARY:Monatsmesse des Frauenbundes
DESCRIPTION:https://pfarreien-bistum-augsburg.df-preview.de/monatsmesse-des
 -frauenbundes_id1747702
DTSTART;TZID=Europe/Berlin:20260429T190000
DURATION:PT30M
LOCATION:Kuratie St. Georg
END:VEVENT
BEGIN:VEVENT
UID:sabre-vobject-33e45232-13e4-4d26-90ed-216a22f51feb
DTSTAMP:20260422T035858Z
SUMMARY:Hl. Messe
DESCRIPTION:https://pfarreien-bistum-augsburg.df-preview.de/hl-messe_id1747
 722
DTSTART;TZID=Europe/Berlin:20260429T190000
DURATION:PT30M
LOCATION:St. Michael
END:VEVENT
BEGIN:VEVENT
UID:sabre-vobject-6210a892-3228-4083-8ca7-6234106fe4ae
DTSTAMP:20260422T035858Z
SUMMARY:Rosenkranz
DESCRIPTION:https://pfarreien-bistum-augsburg.df-preview.de/rosenkranz_id17
 47856
DTSTART;TZID=Europe/Berlin:20260429T190000
DURATION:PT30M
LOCATION:St. Benedikt Basilica minor
END:VEVENT
BEGIN:VEVENT
UID:sabre-vobject-4980319c-e2d5-4a5e-aefb-223f305fed4f
DTSTAMP:20260422T035858Z
SUMMARY:Hl. Messe mit Gebet für Priesterberufe
DESCRIPTION:https://pfarreien-bistum-augsburg.df-preview.de/hl-messe-mit-ge
 bet-fuer-priesterberufe_id1747842
DTSTART;TZID=Europe/Berlin:20260430T090000
DURATION:PT30M
LOCATION:St. Benedikt Basilica minor
END:VEVENT
BEGIN:VEVENT
UID:sabre-vobject-3498e547-7406-4f4d-a753-603c114a2747
DTSTAMP:20260422T035858Z
SUMMARY:Hl. Messe zum Herz-Jesu-Freitag
DESCRIPTION:https://pfarreien-bistum-augsburg.df-preview.de/hl-messe-zum-he
 rz-jesu-freitag_id1747836
DTSTART;TZID=Europe/Berlin:20260501T080000
DURATION:PT30M
LOCATION:Kuratie St. Georg
END:VEVENT
BEGIN:VEVENT
UID:sabre-vobject-6a2f5582-bb69-437f-a94e-94e27ab20b3f
DTSTAMP:20260422T035858Z
SUMMARY:Eucharistische Anbetung in der Marienkapelle bis Samstag 9:00 Uhr
DESCRIPTION:https://pfarreien-bistum-augsburg.df-preview.de/eucharistische-
 anbetung-in-der-marienkapelle-bis-samstag-9-00-uhr_id1747642
DTSTART;TZID=Europe/Berlin:20260501T090000
DURATION:PT30M
LOCATION:St. Benedikt Basilica minor
END:VEVENT
BEGIN:VEVENT
UID:sabre-vobject-8315b087-8030-4024-95a4-170b4b93d671
DTSTAMP:20260422T035858Z
SUMMARY:Marienmesse
DESCRIPTION:https://pfarreien-bistum-augsburg.df-preview.de/marienmesse_id1
 747723
DTSTART;TZID=Europe/Berlin:20260501T093000
DURATION:PT30M
LOCATION:St. Michael
END:VEVENT
BEGIN:VEVENT
UID:sabre-vobject-aa5b924e-743f-4d1d-970d-e39b86b3ac7e
DTSTAMP:20260422T035858Z
SUMMARY:Hl. Messe zum Herz-Jesu-Freitag\, Lobpreisgottesdienst\, anschl. An
 betung
DESCRIPTION:https://pfarreien-bistum-augsburg.df-preview.de/hl-messe-zum-he
 rz-jesu-freitag-lobpreisgottesdienst-anschl-anbetung_id1747926
DTSTART;TZID=Europe/Berlin:20260501T190000
DURATION:PT30M
LOCATION:St. Benedikt Basilica minor
END:VEVENT
BEGIN:VEVENT
UID:sabre-vobject-9708076f-d4f3-4df0-a66c-afcf5db93717
DTSTAMP:20260422T035858Z
SUMMARY:Mariabrunnrosenkranz
DESCRIPTION:https://pfarreien-bistum-augsburg.df-preview.de/mariabrunnrosen
 kranz_id1747927
DTSTART;TZID=Europe/Berlin:20260501T190000
DURATION:PT30M
LOCATION:St. Benedikt Basilica minor
END:VEVENT
BEGIN:VEVENT
UID:sabre-vobject-dafb8c4a-e4df-40bd-8cc9-fdd02f083e5f
DTSTAMP:20260422T035858Z
SUMMARY:- 11:30 Beichtgelegenheit/Beichtgespräch (Sprechzimmer)
DESCRIPTION:https://pfarreien-bistum-augsburg.df-preview.de/11-30-beichtgel
 egenheit-beichtgespraech-sprechzimmer_id1747928
DTSTART;TZID=Europe/Berlin:20260502T100000
DURATION:PT30M
LOCATION:St. Benedikt Basilica minor
END:VEVENT
BEGIN:VEVENT
UID:sabre-vobject-c84ea2f2-8711-4385-bfd8-a13e31de701f
DTSTAMP:20260422T035858Z
SUMMARY:- 16:30 Beichtgelegenheit/Beichtgespräch (Sprechzimmer)
DESCRIPTION:https://pfarreien-bistum-augsburg.df-preview.de/16-30-beichtgel
 egenheit-beichtgespraech-sprechzimmer_id1747929
DTSTART;TZID=Europe/Berlin:20260502T150000
DURATION:PT30M
LOCATION:St. Benedikt Basilica minor
END:VEVENT
BEGIN:VEVENT
UID:sabre-vobject-000b8372-13f1-424b-8f00-eb67851e5451
DTSTAMP:20260422T035858Z
SUMMARY:Rosenkranz
DESCRIPTION:https://pfarreien-bistum-augsburg.df-preview.de/rosenkranz_id17
 47724
DTSTART;TZID=Europe/Berlin:20260502T182000
DURATION:PT30M
LOCATION:St. Michael
END:VEVENT
BEGIN:VEVENT
UID:sabre-vobject-59ef16d4-b26b-4e81-9ef0-178ebab8d7ae
DTSTAMP:20260422T035858Z
SUMMARY:Vorabendmesse
DESCRIPTION:https://pfarreien-bistum-augsburg.df-preview.de/vorabendmesse_i
 d1747744
DTSTART;TZID=Europe/Berlin:20260502T190000
DURATION:PT30M
LOCATION:St. Michael
END:VEVENT
BEGIN:VEVENT
UID:sabre-vobject-c9a8d97c-118d-4746-8b33-b5f2183b5f0c
DTSTAMP:20260422T035858Z
SUMMARY:Vorabendmesse
DESCRIPTION:https://pfarreien-bistum-augsburg.df-preview.de/vorabendmesse_i
 d1747862
DTSTART;TZID=Europe/Berlin:20260502T190000
DURATION:PT30M
LOCATION:Kuratie St. Georg
END:VEVENT
BEGIN:VEVENT
UID:sabre-vobject-5538f392-4266-4b91-bb4d-6f9ef344c124
DTSTAMP:20260422T035858Z
SUMMARY:Bergmesse der FFW Ried
DESCRIPTION:https://pfarreien-bistum-augsburg.df-preview.de/bergmesse-der-f
 fw-ried_id1747930
DTSTART;TZID=Europe/Berlin:20260502T190000
DURATION:PT30M
LOCATION:St. Benedikt Basilica minor
END:VEVENT
BEGIN:VEVENT
UID:sabre-vobject-b4962148-6e90-486b-a307-c57a34fea3e7
DTSTAMP:20260422T035858Z
SUMMARY:Hl. Messe
DESCRIPTION:https://pfarreien-bistum-augsburg.df-preview.de/hl-messe_id1747
 643
DTSTART;TZID=Europe/Berlin:20260503T080000
DURATION:PT30M
LOCATION:St. Benedikt Basilica minor
END:VEVENT
BEGIN:VEVENT
UID:sabre-vobject-e0de2a02-c9a6-4961-af0f-86d71532f92c
DTSTAMP:20260422T035858Z
SUMMARY:Hl. Messe
DESCRIPTION:https://pfarreien-bistum-augsburg.df-preview.de/hl-messe_id1747
 858
DTSTART;TZID=Europe/Berlin:20260503T090000
DURATION:PT30M
LOCATION:Kuratie St. Georg
END:VEVENT
BEGIN:VEVENT
UID:sabre-vobject-131fd1ad-1a0a-4d6d-8d59-754768125123
DTSTAMP:20260422T035858Z
SUMMARY:Hl. Messe
DESCRIPTION:https://pfarreien-bistum-augsburg.df-preview.de/hl-messe_id1747
 743
DTSTART;TZID=Europe/Berlin:20260503T093000
DURATION:PT30M
LOCATION:St. Michael
END:VEVENT
BEGIN:VEVENT
UID:sabre-vobject-1a0d13a3-7390-4502-abcb-47fc9a7dcee7
DTSTAMP:20260422T035858Z
SUMMARY:Kinderkirche
DESCRIPTION:https://pfarreien-bistum-augsburg.df-preview.de/kinderkirche_id
 1747644
DTSTART;TZID=Europe/Berlin:20260503T100000
DURATION:PT30M
LOCATION:St. Benedikt Basilica minor
END:VEVENT
BEGIN:VEVENT
UID:sabre-vobject-a46bfb1a-c6ab-422e-b5d9-002059ae7231
DTSTAMP:20260422T035858Z
SUMMARY:Hl. Messe
DESCRIPTION:https://pfarreien-bistum-augsburg.df-preview.de/hl-messe_id1747
 697
DTSTART;TZID=Europe/Berlin:20260503T100000
DURATION:PT30M
LOCATION:St. Benedikt Basilica minor
END:VEVENT
BEGIN:VEVENT
UID:sabre-vobject-f47e345a-7645-4d92-b4ac-ba285ed798c1
DTSTAMP:20260422T035858Z
SUMMARY:Maiandacht mit den Erstkommunionkindern
DESCRIPTION:https://pfarreien-bistum-augsburg.df-preview.de/maiandacht-mit-
 den-erstkommunionkindern_id1747600
DTSTART;TZID=Europe/Berlin:20260503T190000
DURATION:PT30M
LOCATION:St. Michael
END:VEVENT
BEGIN:VEVENT
UID:sabre-vobject-c23c7fce-3513-4e04-92ae-ac88f8ae5276
DTSTAMP:20260422T035858Z
SUMMARY:Hl. Messe
DESCRIPTION:https://pfarreien-bistum-augsburg.df-preview.de/hl-messe_id1747
 703
DTSTART;TZID=Europe/Berlin:20260503T190000
DURATION:PT30M
LOCATION:St. Benedikt Basilica minor
END:VEVENT
END:VCALENDAR
