BEGIN:VCALENDAR
VERSION:2.0
PRODID:-//Sabre//Sabre VObject 4.5.8//EN
CALSCALE:GREGORIAN
NAME:Bistum Augsburg
X-WR-CALNAME:Bistum Augsburg
BEGIN:VEVENT
UID:sabre-vobject-9d8008b8-b8c5-4418-a5e1-8ef65c1e22a0
DTSTAMP:20260422T173057Z
SUMMARY:Hl. M.:
DESCRIPTION:https://pfarreien-bistum-augsburg.df-preview.de/hl-m_id1727824
DTSTART;TZID=Europe/Berlin:20260426T183000
DURATION:PT30M
LOCATION:St. Jakobus
END:VEVENT
BEGIN:VEVENT
UID:sabre-vobject-057cd585-f0ab-40ee-bfd6-03f68564c549
DTSTAMP:20260422T173057Z
SUMMARY:Hl. M. mit Marienlob an der Fischerhütte:
DESCRIPTION:https://pfarreien-bistum-augsburg.df-preview.de/hl-m-mit-marien
 lob-an-der-fischerhuette_id1737896
DTSTART;TZID=Europe/Berlin:20260503T183000
DURATION:PT30M
LOCATION:St. Jakobus
END:VEVENT
BEGIN:VEVENT
UID:sabre-vobject-4fed9dc5-7073-4ec3-af42-8728e02c0458
DTSTAMP:20260422T173057Z
SUMMARY:Maiandacht gestaltet vom KDFB musikalisch begleitet von Gabi Mayr u
 . Robert Klockzim anschl. Einkehr im Landgasthof "Grüner Baum" (Fam. Dond
 erer)
DESCRIPTION:https://pfarreien-bistum-augsburg.df-preview.de/maiandacht-gest
 altet-vom-kdfb-musikalisch-begleitet-von-gabi-mayr-u-robert-klockzim-ansch
 l-einkehr-im-landgasthof-gruener-baum-fam-donderer_id1737920
DTSTART;TZID=Europe/Berlin:20260508T183000
DURATION:PT30M
LOCATION:St. Jakobus
END:VEVENT
BEGIN:VEVENT
UID:sabre-vobject-01c0dc13-01e8-43dd-b43d-61291f8b3309
DTSTAMP:20260422T173057Z
SUMMARY:Hl. M. mit Marienlob:
DESCRIPTION:https://pfarreien-bistum-augsburg.df-preview.de/hl-m-mit-marien
 lob_id1749046
DTSTART;TZID=Europe/Berlin:20260510T183000
DURATION:PT30M
LOCATION:St. Jakobus
END:VEVENT
BEGIN:VEVENT
UID:sabre-vobject-1a3c9271-1ecb-40e0-b050-147bfff8299b
DTSTAMP:20260422T173057Z
SUMMARY:Maiandacht
DESCRIPTION:https://pfarreien-bistum-augsburg.df-preview.de/maiandacht_id17
 49047
DTSTART;TZID=Europe/Berlin:20260514T183000
DURATION:PT30M
LOCATION:St. Jakobus
END:VEVENT
END:VCALENDAR
