BEGIN:VCALENDAR
VERSION:2.0
PRODID:-//Sabre//Sabre VObject 4.5.8//EN
CALSCALE:GREGORIAN
NAME:Bistum Augsburg
X-WR-CALNAME:Bistum Augsburg
BEGIN:VEVENT
UID:sabre-vobject-ffad228b-83c8-426f-8f11-d95610cd86d9
DTSTAMP:20260423T092231Z
SUMMARY:Eucharistiefeier
DESCRIPTION:https://pfarreien-bistum-augsburg.df-preview.de/eucharistiefeie
 r_id1668194
DTSTART;TZID=Europe/Berlin:20260423T183000
DURATION:PT30M
LOCATION:Heilig Kreuz
END:VEVENT
BEGIN:VEVENT
UID:sabre-vobject-9385d69b-8791-4a9c-97ce-c47db650654b
DTSTAMP:20260423T092231Z
SUMMARY:Vorabendmesse
DESCRIPTION:https://pfarreien-bistum-augsburg.df-preview.de/vorabendmesse_i
 d1752517
DTSTART;TZID=Europe/Berlin:20260425T183000
DURATION:PT30M
LOCATION:Heilig Kreuz
END:VEVENT
BEGIN:VEVENT
UID:sabre-vobject-50c97e7c-93e6-40c1-a316-b137fa49457f
DTSTAMP:20260423T092231Z
SUMMARY:Vorabendmesse
DESCRIPTION:https://pfarreien-bistum-augsburg.df-preview.de/vorabendmesse_i
 d1752518
DTSTART;TZID=Europe/Berlin:20260502T183000
DURATION:PT30M
LOCATION:Heilig Kreuz
END:VEVENT
BEGIN:VEVENT
UID:sabre-vobject-bd0c652b-53fd-4858-ad3b-ba8a2eef539d
DTSTAMP:20260423T092231Z
SUMMARY:Maiandacht
DESCRIPTION:https://pfarreien-bistum-augsburg.df-preview.de/maiandacht_id17
 52519
DTSTART;TZID=Europe/Berlin:20260503T183000
DURATION:PT30M
LOCATION:Heilig Kreuz
END:VEVENT
BEGIN:VEVENT
UID:sabre-vobject-50a7176d-f339-4744-8eef-9dae3b6a176c
DTSTAMP:20260423T092231Z
SUMMARY:Eucharistiefeier
DESCRIPTION:https://pfarreien-bistum-augsburg.df-preview.de/eucharistiefeie
 r_id1752520
DTSTART;TZID=Europe/Berlin:20260510T083000
DURATION:PT30M
LOCATION:Heilig Kreuz
END:VEVENT
BEGIN:VEVENT
UID:sabre-vobject-0085e483-f7e9-4f69-b192-4915654f75ab
DTSTAMP:20260423T092231Z
SUMMARY:Maiandacht gest. vom KDFB
DESCRIPTION:https://pfarreien-bistum-augsburg.df-preview.de/maiandacht-gest
 -vom-kdfb_id1752521
DTSTART;TZID=Europe/Berlin:20260513T183000
DURATION:PT30M
LOCATION:Heilig Kreuz
END:VEVENT
BEGIN:VEVENT
UID:sabre-vobject-fbe83ac2-a019-4434-a606-1cad89bb5c53
DTSTAMP:20260423T092231Z
SUMMARY:Hochfestgottesdienst
DESCRIPTION:https://pfarreien-bistum-augsburg.df-preview.de/hochfestgottesd
 ienst_id1752522
DTSTART;TZID=Europe/Berlin:20260514T100000
DURATION:PT30M
LOCATION:Heilig Kreuz
END:VEVENT
BEGIN:VEVENT
UID:sabre-vobject-245de0ee-dcee-4df3-8c04-54e90d557070
DTSTAMP:20260423T092231Z
SUMMARY:Pfarrgottesdienst
DESCRIPTION:https://pfarreien-bistum-augsburg.df-preview.de/pfarrgottesdien
 st_id1752523
DTSTART;TZID=Europe/Berlin:20260517T100000
DURATION:PT30M
LOCATION:Heilig Kreuz
END:VEVENT
BEGIN:VEVENT
UID:sabre-vobject-da49fb00-86b9-4f4c-8440-634ba68f4562
DTSTAMP:20260423T092231Z
SUMMARY:Feierliche Maiandacht (musik.Gest.: Chorgemeinschaft)
DESCRIPTION:https://pfarreien-bistum-augsburg.df-preview.de/feierliche-maia
 ndacht-musik-gest-chorgemeinschaft_id1752577
DTSTART;TZID=Europe/Berlin:20260517T183000
DURATION:PT30M
LOCATION:Heilig Kreuz
END:VEVENT
BEGIN:VEVENT
UID:sabre-vobject-7110bedd-5ee2-4804-a6f5-79a42588131f
DTSTAMP:20260423T092231Z
SUMMARY:Vorabendmesse zu Pfingsten
DESCRIPTION:https://pfarreien-bistum-augsburg.df-preview.de/vorabendmesse-z
 u-pfingsten_id1752578
DTSTART;TZID=Europe/Berlin:20260523T183000
DURATION:PT30M
LOCATION:Heilig Kreuz
END:VEVENT
BEGIN:VEVENT
UID:sabre-vobject-c2a7704b-fced-4706-ba84-31f70c2ed5ca
DTSTAMP:20260423T092231Z
SUMMARY:Eucharistiefeier
DESCRIPTION:https://pfarreien-bistum-augsburg.df-preview.de/eucharistiefeie
 r_id1752790
DTSTART;TZID=Europe/Berlin:20260528T183000
DURATION:PT30M
LOCATION:Heilig Kreuz
END:VEVENT
BEGIN:VEVENT
UID:sabre-vobject-97a232f8-65a9-4a73-bc55-92b4a821e0ab
DTSTAMP:20260423T092231Z
SUMMARY:Eucharistiefeier
DESCRIPTION:https://pfarreien-bistum-augsburg.df-preview.de/eucharistiefeie
 r_id1752791
DTSTART;TZID=Europe/Berlin:20260531T083000
DURATION:PT30M
LOCATION:Heilig Kreuz
END:VEVENT
END:VCALENDAR
