BEGIN:VCALENDAR
VERSION:2.0
PRODID:-//Sabre//Sabre VObject 4.5.8//EN
CALSCALE:GREGORIAN
NAME:Bistum Augsburg
X-WR-CALNAME:Bistum Augsburg
BEGIN:VEVENT
UID:sabre-vobject-bb2c46d1-3986-47ec-8ab3-c5e02caf5bfe
DTSTAMP:20260420T100520Z
SUMMARY:Messe in St. Ulrich
DESCRIPTION:https://pfarreien-bistum-augsburg.df-preview.de/messe-in-st-ulr
 ich_id1738375
DTSTART;TZID=Europe/Berlin:20260420T183000
DURATION:PT30M
LOCATION:St. Ulrich
END:VEVENT
BEGIN:VEVENT
UID:sabre-vobject-f090cfd0-90e2-47a5-8139-2badb8bd4768
DTSTAMP:20260420T100520Z
SUMMARY:Messe in Maria unterm Kreuz
DESCRIPTION:https://pfarreien-bistum-augsburg.df-preview.de/messe-in-maria-
 unterm-kreuz_id1738376
DTSTART;TZID=Europe/Berlin:20260421T183000
DURATION:PT30M
LOCATION:St. Ulrich
END:VEVENT
BEGIN:VEVENT
UID:sabre-vobject-05f5c6c3-16a1-4890-a7ea-2bfae5b09cac
DTSTAMP:20260420T100520Z
SUMMARY:Laudes in St. Ulrich
DESCRIPTION:https://pfarreien-bistum-augsburg.df-preview.de/laudes-in-st-ul
 rich_id1738377
DTSTART;TZID=Europe/Berlin:20260422T080000
DURATION:PT30M
LOCATION:St. Ulrich
END:VEVENT
BEGIN:VEVENT
UID:sabre-vobject-cc585bc7-4a20-4443-854e-769b71d7b972
DTSTAMP:20260420T100520Z
SUMMARY:Messe in Zur Göttlichen Vorsehung
DESCRIPTION:https://pfarreien-bistum-augsburg.df-preview.de/messe-in-zur-go
 ettlichen-vorsehung_id1738378
DTSTART;TZID=Europe/Berlin:20260422T183000
DURATION:PT30M
LOCATION:St. Ulrich
END:VEVENT
BEGIN:VEVENT
UID:sabre-vobject-969c9ef5-04c3-42ac-a465-7ded1966dfa8
DTSTAMP:20260420T100520Z
SUMMARY:Beichtgelegenheit in Zur Göttlichen Vorsehung
DESCRIPTION:https://pfarreien-bistum-augsburg.df-preview.de/beichtgelegenhe
 it-in-zur-goettlichen-vorsehung_id1738399
DTSTART;TZID=Europe/Berlin:20260422T190000
DURATION:PT30M
LOCATION:St. Ulrich
END:VEVENT
BEGIN:VEVENT
UID:sabre-vobject-f4d1a2dd-c5e8-4a16-8792-9b611c02b7ae
DTSTAMP:20260420T100520Z
SUMMARY:Messe im Caritas-Seniorenzentrum St. Hedwig
DESCRIPTION:https://pfarreien-bistum-augsburg.df-preview.de/messe-im-carita
 s-seniorenzentrum-st-hedwig_id1738464
DTSTART;TZID=Europe/Berlin:20260423T090000
DURATION:PT30M
LOCATION:St. Ulrich
END:VEVENT
BEGIN:VEVENT
UID:sabre-vobject-f683232c-9c73-4e8c-b12e-b8c7494f549b
DTSTAMP:20260420T100520Z
SUMMARY:Abendmesse Silentium in Maria unterm Kreuz\, Meditationsraum
DESCRIPTION:https://pfarreien-bistum-augsburg.df-preview.de/abendmesse-sile
 ntium-in-maria-unterm-kreuz-meditationsraum_id1738465
DTSTART;TZID=Europe/Berlin:20260423T190000
DURATION:PT30M
LOCATION:St. Ulrich
END:VEVENT
BEGIN:VEVENT
UID:sabre-vobject-e8ba99ce-0cfc-480b-8817-f09f2b588a53
DTSTAMP:20260420T100520Z
SUMMARY:Messe in St. Ulrich
DESCRIPTION:https://pfarreien-bistum-augsburg.df-preview.de/messe-in-st-ulr
 ich_id1738466
DTSTART;TZID=Europe/Berlin:20260424T083000
DURATION:PT30M
LOCATION:St. Ulrich
END:VEVENT
BEGIN:VEVENT
UID:sabre-vobject-c6331747-8e27-47d0-8704-1b1ff521d409
DTSTAMP:20260420T100520Z
SUMMARY:Messe im Caritas-Seniorenzentrum St. Hedwig
DESCRIPTION:https://pfarreien-bistum-augsburg.df-preview.de/messe-im-carita
 s-seniorenzentrum-st-hedwig_id1738467
DTSTART;TZID=Europe/Berlin:20260424T170000
DURATION:PT30M
LOCATION:St. Ulrich
END:VEVENT
END:VCALENDAR
