BEGIN:VCALENDAR
VERSION:2.0
PRODID:-//Sabre//Sabre VObject 4.5.8//EN
CALSCALE:GREGORIAN
NAME:Bistum Augsburg
X-WR-CALNAME:Bistum Augsburg
BEGIN:VEVENT
UID:sabre-vobject-98321bf1-fc1c-46f4-aff4-c6554a241283
DTSTAMP:20260422T015206Z
SUMMARY:Hl. Messe
DESCRIPTION:https://pfarreien-bistum-augsburg.df-preview.de/hl-messe_id1741
 942
DTSTART;TZID=Europe/Berlin:20260422T073000
DURATION:PT30M
LOCATION:Mariä Opferung\, Baumgärtle 4\, 87739 Baumgärtle
END:VEVENT
BEGIN:VEVENT
UID:sabre-vobject-b6fd323f-84cf-4274-80fc-ac3ea4a9a739
DTSTAMP:20260422T015206Z
SUMMARY:Rosenkranz
DESCRIPTION:https://pfarreien-bistum-augsburg.df-preview.de/rosenkranz_id17
 41797
DTSTART;TZID=Europe/Berlin:20260422T083000
DURATION:PT30M
LOCATION:Mariä Opferung\, Baumgärtle 4\, 87739 Baumgärtle
END:VEVENT
BEGIN:VEVENT
UID:sabre-vobject-dd6da562-8c88-4457-a041-896371c7288b
DTSTAMP:20260422T015206Z
SUMMARY:Wallfahrtsmesse mit Krankengebet
DESCRIPTION:https://pfarreien-bistum-augsburg.df-preview.de/wallfahrtsmesse
 -mit-krankengebet_id1741798
DTSTART;TZID=Europe/Berlin:20260422T090000
DURATION:PT30M
LOCATION:Mariä Opferung\, Baumgärtle 4\, 87739 Baumgärtle
END:VEVENT
BEGIN:VEVENT
UID:sabre-vobject-8cad0b79-f258-44b5-9fea-f0a91b2cd520
DTSTAMP:20260422T015206Z
SUMMARY:Hl. Messe
DESCRIPTION:https://pfarreien-bistum-augsburg.df-preview.de/hl-messe_id1741
 799
DTSTART;TZID=Europe/Berlin:20260423T073000
DURATION:PT30M
LOCATION:Mariä Opferung\, Baumgärtle 4\, 87739 Baumgärtle
END:VEVENT
BEGIN:VEVENT
UID:sabre-vobject-8a526561-cce8-415c-9330-72dfff8012ca
DTSTAMP:20260422T015206Z
SUMMARY:Eucharistische Anbetung um Berufungen
DESCRIPTION:https://pfarreien-bistum-augsburg.df-preview.de/eucharistische-
 anbetung-um-berufungen_id1741800
DTSTART;TZID=Europe/Berlin:20260423T190000
DURATION:PT30M
LOCATION:Mariä Opferung\, Baumgärtle 4\, 87739 Baumgärtle
END:VEVENT
BEGIN:VEVENT
UID:sabre-vobject-145c1989-4415-4750-aca4-bc33dcb51604
DTSTAMP:20260422T015206Z
SUMMARY:Hl. Messe
DESCRIPTION:https://pfarreien-bistum-augsburg.df-preview.de/hl-messe_id1741
 801
DTSTART;TZID=Europe/Berlin:20260424T073000
DURATION:PT30M
LOCATION:Mariä Opferung\, Baumgärtle 4\, 87739 Baumgärtle
END:VEVENT
BEGIN:VEVENT
UID:sabre-vobject-b0651a4a-c97e-43d6-961a-019ae3c1109f
DTSTAMP:20260422T015206Z
SUMMARY:Rosenkranz vom Kostbaren Blut - BG: Mo\, Fr u. Sa 9.00-11.30\, 14.0
 0-17.30 u. 18.30-20.00\, Mi 10.00 - 11.30 u. 14.00 - 17.30\, Sonn- u. Feie
 rtag jeweils vor Beginn des Gottesdienstes in der Kir
DESCRIPTION:https://pfarreien-bistum-augsburg.df-preview.de/rosenkranz-vom-
 kostbaren-blut-bg-mo-fr-u-sa-9-00-11-30-14-00-17-30-u-18-30-20-00-mi-10-00
 -11-30-u-14-00-17-30-sonn-u-feiertag-jeweils-vor-beginn-des-gottesdienstes
 -in-der-kir_id1741810
DTSTART;TZID=Europe/Berlin:20260424T190000
DURATION:PT30M
LOCATION:Mariä Opferung\, Baumgärtle 4\, 87739 Baumgärtle
END:VEVENT
END:VCALENDAR
