BEGIN:VCALENDAR
VERSION:2.0
PRODID:-//Sabre//Sabre VObject 4.5.8//EN
CALSCALE:GREGORIAN
NAME:Bistum Augsburg
X-WR-CALNAME:Bistum Augsburg
BEGIN:VEVENT
UID:sabre-vobject-65cd0019-ab44-4eae-8b8d-cd3a1bdcd9cd
DTSTAMP:20260421T044522Z
SUMMARY:Rosenkranz
DESCRIPTION:https://pfarreien-bistum-augsburg.df-preview.de/rosenkranz_id17
 23586
DTSTART;TZID=Europe/Berlin:20260423T083000
DURATION:PT30M
LOCATION:St. Adelgundis
END:VEVENT
BEGIN:VEVENT
UID:sabre-vobject-12de5ef4-7f2a-4081-aa9e-ed8a0869eb7c
DTSTAMP:20260421T044522Z
SUMMARY:Heilige Messe
DESCRIPTION:https://pfarreien-bistum-augsburg.df-preview.de/heilige-messe_i
 d1723587
DTSTART;TZID=Europe/Berlin:20260423T090000
DURATION:PT30M
LOCATION:St. Adelgundis
END:VEVENT
BEGIN:VEVENT
UID:sabre-vobject-d8beceef-7c98-4ade-9c91-b6823eadaa75
DTSTAMP:20260421T044522Z
SUMMARY:Beichte für die Erstkommunionkinder
DESCRIPTION:https://pfarreien-bistum-augsburg.df-preview.de/beichte-fuer-di
 e-erstkommunionkinder_id1723588
DTSTART;TZID=Europe/Berlin:20260423T150000
DURATION:PT30M
LOCATION:St. Adelgundis
END:VEVENT
BEGIN:VEVENT
UID:sabre-vobject-abf38d8f-0db9-4f58-b83b-0bdede54eaea
DTSTAMP:20260421T044522Z
SUMMARY:Heilige Messe für die Pfarrgemeinde
DESCRIPTION:https://pfarreien-bistum-augsburg.df-preview.de/heilige-messe-f
 uer-die-pfarrgemeinde_id1723764
DTSTART;TZID=Europe/Berlin:20260426T090000
DURATION:PT30M
LOCATION:St. Adelgundis
END:VEVENT
BEGIN:VEVENT
UID:sabre-vobject-abc2ed0a-b986-4178-bed1-d1b26f8a9593
DTSTAMP:20260421T044522Z
SUMMARY:Rosenkranz
DESCRIPTION:https://pfarreien-bistum-augsburg.df-preview.de/rosenkranz_id17
 23765
DTSTART;TZID=Europe/Berlin:20260430T083000
DURATION:PT30M
LOCATION:St. Adelgundis
END:VEVENT
BEGIN:VEVENT
UID:sabre-vobject-7e97a1e8-6e10-4ab8-8e6a-bc7d1da6ec34
DTSTAMP:20260421T044522Z
SUMMARY:Heilige Messe
DESCRIPTION:https://pfarreien-bistum-augsburg.df-preview.de/heilige-messe_i
 d1723782
DTSTART;TZID=Europe/Berlin:20260430T090000
DURATION:PT30M
LOCATION:St. Adelgundis
END:VEVENT
BEGIN:VEVENT
UID:sabre-vobject-67d32926-fd50-40dd-a473-928d4d8d263a
DTSTAMP:20260421T044522Z
SUMMARY:Heilige Messe für die Pfarrgemeinde\nFloriansmesse
DESCRIPTION:https://pfarreien-bistum-augsburg.df-preview.de/heilige-messe-f
 uer-die-pfarrgemeinde-floriansmesse_id1735847
DTSTART;TZID=Europe/Berlin:20260503T103000
DURATION:PT30M
LOCATION:St. Adelgundis
END:VEVENT
BEGIN:VEVENT
UID:sabre-vobject-00ba4785-a626-4060-8130-4004c46c8f15
DTSTAMP:20260421T044522Z
SUMMARY:Familienmaiandacht im Pfarrgarten
DESCRIPTION:https://pfarreien-bistum-augsburg.df-preview.de/familienmaianda
 cht-im-pfarrgarten_id1735849
DTSTART;TZID=Europe/Berlin:20260503T170000
DURATION:PT30M
LOCATION:St. Adelgundis
END:VEVENT
BEGIN:VEVENT
UID:sabre-vobject-a676197e-471f-4ab5-8012-017a032e7db7
DTSTAMP:20260421T044522Z
SUMMARY:Rosenkranz
DESCRIPTION:https://pfarreien-bistum-augsburg.df-preview.de/rosenkranz_id17
 35850
DTSTART;TZID=Europe/Berlin:20260507T083000
DURATION:PT30M
LOCATION:St. Adelgundis
END:VEVENT
BEGIN:VEVENT
UID:sabre-vobject-21f66914-4e99-4158-bb7d-eb46e996dd01
DTSTAMP:20260421T044522Z
SUMMARY:Heilige Messe
DESCRIPTION:https://pfarreien-bistum-augsburg.df-preview.de/heilige-messe_i
 d1735853
DTSTART;TZID=Europe/Berlin:20260507T090000
DURATION:PT30M
LOCATION:St. Adelgundis
END:VEVENT
BEGIN:VEVENT
UID:sabre-vobject-8e412adf-c481-4281-947c-141b4644a95e
DTSTAMP:20260421T044522Z
SUMMARY:Zeit für mich - mit Musik \nKonzert mit Theresa Steinbach
DESCRIPTION:https://pfarreien-bistum-augsburg.df-preview.de/zeit-fuer-mich-
 mit-musik-konzert-mit-theresa-steinbach_id1742808
DTSTART;TZID=Europe/Berlin:20260509T170000
DURATION:PT30M
LOCATION:St. Adelgundis
END:VEVENT
BEGIN:VEVENT
UID:sabre-vobject-3c90075c-1460-4a92-b42b-62141c5ba046
DTSTAMP:20260421T044522Z
SUMMARY:Heilige Messe für die Pfarrgemeinde
DESCRIPTION:https://pfarreien-bistum-augsburg.df-preview.de/heilige-messe-f
 uer-die-pfarrgemeinde_id1742809
DTSTART;TZID=Europe/Berlin:20260510T090000
DURATION:PT30M
LOCATION:St. Adelgundis
END:VEVENT
BEGIN:VEVENT
UID:sabre-vobject-dd945f9e-d914-40e1-9e5d-1e79eb73ec92
DTSTAMP:20260421T044522Z
SUMMARY:Heilige Messe für die Pfarrgemeinde\nVAM zu Christi Himmelfahrt
DESCRIPTION:https://pfarreien-bistum-augsburg.df-preview.de/heilige-messe-f
 uer-die-pfarrgemeinde-vam-zu-christi-himmelfahrt_id1742810
DTSTART;TZID=Europe/Berlin:20260513T180000
DURATION:PT30M
LOCATION:St. Adelgundis
END:VEVENT
END:VCALENDAR
