BEGIN:VCALENDAR
VERSION:2.0
PRODID:-//Sabre//Sabre VObject 4.5.8//EN
CALSCALE:GREGORIAN
NAME:Bistum Augsburg
X-WR-CALNAME:Bistum Augsburg
BEGIN:VEVENT
UID:sabre-vobject-e1089a7f-e608-4f8c-a994-5ab00838618a
DTSTAMP:20260420T100423Z
SUMMARY:Eucharistische Anbetung u. Beichte
DESCRIPTION:https://pfarreien-bistum-augsburg.df-preview.de/eucharistische-
 anbetung-u-beichte_id1723962
DTSTART;TZID=Europe/Berlin:20260424T180000
DURATION:PT30M
LOCATION:St. Joseph
END:VEVENT
BEGIN:VEVENT
UID:sabre-vobject-6aeac85d-0eae-4c5d-9bea-53b9669b8d7d
DTSTAMP:20260420T100423Z
SUMMARY:Heilige Messe
DESCRIPTION:https://pfarreien-bistum-augsburg.df-preview.de/heilige-messe_i
 d1723864
DTSTART;TZID=Europe/Berlin:20260424T190000
DURATION:PT30M
LOCATION:St. Joseph
END:VEVENT
BEGIN:VEVENT
UID:sabre-vobject-a9c20f6c-666d-47be-9551-2dbe2fe57d8f
DTSTAMP:20260420T100423Z
SUMMARY:GD der syri.-kath. Gemeinde
DESCRIPTION:https://pfarreien-bistum-augsburg.df-preview.de/gd-der-syri-kat
 h-gemeinde_id1723662
DTSTART;TZID=Europe/Berlin:20260425T180000
DURATION:PT30M
LOCATION:St. Joseph
END:VEVENT
BEGIN:VEVENT
UID:sabre-vobject-baaed878-1013-4988-945a-07ec9d96459d
DTSTAMP:20260420T100423Z
SUMMARY:GD der portugiesischen Gemeinde
DESCRIPTION:https://pfarreien-bistum-augsburg.df-preview.de/gd-der-portugie
 sischen-gemeinde_id1723663
DTSTART;TZID=Europe/Berlin:20260426T093000
DURATION:PT30M
LOCATION:St. Joseph
END:VEVENT
BEGIN:VEVENT
UID:sabre-vobject-a2be30ba-bc5a-4c07-a347-2afe866b950f
DTSTAMP:20260420T100423Z
SUMMARY:Entfällt - GD der syri.-kath. Gemeinde
DESCRIPTION:https://pfarreien-bistum-augsburg.df-preview.de/entfaellt-gd-de
 r-syri-kath-gemeinde_id1723664
DTSTART;TZID=Europe/Berlin:20260426T110000
DURATION:PT30M
LOCATION:St. Joseph
END:VEVENT
BEGIN:VEVENT
UID:sabre-vobject-1274ada5-4291-4fd2-9ae9-52c869132c87
DTSTAMP:20260420T100423Z
SUMMARY:Heilige Messe
DESCRIPTION:https://pfarreien-bistum-augsburg.df-preview.de/heilige-messe_i
 d1723684
DTSTART;TZID=Europe/Berlin:20260426T190000
DURATION:PT30M
LOCATION:St. Joseph
END:VEVENT
BEGIN:VEVENT
UID:sabre-vobject-065489ba-e2ff-4a69-b830-0caff3a8b936
DTSTAMP:20260420T100423Z
SUMMARY:Entfällt - Eucharistische Anbetung u. Beichte
DESCRIPTION:https://pfarreien-bistum-augsburg.df-preview.de/entfaellt-eucha
 ristische-anbetung-u-beichte_id1723685
DTSTART;TZID=Europe/Berlin:20260501T180000
DURATION:PT30M
LOCATION:St. Joseph
END:VEVENT
BEGIN:VEVENT
UID:sabre-vobject-558fb370-5099-4d02-8084-4c7863224272
DTSTAMP:20260420T100423Z
SUMMARY:Entfällt - Heilige Messe
DESCRIPTION:https://pfarreien-bistum-augsburg.df-preview.de/entfaellt-heili
 ge-messe_id1723686
DTSTART;TZID=Europe/Berlin:20260501T190000
DURATION:PT30M
LOCATION:St. Joseph
END:VEVENT
BEGIN:VEVENT
UID:sabre-vobject-f0b2b814-4393-41a9-b5ee-26015b96f5f1
DTSTAMP:20260420T100423Z
SUMMARY:GD der portugiesischen Gemeinde
DESCRIPTION:https://pfarreien-bistum-augsburg.df-preview.de/gd-der-portugie
 sischen-gemeinde_id1737571
DTSTART;TZID=Europe/Berlin:20260503T093000
DURATION:PT30M
LOCATION:St. Joseph
END:VEVENT
BEGIN:VEVENT
UID:sabre-vobject-97f22d68-5f1a-4182-bd8d-9cc3ff70aee4
DTSTAMP:20260420T100423Z
SUMMARY:GD der syri.-kath. Gemeinde
DESCRIPTION:https://pfarreien-bistum-augsburg.df-preview.de/gd-der-syri-kat
 h-gemeinde_id1737572
DTSTART;TZID=Europe/Berlin:20260503T110000
DURATION:PT30M
LOCATION:St. Joseph
END:VEVENT
BEGIN:VEVENT
UID:sabre-vobject-cc6a6ac7-51d1-4be5-8b13-bf59610bc6e5
DTSTAMP:20260420T100423Z
SUMMARY:Heilige Messe
DESCRIPTION:https://pfarreien-bistum-augsburg.df-preview.de/heilige-messe_i
 d1737573
DTSTART;TZID=Europe/Berlin:20260503T190000
DURATION:PT30M
LOCATION:St. Joseph
END:VEVENT
BEGIN:VEVENT
UID:sabre-vobject-fec77499-ee1d-4b7f-b9fc-6f0dcb154ac6
DTSTAMP:20260420T100423Z
SUMMARY:Eucharistische Anbetung u. Beichte
DESCRIPTION:https://pfarreien-bistum-augsburg.df-preview.de/eucharistische-
 anbetung-u-beichte_id1737113
DTSTART;TZID=Europe/Berlin:20260508T180000
DURATION:PT30M
LOCATION:St. Joseph
END:VEVENT
BEGIN:VEVENT
UID:sabre-vobject-01c2b11b-e34d-4fa1-bfce-34ed22d2f054
DTSTAMP:20260420T100423Z
SUMMARY:Heilige Messe
DESCRIPTION:https://pfarreien-bistum-augsburg.df-preview.de/heilige-messe_i
 d1737114
DTSTART;TZID=Europe/Berlin:20260508T190000
DURATION:PT30M
LOCATION:St. Joseph
END:VEVENT
BEGIN:VEVENT
UID:sabre-vobject-12bb5167-a9b4-45fb-a36c-a49855335202
DTSTAMP:20260420T100423Z
SUMMARY:GD der portugiesischen Gemeinde
DESCRIPTION:https://pfarreien-bistum-augsburg.df-preview.de/gd-der-portugie
 sischen-gemeinde_id1746335
DTSTART;TZID=Europe/Berlin:20260510T093000
DURATION:PT30M
LOCATION:St. Joseph
END:VEVENT
BEGIN:VEVENT
UID:sabre-vobject-68cddf9c-93b7-4337-a1dc-51b5edb61ad2
DTSTAMP:20260420T100423Z
SUMMARY:GD der syri.-kath. Gemeinde
DESCRIPTION:https://pfarreien-bistum-augsburg.df-preview.de/gd-der-syri-kat
 h-gemeinde_id1746308
DTSTART;TZID=Europe/Berlin:20260510T110000
DURATION:PT30M
LOCATION:St. Joseph
END:VEVENT
BEGIN:VEVENT
UID:sabre-vobject-4a5949ef-a39e-40a2-a833-1ef351a8e6a3
DTSTAMP:20260420T100423Z
SUMMARY:"Klang-Raum-Gott" (Holger Marschall)
DESCRIPTION:https://pfarreien-bistum-augsburg.df-preview.de/klang-raum-gott
 -holger-marschall_id1746357
DTSTART;TZID=Europe/Berlin:20260510T170000
DURATION:PT30M
LOCATION:St. Joseph
END:VEVENT
BEGIN:VEVENT
UID:sabre-vobject-252028dc-2e8f-42da-af41-49ba1a32bb1a
DTSTAMP:20260420T100423Z
SUMMARY:Heilige Messe
DESCRIPTION:https://pfarreien-bistum-augsburg.df-preview.de/heilige-messe_i
 d1746358
DTSTART;TZID=Europe/Berlin:20260510T190000
DURATION:PT30M
LOCATION:St. Joseph
END:VEVENT
BEGIN:VEVENT
UID:sabre-vobject-6a890e11-e9a5-4b50-a8e0-c4f22d17a07d
DTSTAMP:20260420T100423Z
SUMMARY:Syr.-kath. Gemeinde: Hl. Messe zu Christi Himmelfahrt\, bei schöne
 m Wetter am See
DESCRIPTION:https://pfarreien-bistum-augsburg.df-preview.de/syr-kath-gemein
 de-hl-messe-zu-christi-himmelfahrt-bei-schoenem-wetter-am-see_id1746355
DTSTART;TZID=Europe/Berlin:20260514T170000
DURATION:PT30M
LOCATION:St. Joseph
END:VEVENT
BEGIN:VEVENT
UID:sabre-vobject-367dc3ba-0d96-4af8-8069-bf23a51bceff
DTSTAMP:20260420T100423Z
SUMMARY:Eucharistische Anbetung u. Beichte
DESCRIPTION:https://pfarreien-bistum-augsburg.df-preview.de/eucharistische-
 anbetung-u-beichte_id1746356
DTSTART;TZID=Europe/Berlin:20260515T180000
DURATION:PT30M
LOCATION:St. Joseph
END:VEVENT
BEGIN:VEVENT
UID:sabre-vobject-ffaf5353-73e2-4270-9122-74915100e3c2
DTSTAMP:20260420T100423Z
SUMMARY:Heilige Messe
DESCRIPTION:https://pfarreien-bistum-augsburg.df-preview.de/heilige-messe_i
 d1746359
DTSTART;TZID=Europe/Berlin:20260515T190000
DURATION:PT30M
LOCATION:St. Joseph
END:VEVENT
BEGIN:VEVENT
UID:sabre-vobject-2fd622b7-c92b-416e-8318-a27f641cf2e4
DTSTAMP:20260420T100423Z
SUMMARY:GD der portugiesischen Gemeinde
DESCRIPTION:https://pfarreien-bistum-augsburg.df-preview.de/gd-der-portugie
 sischen-gemeinde_id1746360
DTSTART;TZID=Europe/Berlin:20260517T093000
DURATION:PT30M
LOCATION:St. Joseph
END:VEVENT
BEGIN:VEVENT
UID:sabre-vobject-4e138e2d-2723-47e3-ad79-9cc31b2262ad
DTSTAMP:20260420T100423Z
SUMMARY:GD der syri.-kath. Gemeinde
DESCRIPTION:https://pfarreien-bistum-augsburg.df-preview.de/gd-der-syri-kat
 h-gemeinde_id1746315
DTSTART;TZID=Europe/Berlin:20260517T110000
DURATION:PT30M
LOCATION:St. Joseph
END:VEVENT
BEGIN:VEVENT
UID:sabre-vobject-419f79d1-3823-4d13-8ca0-2d42d25e085b
DTSTAMP:20260420T100423Z
SUMMARY:Maiandacht\, gestaltet von den Petrus Claver Schwestern
DESCRIPTION:https://pfarreien-bistum-augsburg.df-preview.de/maiandacht-gest
 altet-von-den-petrus-claver-schwestern_id1746316
DTSTART;TZID=Europe/Berlin:20260517T180000
DURATION:PT30M
LOCATION:St. Joseph
END:VEVENT
BEGIN:VEVENT
UID:sabre-vobject-4e0e7d01-b4ce-4352-a676-d5052de77e41
DTSTAMP:20260420T100423Z
SUMMARY:Heilige Messe
DESCRIPTION:https://pfarreien-bistum-augsburg.df-preview.de/heilige-messe_i
 d1746317
DTSTART;TZID=Europe/Berlin:20260517T190000
DURATION:PT30M
LOCATION:St. Joseph
END:VEVENT
END:VCALENDAR
