BEGIN:VCALENDAR
VERSION:2.0
PRODID:-//Sabre//Sabre VObject 4.5.8//EN
CALSCALE:GREGORIAN
NAME:Bistum Augsburg
X-WR-CALNAME:Bistum Augsburg
BEGIN:VEVENT
UID:sabre-vobject-8d623889-9e0c-46f7-a60b-e69b4629e250
DTSTAMP:20260422T042710Z
SUMMARY:Rosenkranz
DESCRIPTION:https://pfarreien-bistum-augsburg.df-preview.de/rosenkranz_id17
 41613
DTSTART;TZID=Europe/Berlin:20260424T081500
DURATION:PT30M
LOCATION:St. Gordian und Epimach
END:VEVENT
BEGIN:VEVENT
UID:sabre-vobject-e6eb47fc-0d1a-4576-98ac-42bb7c496dda
DTSTAMP:20260422T042710Z
SUMMARY:Rosenkranz
DESCRIPTION:https://pfarreien-bistum-augsburg.df-preview.de/rosenkranz_id17
 50502
DTSTART;TZID=Europe/Berlin:20260426T094500
DURATION:PT30M
LOCATION:St. Gordian und Epimach
END:VEVENT
BEGIN:VEVENT
UID:sabre-vobject-4b4b6368-5396-46f8-aef6-d12e3e0d5a25
DTSTAMP:20260422T042710Z
SUMMARY:Pfarrgottesdienst
DESCRIPTION:https://pfarreien-bistum-augsburg.df-preview.de/pfarrgottesdien
 st_id1750515
DTSTART;TZID=Europe/Berlin:20260426T100000
DURATION:PT30M
LOCATION:St. Gordian und Epimach
END:VEVENT
BEGIN:VEVENT
UID:sabre-vobject-978de407-3d45-4c9c-b631-0148bbc41bd0
DTSTAMP:20260422T042710Z
SUMMARY:Rosenkranz
DESCRIPTION:https://pfarreien-bistum-augsburg.df-preview.de/rosenkranz_id17
 50528
DTSTART;TZID=Europe/Berlin:20260428T184500
DURATION:PT30M
LOCATION:St. Gordian und Epimach
END:VEVENT
BEGIN:VEVENT
UID:sabre-vobject-0e957560-20a9-49af-8a47-f42fe66b679f
DTSTAMP:20260422T042710Z
SUMMARY:Abendmesse
DESCRIPTION:https://pfarreien-bistum-augsburg.df-preview.de/abendmesse_id17
 50516
DTSTART;TZID=Europe/Berlin:20260428T191500
DURATION:PT30M
LOCATION:St. Gordian und Epimach
END:VEVENT
BEGIN:VEVENT
UID:sabre-vobject-434d66b3-685e-4e1b-a9d6-bde22d8fa3e0
DTSTAMP:20260422T042710Z
SUMMARY:Erste feierliche Maiandacht (WoGo Team)
DESCRIPTION:https://pfarreien-bistum-augsburg.df-preview.de/erste-feierlich
 e-maiandacht-wogo-team_id1750517
DTSTART;TZID=Europe/Berlin:20260501T191500
DURATION:PT30M
LOCATION:St. Gordian und Epimach
END:VEVENT
END:VCALENDAR
