BEGIN:VCALENDAR
VERSION:2.0
PRODID:-//Sabre//Sabre VObject 4.5.8//EN
CALSCALE:GREGORIAN
NAME:Bistum Augsburg
X-WR-CALNAME:Bistum Augsburg
BEGIN:VEVENT
UID:sabre-vobject-2fecb223-18b5-44d0-8023-29c55738250a
DTSTAMP:20260421T073405Z
SUMMARY:Friedensgebet an der Kirche
DESCRIPTION:https://pfarreien-bistum-augsburg.df-preview.de/friedensgebet-a
 n-der-kirche_id1739262
DTSTART;TZID=Europe/Berlin:20260421T183000
DURATION:PT30M
LOCATION:St. Vitus
END:VEVENT
BEGIN:VEVENT
UID:sabre-vobject-63338282-df02-4f8c-9d3f-887063c96881
DTSTAMP:20260421T073405Z
SUMMARY:Heilige Messe
DESCRIPTION:https://pfarreien-bistum-augsburg.df-preview.de/heilige-messe_i
 d1739268
DTSTART;TZID=Europe/Berlin:20260423T183000
DURATION:PT30M
LOCATION:St. Vitus
END:VEVENT
BEGIN:VEVENT
UID:sabre-vobject-4366c762-30ad-4250-9b44-223692abdc32
DTSTAMP:20260421T073405Z
SUMMARY:Beichtgelegenheit
DESCRIPTION:https://pfarreien-bistum-augsburg.df-preview.de/beichtgelegenhe
 it_id1749416
DTSTART;TZID=Europe/Berlin:20260425T180000
DURATION:PT30M
LOCATION:St. Vitus
END:VEVENT
BEGIN:VEVENT
UID:sabre-vobject-b7350bf0-1973-45ce-9d42-a888bf5ced8d
DTSTAMP:20260421T073405Z
SUMMARY:Vorabendmesse\, Dankgottesdienst der Erstkommunionkinder
DESCRIPTION:https://pfarreien-bistum-augsburg.df-preview.de/vorabendmesse-d
 ankgottesdienst-der-erstkommunionkinder_id1748503
DTSTART;TZID=Europe/Berlin:20260425T183000
DURATION:PT30M
LOCATION:St. Vitus
END:VEVENT
BEGIN:VEVENT
UID:sabre-vobject-cb60bca5-ccc9-4641-9ee3-1bae1b65836b
DTSTAMP:20260421T073405Z
SUMMARY:Friedensgebet an der Kirche
DESCRIPTION:https://pfarreien-bistum-augsburg.df-preview.de/friedensgebet-a
 n-der-kirche_id1748570
DTSTART;TZID=Europe/Berlin:20260428T183000
DURATION:PT30M
LOCATION:St. Vitus
END:VEVENT
BEGIN:VEVENT
UID:sabre-vobject-236e12f3-b19f-4781-8624-203b7830cdcb
DTSTAMP:20260421T073405Z
SUMMARY:Heilige Messe
DESCRIPTION:https://pfarreien-bistum-augsburg.df-preview.de/heilige-messe_i
 d1748599
DTSTART;TZID=Europe/Berlin:20260430T183000
DURATION:PT30M
LOCATION:St. Vitus
END:VEVENT
BEGIN:VEVENT
UID:sabre-vobject-39d4ffbf-01bc-43ce-bd89-eb3477a1afca
DTSTAMP:20260421T073405Z
SUMMARY:Festgottesdienst zu Maria Patrona Bavariae
DESCRIPTION:https://pfarreien-bistum-augsburg.df-preview.de/festgottesdiens
 t-zu-maria-patrona-bavariae_id1748589
DTSTART;TZID=Europe/Berlin:20260501T100000
DURATION:PT30M
LOCATION:St. Vitus
END:VEVENT
BEGIN:VEVENT
UID:sabre-vobject-4e7c760f-e3d0-4e30-987c-63dc86365ade
DTSTAMP:20260421T073405Z
SUMMARY:Pfarrgottesdienst für die Lebenden und Verstorbenen der Pfarreieng
 emeinschaft
DESCRIPTION:https://pfarreien-bistum-augsburg.df-preview.de/pfarrgottesdien
 st-fuer-die-lebenden-und-verstorbenen-der-pfarreiengemeinschaft_id1747376
DTSTART;TZID=Europe/Berlin:20260503T083000
DURATION:PT30M
LOCATION:St. Vitus
END:VEVENT
BEGIN:VEVENT
UID:sabre-vobject-0c9dd511-56b5-4cde-a11c-b2f316bbf0fa
DTSTAMP:20260421T073405Z
SUMMARY:Gemeinsame Maiandacht der Pfarreiengemeinschaft im Auwald\n
DESCRIPTION:https://pfarreien-bistum-augsburg.df-preview.de/gemeinsame-maia
 ndacht-der-pfarreiengemeinschaft-im-auwald_id1747377
DTSTART;TZID=Europe/Berlin:20260503T183000
DURATION:PT30M
LOCATION:St. Vitus
END:VEVENT
BEGIN:VEVENT
UID:sabre-vobject-641a69f2-2055-4c8e-874c-c2f11782a668
DTSTAMP:20260421T073405Z
SUMMARY:Friedensgebet an der Kirche
DESCRIPTION:https://pfarreien-bistum-augsburg.df-preview.de/friedensgebet-a
 n-der-kirche_id1747378
DTSTART;TZID=Europe/Berlin:20260505T183000
DURATION:PT30M
LOCATION:St. Vitus
END:VEVENT
BEGIN:VEVENT
UID:sabre-vobject-433dc716-8116-49fa-a747-231efa449b88
DTSTAMP:20260421T073405Z
SUMMARY:Maiandacht der Frauen
DESCRIPTION:https://pfarreien-bistum-augsburg.df-preview.de/maiandacht-der-
 frauen_id1749261
DTSTART;TZID=Europe/Berlin:20260507T183000
DURATION:PT30M
LOCATION:St. Vitus
END:VEVENT
BEGIN:VEVENT
UID:sabre-vobject-f0885bb8-2bc5-433a-9b88-92c74d585063
DTSTAMP:20260421T073405Z
SUMMARY:Pfarrgottesdienst
DESCRIPTION:https://pfarreien-bistum-augsburg.df-preview.de/pfarrgottesdien
 st_id1749262
DTSTART;TZID=Europe/Berlin:20260510T100000
DURATION:PT30M
LOCATION:St. Vitus
END:VEVENT
BEGIN:VEVENT
UID:sabre-vobject-736fb20a-93ad-44a0-96eb-9b89d8d17029
DTSTAMP:20260421T073405Z
SUMMARY:Taufe Hannah Hempen
DESCRIPTION:https://pfarreien-bistum-augsburg.df-preview.de/taufe-hannah-he
 mpen_id1748645
DTSTART;TZID=Europe/Berlin:20260510T111500
DURATION:PT30M
LOCATION:St. Vitus
END:VEVENT
BEGIN:VEVENT
UID:sabre-vobject-37eb05ca-1dcb-4b84-a671-1073ce88c74c
DTSTAMP:20260421T073405Z
SUMMARY:Ewige Anbetung
DESCRIPTION:https://pfarreien-bistum-augsburg.df-preview.de/ewige-anbetung_
 id1749263
DTSTART;TZID=Europe/Berlin:20260511T083000
DURATION:PT30M
LOCATION:St. Vitus
END:VEVENT
BEGIN:VEVENT
UID:sabre-vobject-0fa75be8-1231-4862-a746-024a2101ef23
DTSTAMP:20260421T073405Z
SUMMARY:Friedensgebet an der Kirche
DESCRIPTION:https://pfarreien-bistum-augsburg.df-preview.de/friedensgebet-a
 n-der-kirche_id1749264
DTSTART;TZID=Europe/Berlin:20260512T183000
DURATION:PT30M
LOCATION:St. Vitus
END:VEVENT
BEGIN:VEVENT
UID:sabre-vobject-79724586-2118-4077-a094-c1e7d9d2b419
DTSTAMP:20260421T073405Z
SUMMARY:Flurumgang\, anschl. Festgottesdienst Christi Himmelfahrt\, Verabsc
 hiedung und Begrüßung des Pfarrgemeinderates
DESCRIPTION:https://pfarreien-bistum-augsburg.df-preview.de/flurumgang-ansc
 hl-festgottesdienst-christi-himmelfahrt-verabschiedung-und-begruessung-des
 -pfarrgemeinderates_id1749265
DTSTART;TZID=Europe/Berlin:20260513T183000
DURATION:PT30M
LOCATION:St. Vitus
END:VEVENT
BEGIN:VEVENT
UID:sabre-vobject-53a94b0b-face-49b1-97f1-3e1d4733d773
DTSTAMP:20260421T073405Z
SUMMARY:Pfarrgottesdienst
DESCRIPTION:https://pfarreien-bistum-augsburg.df-preview.de/pfarrgottesdien
 st_id1748659
DTSTART;TZID=Europe/Berlin:20260517T100000
DURATION:PT30M
LOCATION:St. Vitus
END:VEVENT
BEGIN:VEVENT
UID:sabre-vobject-07abdc76-4ebb-4f95-986e-4cc1330426d0
DTSTAMP:20260421T073405Z
SUMMARY:Taufe Eliah Regenold
DESCRIPTION:https://pfarreien-bistum-augsburg.df-preview.de/taufe-eliah-reg
 enold_id1748660
DTSTART;TZID=Europe/Berlin:20260517T111500
DURATION:PT30M
LOCATION:St. Vitus
END:VEVENT
BEGIN:VEVENT
UID:sabre-vobject-09d40ce3-02e6-4fee-bded-16d3995bcd1f
DTSTAMP:20260421T073405Z
SUMMARY:Maiandacht
DESCRIPTION:https://pfarreien-bistum-augsburg.df-preview.de/maiandacht_id17
 48661
DTSTART;TZID=Europe/Berlin:20260517T183000
DURATION:PT30M
LOCATION:St. Vitus
END:VEVENT
BEGIN:VEVENT
UID:sabre-vobject-2c9956f6-e322-4f0c-84e6-657d20107009
DTSTAMP:20260421T073405Z
SUMMARY:Friedensgebet an der Kirche
DESCRIPTION:https://pfarreien-bistum-augsburg.df-preview.de/friedensgebet-a
 n-der-kirche_id1748662
DTSTART;TZID=Europe/Berlin:20260519T183000
DURATION:PT30M
LOCATION:St. Vitus
END:VEVENT
BEGIN:VEVENT
UID:sabre-vobject-d0faa303-49c8-4b06-b913-11f5245a501b
DTSTAMP:20260421T073405Z
SUMMARY:Seniorennachmittag im Pfarrstadel
DESCRIPTION:https://pfarreien-bistum-augsburg.df-preview.de/seniorennachmit
 tag-im-pfarrstadel_id1748665
DTSTART;TZID=Europe/Berlin:20260520T140000
DURATION:PT30M
LOCATION:St. Vitus
END:VEVENT
BEGIN:VEVENT
UID:sabre-vobject-e95c8d53-3702-4648-b27c-d702d47d3c47
DTSTAMP:20260421T073405Z
SUMMARY:Heilige Messe
DESCRIPTION:https://pfarreien-bistum-augsburg.df-preview.de/heilige-messe_i
 d1748666
DTSTART;TZID=Europe/Berlin:20260521T183000
DURATION:PT30M
LOCATION:St. Vitus
END:VEVENT
END:VCALENDAR
