BEGIN:VCALENDAR
VERSION:2.0
PRODID:-//Sabre//Sabre VObject 4.5.8//EN
CALSCALE:GREGORIAN
NAME:Bistum Augsburg
X-WR-CALNAME:Bistum Augsburg
BEGIN:VEVENT
UID:sabre-vobject-0c35d36a-2cc8-46eb-b81f-a14b23d776b1
DTSTAMP:20260420T101833Z
SUMMARY:Messfeier für
DESCRIPTION:https://pfarreien-bistum-augsburg.df-preview.de/messfeier-fuer_
 id1697313
DTSTART;TZID=Europe/Berlin:20260422T190000
DURATION:PT30M
LOCATION:St. Vitus
END:VEVENT
BEGIN:VEVENT
UID:sabre-vobject-0366e2f3-d76d-48d2-b274-8e75db0236f0
DTSTAMP:20260420T101833Z
SUMMARY:Messfeier für
DESCRIPTION:https://pfarreien-bistum-augsburg.df-preview.de/messfeier-fuer_
 id1740161
DTSTART;TZID=Europe/Berlin:20260422T190000
DURATION:PT30M
LOCATION:St. Vitus
END:VEVENT
BEGIN:VEVENT
UID:sabre-vobject-feae7b3e-c048-4604-a9e6-36548b65ebc0
DTSTAMP:20260420T101833Z
SUMMARY:Taufe
DESCRIPTION:https://pfarreien-bistum-augsburg.df-preview.de/taufe_id1745589
DTSTART;TZID=Europe/Berlin:20260425T140000
DURATION:PT30M
LOCATION:St. Vitus
END:VEVENT
BEGIN:VEVENT
UID:sabre-vobject-f7277b53-d0d5-4b54-8e2a-31bf5299ccc8
DTSTAMP:20260420T101833Z
SUMMARY:Vorabendmesse für
DESCRIPTION:https://pfarreien-bistum-augsburg.df-preview.de/vorabendmesse-f
 uer_id1745590
DTSTART;TZID=Europe/Berlin:20260425T190000
DURATION:PT30M
LOCATION:St. Vitus
END:VEVENT
BEGIN:VEVENT
UID:sabre-vobject-13b788ac-0249-4c2e-81e3-208096e0d6b7
DTSTAMP:20260420T101833Z
SUMMARY:Messfeier für
DESCRIPTION:https://pfarreien-bistum-augsburg.df-preview.de/messfeier-fuer_
 id1745591
DTSTART;TZID=Europe/Berlin:20260429T190000
DURATION:PT30M
LOCATION:St. Vitus
END:VEVENT
BEGIN:VEVENT
UID:sabre-vobject-98c49b48-0867-430f-b5fb-96c6f939e970
DTSTAMP:20260420T101833Z
SUMMARY:Vorabendmesse für
DESCRIPTION:https://pfarreien-bistum-augsburg.df-preview.de/vorabendmesse-f
 uer_id1745654
DTSTART;TZID=Europe/Berlin:20260502T190000
DURATION:PT30M
LOCATION:St. Vitus
END:VEVENT
BEGIN:VEVENT
UID:sabre-vobject-d7d49d55-8449-4060-ac18-64a2261dfe79
DTSTAMP:20260420T101833Z
SUMMARY:Feierl. Maiandacht musikalisch gestaltet vom Bocksberger Dreigesang
DESCRIPTION:https://pfarreien-bistum-augsburg.df-preview.de/feierl-maiandac
 ht-musikalisch-gestaltet-vom-bocksberger-dreigesang_id1745655
DTSTART;TZID=Europe/Berlin:20260503T190000
DURATION:PT30M
LOCATION:St. Vitus
END:VEVENT
BEGIN:VEVENT
UID:sabre-vobject-8fb4e714-21f1-4ab5-bb58-fe7c2ae6050d
DTSTAMP:20260420T101833Z
SUMMARY:Messfeier für
DESCRIPTION:https://pfarreien-bistum-augsburg.df-preview.de/messfeier-fuer_
 id1745653
DTSTART;TZID=Europe/Berlin:20260506T190000
DURATION:PT30M
LOCATION:St. Vitus
END:VEVENT
BEGIN:VEVENT
UID:sabre-vobject-f4fa64d0-fd3e-41ea-9a58-ed74fb0d6127
DTSTAMP:20260420T101833Z
SUMMARY:Sonntagsmessfeier für
DESCRIPTION:https://pfarreien-bistum-augsburg.df-preview.de/sonntagsmessfei
 er-fuer_id1745335
DTSTART;TZID=Europe/Berlin:20260510T083000
DURATION:PT30M
LOCATION:St. Vitus
END:VEVENT
BEGIN:VEVENT
UID:sabre-vobject-6161238c-eb11-4563-a8fb-dcd7b625a8a2
DTSTAMP:20260420T101833Z
SUMMARY:Bitt-Messfeier für
DESCRIPTION:https://pfarreien-bistum-augsburg.df-preview.de/bitt-messfeier-
 fuer_id1745336
DTSTART;TZID=Europe/Berlin:20260512T140000
DURATION:PT30M
LOCATION:St. Vitus
END:VEVENT
BEGIN:VEVENT
UID:sabre-vobject-1267022b-45e3-45db-b939-6ee749ab5e07
DTSTAMP:20260420T101833Z
SUMMARY:Prozession von der Kirche zum Stettener Kreuz (auch für Teilnehmer
  aus Heretsried)
DESCRIPTION:https://pfarreien-bistum-augsburg.df-preview.de/prozession-von-
 der-kirche-zum-stettener-kreuz-auch-fuer-teilnehmer-aus-heretsried_id17453
 37
DTSTART;TZID=Europe/Berlin:20260514T083000
DURATION:PT30M
LOCATION:St. Vitus
END:VEVENT
BEGIN:VEVENT
UID:sabre-vobject-7cdb6d0a-b5dc-4d54-ac96-71d4a9d3dca7
DTSTAMP:20260420T101833Z
SUMMARY:Pfarrgottesdienst für alle Lebenden und Verstorbenen der Pfarreien
 gemeinschaft im Gebetsgedenken an:
DESCRIPTION:https://pfarreien-bistum-augsburg.df-preview.de/pfarrgottesdien
 st-fuer-alle-lebenden-und-verstorbenen-der-pfarreiengemeinschaft-im-gebets
 gedenken-an_id1745536
DTSTART;TZID=Europe/Berlin:20260517T100000
DURATION:PT30M
LOCATION:St. Vitus
END:VEVENT
BEGIN:VEVENT
UID:sabre-vobject-0be6e57f-b682-4b87-b446-1743083fd0b1
DTSTAMP:20260420T101833Z
SUMMARY:Messfeier für
DESCRIPTION:https://pfarreien-bistum-augsburg.df-preview.de/messfeier-fuer_
 id1745537
DTSTART;TZID=Europe/Berlin:20260520T190000
DURATION:PT30M
LOCATION:St. Vitus
END:VEVENT
BEGIN:VEVENT
UID:sabre-vobject-ba1ae7c4-13b8-46da-af74-1e97b00ae78b
DTSTAMP:20260420T101833Z
SUMMARY:Vorabendmesse zu Pfingsten für
DESCRIPTION:https://pfarreien-bistum-augsburg.df-preview.de/vorabendmesse-z
 u-pfingsten-fuer_id1745230
DTSTART;TZID=Europe/Berlin:20260523T190000
DURATION:PT30M
LOCATION:St. Vitus
END:VEVENT
END:VCALENDAR
