BEGIN:VCALENDAR
VERSION:2.0
PRODID:-//Sabre//Sabre VObject 4.5.8//EN
CALSCALE:GREGORIAN
NAME:Bistum Augsburg
X-WR-CALNAME:Bistum Augsburg
BEGIN:VEVENT
UID:sabre-vobject-c4650202-eaf5-4712-9051-0e4b9000d17e
DTSTAMP:20260421T113147Z
SUMMARY:Eucharistische Anbetung
DESCRIPTION:https://pfarreien-bistum-augsburg.df-preview.de/eucharistische-
 anbetung_id1736717
DTSTART;TZID=Europe/Berlin:20260421T090000
DURATION:PT30M
LOCATION:St. Magnus
END:VEVENT
BEGIN:VEVENT
UID:sabre-vobject-e9295fa3-e6c7-455e-824e-47f5a156fc49
DTSTAMP:20260421T113147Z
SUMMARY:Eucharistische Anbetung
DESCRIPTION:https://pfarreien-bistum-augsburg.df-preview.de/eucharistische-
 anbetung_id1736718
DTSTART;TZID=Europe/Berlin:20260422T090000
DURATION:PT30M
LOCATION:St. Magnus
END:VEVENT
BEGIN:VEVENT
UID:sabre-vobject-8e85f684-6eee-4bf8-a820-7ba2ffb443f3
DTSTAMP:20260421T113147Z
SUMMARY:Rosenkranz
DESCRIPTION:https://pfarreien-bistum-augsburg.df-preview.de/rosenkranz_id17
 36719
DTSTART;TZID=Europe/Berlin:20260422T183000
DURATION:PT30M
LOCATION:St. Magnus
END:VEVENT
BEGIN:VEVENT
UID:sabre-vobject-738a2eec-f6f3-49ee-b498-7b28c6af04f3
DTSTAMP:20260421T113147Z
SUMMARY:Messfeier
DESCRIPTION:https://pfarreien-bistum-augsburg.df-preview.de/messfeier_id173
 6720
DTSTART;TZID=Europe/Berlin:20260422T190000
DURATION:PT30M
LOCATION:St. Magnus
END:VEVENT
BEGIN:VEVENT
UID:sabre-vobject-7788b494-d699-4136-86db-548321ebde2d
DTSTAMP:20260421T113147Z
SUMMARY:Eucharistische Anbetung bis 22 Uhr
DESCRIPTION:https://pfarreien-bistum-augsburg.df-preview.de/eucharistische-
 anbetung-bis-22-uhr_id1736583
DTSTART;TZID=Europe/Berlin:20260423T190000
DURATION:PT30M
LOCATION:St. Magnus
END:VEVENT
BEGIN:VEVENT
UID:sabre-vobject-a72286ad-dfd8-4c21-abcf-c3a36dcdf710
DTSTAMP:20260421T113147Z
SUMMARY:Barmherzigkeitsrosenkranz
DESCRIPTION:https://pfarreien-bistum-augsburg.df-preview.de/barmherzigkeits
 rosenkranz_id1736585
DTSTART;TZID=Europe/Berlin:20260424T150000
DURATION:PT30M
LOCATION:St. Magnus
END:VEVENT
BEGIN:VEVENT
UID:sabre-vobject-53d27ac4-4469-40b3-bacf-16e89ca4cf3b
DTSTAMP:20260421T113147Z
SUMMARY:Beichtgelegenheit
DESCRIPTION:https://pfarreien-bistum-augsburg.df-preview.de/beichtgelegenhe
 it_id1736586
DTSTART;TZID=Europe/Berlin:20260425T181500
DURATION:PT30M
LOCATION:St. Magnus
END:VEVENT
BEGIN:VEVENT
UID:sabre-vobject-77942b0c-5e87-4471-be82-9e364c5dc012
DTSTAMP:20260421T113147Z
SUMMARY:Rosenkranz
DESCRIPTION:https://pfarreien-bistum-augsburg.df-preview.de/rosenkranz_id17
 36597
DTSTART;TZID=Europe/Berlin:20260425T183000
DURATION:PT30M
LOCATION:St. Magnus
END:VEVENT
BEGIN:VEVENT
UID:sabre-vobject-099eb3dd-3c41-4195-9118-b49af5baaaab
DTSTAMP:20260421T113147Z
SUMMARY:Messfeier
DESCRIPTION:https://pfarreien-bistum-augsburg.df-preview.de/messfeier_id173
 6560
DTSTART;TZID=Europe/Berlin:20260425T190000
DURATION:PT30M
LOCATION:St. Magnus
END:VEVENT
BEGIN:VEVENT
UID:sabre-vobject-aeb06e4a-4a4b-4f49-a2b0-3a03bffc6994
DTSTAMP:20260421T113147Z
SUMMARY:Jugendgottesdienst mit Vorstellung der Firmlinge und der Kirchenban
 d
DESCRIPTION:https://pfarreien-bistum-augsburg.df-preview.de/jugendgottesdie
 nst-mit-vorstellung-der-firmlinge-und-der-kirchenband_id1736584
DTSTART;TZID=Europe/Berlin:20260426T180000
DURATION:PT30M
LOCATION:St. Magnus
END:VEVENT
END:VCALENDAR
