BEGIN:VCALENDAR
VERSION:2.0
PRODID:-//Sabre//Sabre VObject 4.5.8//EN
CALSCALE:GREGORIAN
NAME:Bistum Augsburg
X-WR-CALNAME:Bistum Augsburg
BEGIN:VEVENT
UID:sabre-vobject-d9b08f9a-24dc-4f14-90e8-74450f12bc84
DTSTAMP:20260421T100511Z
SUMMARY:Rosenkranzgebet
DESCRIPTION:https://pfarreien-bistum-augsburg.df-preview.de/rosenkranzgebet
 _id1735376
DTSTART;TZID=Europe/Berlin:20260421T160000
DURATION:PT30M
LOCATION:Heilig Kreuz
END:VEVENT
BEGIN:VEVENT
UID:sabre-vobject-15a807fc-113a-4214-bec3-971ca58af871
DTSTAMP:20260421T100511Z
SUMMARY:Hl. Messe
DESCRIPTION:https://pfarreien-bistum-augsburg.df-preview.de/hl-messe_id1735
 377
DTSTART;TZID=Europe/Berlin:20260421T163000
DURATION:PT30M
LOCATION:Heilig Kreuz
END:VEVENT
BEGIN:VEVENT
UID:sabre-vobject-8f05bcb9-174d-4e2c-ac8d-7bd0e629f868
DTSTAMP:20260421T100511Z
SUMMARY:Hl. Messe mit Feier der Erstkommunion
DESCRIPTION:https://pfarreien-bistum-augsburg.df-preview.de/hl-messe-mit-fe
 ier-der-erstkommunion_id1735378
DTSTART;TZID=Europe/Berlin:20260426T113000
DURATION:PT30M
LOCATION:Heilig Kreuz
END:VEVENT
BEGIN:VEVENT
UID:sabre-vobject-5f89d265-22a7-47a6-95b3-b3ddff2059de
DTSTAMP:20260421T100511Z
SUMMARY:Dankandacht
DESCRIPTION:https://pfarreien-bistum-augsburg.df-preview.de/dankandacht_id1
 735381
DTSTART;TZID=Europe/Berlin:20260426T170000
DURATION:PT30M
LOCATION:Heilig Kreuz
END:VEVENT
END:VCALENDAR
