BEGIN:VCALENDAR
VERSION:2.0
PRODID:-//Sabre//Sabre VObject 4.5.8//EN
CALSCALE:GREGORIAN
NAME:Bistum Augsburg
X-WR-CALNAME:Bistum Augsburg
BEGIN:VEVENT
UID:sabre-vobject-8b4c2632-7c4b-42f0-b6cb-4c126a69c399
DTSTAMP:20260422T060818Z
SUMMARY:Rosenkranz
DESCRIPTION:https://pfarreien-bistum-augsburg.df-preview.de/rosenkranz_id17
 15927
DTSTART;TZID=Europe/Berlin:20260426T123000
DURATION:PT30M
LOCATION:St. Margaretha
END:VEVENT
BEGIN:VEVENT
UID:sabre-vobject-af862e0a-7af2-400f-9d7d-3fdc86205db9
DTSTAMP:20260422T060818Z
SUMMARY:Rosenkranz
DESCRIPTION:https://pfarreien-bistum-augsburg.df-preview.de/rosenkranz_id17
 15929
DTSTART;TZID=Europe/Berlin:20260510T123000
DURATION:PT30M
LOCATION:St. Margaretha
END:VEVENT
BEGIN:VEVENT
UID:sabre-vobject-f11d0911-e80d-4411-af85-3297cce88306
DTSTAMP:20260422T060818Z
SUMMARY:Bittgang\, anschl Hl. Messe
DESCRIPTION:https://pfarreien-bistum-augsburg.df-preview.de/bittgang-anschl
 -hl-messe_id1715945
DTSTART;TZID=Europe/Berlin:20260516T184500
DURATION:PT30M
LOCATION:St. Margaretha
END:VEVENT
BEGIN:VEVENT
UID:sabre-vobject-41c6d3c0-41f1-4a45-9ad4-b90d205d1dc1
DTSTAMP:20260422T060818Z
SUMMARY:Heilige Messe
DESCRIPTION:https://pfarreien-bistum-augsburg.df-preview.de/heilige-messe_i
 d1715947
DTSTART;TZID=Europe/Berlin:20260516T191500
DURATION:PT30M
LOCATION:St. Margaretha
END:VEVENT
BEGIN:VEVENT
UID:sabre-vobject-3c8acd7d-337e-41df-99cc-97fde60c7530
DTSTAMP:20260422T060818Z
SUMMARY:Taufe
DESCRIPTION:https://pfarreien-bistum-augsburg.df-preview.de/taufe_id1715928
DTSTART;TZID=Europe/Berlin:20260517T113000
DURATION:PT30M
LOCATION:St. Margaretha
END:VEVENT
BEGIN:VEVENT
UID:sabre-vobject-daecb35a-a3c4-49be-a12f-c5459747e549
DTSTAMP:20260422T060818Z
SUMMARY:Maiandacht der Kinder und Jugend
DESCRIPTION:https://pfarreien-bistum-augsburg.df-preview.de/maiandacht-der-
 kinder-und-jugend_id1715976
DTSTART;TZID=Europe/Berlin:20260517T190000
DURATION:PT30M
LOCATION:St. Margaretha
END:VEVENT
BEGIN:VEVENT
UID:sabre-vobject-d1f690b5-3a57-416a-86cb-e6cd921fd393
DTSTAMP:20260422T060818Z
SUMMARY:Rosenkranz
DESCRIPTION:https://pfarreien-bistum-augsburg.df-preview.de/rosenkranz_id17
 15977
DTSTART;TZID=Europe/Berlin:20260524T123000
DURATION:PT30M
LOCATION:St. Margaretha
END:VEVENT
BEGIN:VEVENT
UID:sabre-vobject-b869f7a8-dc20-4730-a10f-a46581604ca5
DTSTAMP:20260422T060818Z
SUMMARY:Pfingstamt
DESCRIPTION:https://pfarreien-bistum-augsburg.df-preview.de/pfingstamt_id17
 15994
DTSTART;TZID=Europe/Berlin:20260525T101500
DURATION:PT30M
LOCATION:St. Margaretha
END:VEVENT
END:VCALENDAR
