BEGIN:VCALENDAR
VERSION:2.0
PRODID:-//Sabre//Sabre VObject 4.5.8//EN
CALSCALE:GREGORIAN
NAME:Bistum Augsburg
X-WR-CALNAME:Bistum Augsburg
BEGIN:VEVENT
UID:sabre-vobject-e2f6e7d4-e829-4c4a-893d-7c0bf3a2b147
DTSTAMP:20260420T151425Z
SUMMARY:Hl. Messe
DESCRIPTION:https://pfarreien-bistum-augsburg.df-preview.de/hl-messe_id1744
 494
DTSTART;TZID=Europe/Berlin:20260422T191500
DURATION:PT30M
LOCATION:St. Nikolaus
END:VEVENT
BEGIN:VEVENT
UID:sabre-vobject-064dacac-7f62-4328-b3b4-18383860c99f
DTSTAMP:20260420T151425Z
SUMMARY:Rosenkranz für die Kranken in unserer Pfarrei
DESCRIPTION:https://pfarreien-bistum-augsburg.df-preview.de/rosenkranz-fuer
 -die-kranken-in-unserer-pfarrei_id1744497
DTSTART;TZID=Europe/Berlin:20260424T083000
DURATION:PT30M
LOCATION:St. Nikolaus
END:VEVENT
BEGIN:VEVENT
UID:sabre-vobject-8af82156-2fab-4daa-8046-03acc4ece2f8
DTSTAMP:20260420T151425Z
SUMMARY:Pfarrgottesdienst in Eggenthal
DESCRIPTION:https://pfarreien-bistum-augsburg.df-preview.de/pfarrgottesdien
 st-in-eggenthal_id1744498
DTSTART;TZID=Europe/Berlin:20260426T000000
DURATION:PT30M
LOCATION:St. Nikolaus
END:VEVENT
BEGIN:VEVENT
UID:sabre-vobject-ffda5ffe-4baf-43cc-8d52-7a8a4a026fb0
DTSTAMP:20260420T151425Z
SUMMARY:Vorabendmesse zum Hochfest Maria Schutzfrau von Bayern
DESCRIPTION:https://pfarreien-bistum-augsburg.df-preview.de/vorabendmesse-z
 um-hochfest-maria-schutzfrau-von-bayern_id1744499
DTSTART;TZID=Europe/Berlin:20260430T191500
DURATION:PT30M
LOCATION:St. Nikolaus
END:VEVENT
BEGIN:VEVENT
UID:sabre-vobject-c5cc0da3-01a3-43e4-8ac9-ae37811e1b87
DTSTAMP:20260420T151425Z
SUMMARY:Pfarrgottesdienst mit Erstkommunionfeier
DESCRIPTION:https://pfarreien-bistum-augsburg.df-preview.de/pfarrgottesdien
 st-mit-erstkommunionfeier_id1744161
DTSTART;TZID=Europe/Berlin:20260503T100000
DURATION:PT30M
LOCATION:St. Nikolaus
END:VEVENT
BEGIN:VEVENT
UID:sabre-vobject-cb19a8f5-96ee-45b0-bdb7-641fc8f6bbb7
DTSTAMP:20260420T151425Z
SUMMARY:"Ewige Anbetung"\n Aussetzung des Allerheiligsten - Rosenkranz - Eu
 charistische Andacht - Eucharistischer Segen
DESCRIPTION:https://pfarreien-bistum-augsburg.df-preview.de/ewige-anbetung-
 aussetzung-des-allerheiligsten-rosenkranz-eucharistische-andacht-eucharist
 ischer-segen_id1744162
DTSTART;TZID=Europe/Berlin:20260504T184500
DURATION:PT30M
LOCATION:St. Nikolaus
END:VEVENT
BEGIN:VEVENT
UID:sabre-vobject-33749cc2-5145-4b72-8dd2-6a25fbec01f9
DTSTAMP:20260420T151425Z
SUMMARY:Hl. Messe
DESCRIPTION:https://pfarreien-bistum-augsburg.df-preview.de/hl-messe_id1744
 163
DTSTART;TZID=Europe/Berlin:20260504T191500
DURATION:PT30M
LOCATION:St. Nikolaus
END:VEVENT
BEGIN:VEVENT
UID:sabre-vobject-9e49ffcb-6adc-4a70-a66e-cb0b8994d8a0
DTSTAMP:20260420T151425Z
SUMMARY:Rosenkranz zu Ehren der Mutter Gottes
DESCRIPTION:https://pfarreien-bistum-augsburg.df-preview.de/rosenkranz-zu-e
 hren-der-mutter-gottes_id1744164
DTSTART;TZID=Europe/Berlin:20260508T083000
DURATION:PT30M
LOCATION:St. Nikolaus
END:VEVENT
BEGIN:VEVENT
UID:sabre-vobject-ecabd90a-2f41-4d02-be22-52a372a2904a
DTSTAMP:20260420T151425Z
SUMMARY:Pfarrgottesdienst in Eggenthal
DESCRIPTION:https://pfarreien-bistum-augsburg.df-preview.de/pfarrgottesdien
 st-in-eggenthal_id1744165
DTSTART;TZID=Europe/Berlin:20260510T000000
DURATION:PT30M
LOCATION:St. Nikolaus
END:VEVENT
BEGIN:VEVENT
UID:sabre-vobject-26741aad-204f-4714-a845-6558ece84c3c
DTSTAMP:20260420T151425Z
SUMMARY:Bittgang zur Grotte  - Treffpunkt am Dorfplatz (bei gutem Wetter)
DESCRIPTION:https://pfarreien-bistum-augsburg.df-preview.de/bittgang-zur-gr
 otte-treffpunkt-am-dorfplatz-bei-gutem-wetter_id1744179
DTSTART;TZID=Europe/Berlin:20260511T191000
DURATION:PT30M
LOCATION:St. Nikolaus
END:VEVENT
BEGIN:VEVENT
UID:sabre-vobject-f5f1f03b-629f-45d0-92e2-1dd9efbf40b5
DTSTAMP:20260420T151425Z
SUMMARY:Bittmesse an der Grotte (bei schlechtem Wetter um 19:15 Uhr Messe i
 n der Pfarrkirche)
DESCRIPTION:https://pfarreien-bistum-augsburg.df-preview.de/bittmesse-an-de
 r-grotte-bei-schlechtem-wetter-um-19-15-uhr-messe-in-der-pfarrkirche_id174
 4182
DTSTART;TZID=Europe/Berlin:20260511T193000
DURATION:PT30M
LOCATION:St. Nikolaus
END:VEVENT
BEGIN:VEVENT
UID:sabre-vobject-b3da04f0-0a37-44df-a1ce-b9f69ebccf3b
DTSTAMP:20260420T151425Z
SUMMARY:Festgottesdienst in Eggenthal
DESCRIPTION:https://pfarreien-bistum-augsburg.df-preview.de/festgottesdiens
 t-in-eggenthal_id1744204
DTSTART;TZID=Europe/Berlin:20260514T000000
DURATION:PT30M
LOCATION:St. Nikolaus
END:VEVENT
BEGIN:VEVENT
UID:sabre-vobject-ea606f60-c8ef-4724-9d3b-eca0b7708078
DTSTAMP:20260420T151425Z
SUMMARY:Rosenkranz um gute Witterung
DESCRIPTION:https://pfarreien-bistum-augsburg.df-preview.de/rosenkranz-um-g
 ute-witterung_id1744205
DTSTART;TZID=Europe/Berlin:20260515T083000
DURATION:PT30M
LOCATION:St. Nikolaus
END:VEVENT
END:VCALENDAR
