BEGIN:VCALENDAR
VERSION:2.0
PRODID:-//Sabre//Sabre VObject 4.5.8//EN
CALSCALE:GREGORIAN
NAME:Bistum Augsburg
X-WR-CALNAME:Bistum Augsburg
BEGIN:VEVENT
UID:sabre-vobject-d278960e-95a5-4d12-b689-ef196a4feebc
DTSTAMP:20260422T035053Z
SUMMARY:Motorradsegnung\, Season Opening Motor Crew Liaze
DESCRIPTION:https://pfarreien-bistum-augsburg.df-preview.de/motorradsegnung
 -season-opening-motor-crew-liaze_id1752249
DTSTART;TZID=Europe/Berlin:20260425T140000
DURATION:PT30M
LOCATION:St. Leonhard
END:VEVENT
BEGIN:VEVENT
UID:sabre-vobject-19c46196-0330-43e7-bc8f-0b799a2eb99e
DTSTAMP:20260422T035053Z
SUMMARY:Heilige Messe
DESCRIPTION:https://pfarreien-bistum-augsburg.df-preview.de/heilige-messe_i
 d1752250
DTSTART;TZID=Europe/Berlin:20260426T081500
DURATION:PT30M
LOCATION:St. Leonhard
END:VEVENT
BEGIN:VEVENT
UID:sabre-vobject-54dab98a-edd3-46e8-b008-6b37271dc435
DTSTAMP:20260422T035053Z
SUMMARY:Rosenkranz
DESCRIPTION:https://pfarreien-bistum-augsburg.df-preview.de/rosenkranz_id17
 52251
DTSTART;TZID=Europe/Berlin:20260428T180000
DURATION:PT30M
LOCATION:St. Leonhard
END:VEVENT
BEGIN:VEVENT
UID:sabre-vobject-9a72d561-8d3a-480a-83e4-fe8607632a80
DTSTAMP:20260422T035053Z
SUMMARY:Heilige Messe
DESCRIPTION:https://pfarreien-bistum-augsburg.df-preview.de/heilige-messe_i
 d1752252
DTSTART;TZID=Europe/Berlin:20260428T183000
DURATION:PT30M
LOCATION:St. Leonhard
END:VEVENT
BEGIN:VEVENT
UID:sabre-vobject-449c9487-b909-4762-8010-0277b5de5005
DTSTAMP:20260422T035053Z
SUMMARY:Maiandacht
DESCRIPTION:https://pfarreien-bistum-augsburg.df-preview.de/maiandacht_id17
 52253
DTSTART;TZID=Europe/Berlin:20260501T190000
DURATION:PT30M
LOCATION:St. Leonhard
END:VEVENT
BEGIN:VEVENT
UID:sabre-vobject-1e7fbe35-16e6-4cfa-9cec-cbe52547d7c0
DTSTAMP:20260422T035053Z
SUMMARY:Heilige Messe Blumenopfer
DESCRIPTION:https://pfarreien-bistum-augsburg.df-preview.de/heilige-messe-b
 lumenopfer_id1752254
DTSTART;TZID=Europe/Berlin:20260503T100000
DURATION:PT30M
LOCATION:St. Leonhard
END:VEVENT
BEGIN:VEVENT
UID:sabre-vobject-9291c907-08e8-40b9-8cd2-db3e5e9f3244
DTSTAMP:20260422T035053Z
SUMMARY:Rosenkranz
DESCRIPTION:https://pfarreien-bistum-augsburg.df-preview.de/rosenkranz_id17
 52255
DTSTART;TZID=Europe/Berlin:20260505T180000
DURATION:PT30M
LOCATION:St. Leonhard
END:VEVENT
BEGIN:VEVENT
UID:sabre-vobject-edf5f167-57a4-4d6c-bcee-8396d8dad948
DTSTAMP:20260422T035053Z
SUMMARY:Heilige Messe mit Mariengedenken Gebet und Opfer für geistliche Be
 rufe
DESCRIPTION:https://pfarreien-bistum-augsburg.df-preview.de/heilige-messe-m
 it-mariengedenken-gebet-und-opfer-fuer-geistliche-berufe_id1752256
DTSTART;TZID=Europe/Berlin:20260505T183000
DURATION:PT30M
LOCATION:St. Leonhard
END:VEVENT
BEGIN:VEVENT
UID:sabre-vobject-263da61b-3c40-4c6e-b204-80b1630ba14e
DTSTAMP:20260422T035053Z
SUMMARY:Prozession zur feierlichen Marienmesse an der Grotte\nTreffpunkt Ki
 rche\, bitte Gotteslob mitbringen!\nBei schlechtem Wetter findet die Heili
 ge Messe in der Kirche um 18.00 Uhr statt.\nHerzliche
DESCRIPTION:https://pfarreien-bistum-augsburg.df-preview.de/prozession-zur-
 feierlichen-marienmesse-an-der-grotte-treffpunkt-kirche-bitte-gotteslob-mi
 tbringen-bei-schlechtem-wetter-findet-die-heilige-messe-in-der-kirche-um-1
 8-00-uhr-statt-herzliche_id1752294
DTSTART;TZID=Europe/Berlin:20260509T180000
DURATION:PT30M
LOCATION:St. Leonhard
END:VEVENT
BEGIN:VEVENT
UID:sabre-vobject-026eae99-61b6-4cfa-b0cd-a8655bb41c3d
DTSTAMP:20260422T035053Z
SUMMARY:feierliche Maiandacht
DESCRIPTION:https://pfarreien-bistum-augsburg.df-preview.de/feierliche-maia
 ndacht_id1752295
DTSTART;TZID=Europe/Berlin:20260510T190000
DURATION:PT30M
LOCATION:St. Leonhard
END:VEVENT
BEGIN:VEVENT
UID:sabre-vobject-c2d63cd5-d5f1-4d99-b9fc-161d4e61d0d9
DTSTAMP:20260422T035053Z
SUMMARY:Bittandacht
DESCRIPTION:https://pfarreien-bistum-augsburg.df-preview.de/bittandacht_id1
 752296
DTSTART;TZID=Europe/Berlin:20260512T183000
DURATION:PT30M
LOCATION:St. Leonhard
END:VEVENT
BEGIN:VEVENT
UID:sabre-vobject-85da1e3c-9644-4aab-8bd6-290be423409c
DTSTAMP:20260422T035053Z
SUMMARY:Vorabendmesse zum Hochfest Christi Himmelfahrt
DESCRIPTION:https://pfarreien-bistum-augsburg.df-preview.de/vorabendmesse-z
 um-hochfest-christi-himmelfahrt_id1752297
DTSTART;TZID=Europe/Berlin:20260513T183000
DURATION:PT30M
LOCATION:St. Leonhard
END:VEVENT
BEGIN:VEVENT
UID:sabre-vobject-901f82b1-81a1-4d7a-a780-fc5c91858104
DTSTAMP:20260422T035053Z
SUMMARY:Heilige Messe
DESCRIPTION:https://pfarreien-bistum-augsburg.df-preview.de/heilige-messe_i
 d1752298
DTSTART;TZID=Europe/Berlin:20260517T083000
DURATION:PT30M
LOCATION:St. Leonhard
END:VEVENT
BEGIN:VEVENT
UID:sabre-vobject-ec5ec7d9-71c2-4451-86cc-56b9fe7f11cc
DTSTAMP:20260422T035053Z
SUMMARY:Rosenkranz
DESCRIPTION:https://pfarreien-bistum-augsburg.df-preview.de/rosenkranz_id17
 52299
DTSTART;TZID=Europe/Berlin:20260519T180000
DURATION:PT30M
LOCATION:St. Leonhard
END:VEVENT
BEGIN:VEVENT
UID:sabre-vobject-eead384b-c720-4bd7-85e0-e88ae1abd842
DTSTAMP:20260422T035053Z
SUMMARY:Heilige Messe mit Mariengedenken
DESCRIPTION:https://pfarreien-bistum-augsburg.df-preview.de/heilige-messe-m
 it-mariengedenken_id1752300
DTSTART;TZID=Europe/Berlin:20260519T183000
DURATION:PT30M
LOCATION:St. Leonhard
END:VEVENT
BEGIN:VEVENT
UID:sabre-vobject-55ee2fa2-42cf-4faa-aab7-4d25dd48e64b
DTSTAMP:20260422T035053Z
SUMMARY:Heilige Messe Mini-Aufnahme ??
DESCRIPTION:https://pfarreien-bistum-augsburg.df-preview.de/heilige-messe-m
 ini-aufnahme_id1752301
DTSTART;TZID=Europe/Berlin:20260524T100000
DURATION:PT30M
LOCATION:St. Leonhard
END:VEVENT
BEGIN:VEVENT
UID:sabre-vobject-df2d2a24-8243-4dd1-81e8-cc32f3ecf208
DTSTAMP:20260422T035053Z
SUMMARY:Heilige Messe großes Kirchenopfer
DESCRIPTION:https://pfarreien-bistum-augsburg.df-preview.de/heilige-messe-g
 rosses-kirchenopfer_id1752302
DTSTART;TZID=Europe/Berlin:20260525T100000
DURATION:PT30M
LOCATION:St. Leonhard
END:VEVENT
END:VCALENDAR
