BEGIN:VCALENDAR
VERSION:2.0
PRODID:-//Sabre//Sabre VObject 4.5.8//EN
CALSCALE:GREGORIAN
NAME:Bistum Augsburg
X-WR-CALNAME:Bistum Augsburg
BEGIN:VEVENT
UID:sabre-vobject-36741676-fc9f-4005-93a6-8941d850d479
DTSTAMP:20260425T003030Z
SUMMARY:Erstkommunion
DESCRIPTION:https://pfarreien-bistum-augsburg.df-preview.de/erstkommunion_i
 d1721260
DTSTART;TZID=Europe/Berlin:20260425T100000
DURATION:PT30M
LOCATION:St. Pius
END:VEVENT
BEGIN:VEVENT
UID:sabre-vobject-d0a3ff17-5bfc-45aa-bb6b-d5233913e2fb
DTSTAMP:20260425T003030Z
SUMMARY:Beichtgelegenheit in der Kapelle
DESCRIPTION:https://pfarreien-bistum-augsburg.df-preview.de/beichtgelegenhe
 it-in-der-kapelle_id1721261
DTSTART;TZID=Europe/Berlin:20260425T174500
DURATION:PT30M
LOCATION:St. Pius
END:VEVENT
BEGIN:VEVENT
UID:sabre-vobject-23cd6bed-b49a-4729-b83f-6f961a7e5713
DTSTAMP:20260425T003030Z
SUMMARY:Erste Sonntagsmesse
DESCRIPTION:https://pfarreien-bistum-augsburg.df-preview.de/erste-sonntagsm
 esse_id1720881
DTSTART;TZID=Europe/Berlin:20260425T183000
DURATION:PT30M
LOCATION:St. Pius
END:VEVENT
BEGIN:VEVENT
UID:sabre-vobject-9397e4eb-8dbe-4056-9dd2-e5b9d19088bc
DTSTAMP:20260425T003030Z
SUMMARY:Erstkommunion
DESCRIPTION:https://pfarreien-bistum-augsburg.df-preview.de/erstkommunion_i
 d1720882
DTSTART;TZID=Europe/Berlin:20260426T100000
DURATION:PT30M
LOCATION:St. Pius
END:VEVENT
BEGIN:VEVENT
UID:sabre-vobject-19d8cdd1-cabb-4557-b1c0-90632f806989
DTSTAMP:20260425T003030Z
SUMMARY:Andacht Erstkommunion
DESCRIPTION:https://pfarreien-bistum-augsburg.df-preview.de/andacht-erstkom
 munion_id1720883
DTSTART;TZID=Europe/Berlin:20260426T180000
DURATION:PT30M
LOCATION:St. Pius
END:VEVENT
BEGIN:VEVENT
UID:sabre-vobject-d1f0880b-c557-4336-b7b7-3ee9c77cb66a
DTSTAMP:20260425T003030Z
SUMMARY:Hl. Messe
DESCRIPTION:https://pfarreien-bistum-augsburg.df-preview.de/hl-messe_id1720
 884
DTSTART;TZID=Europe/Berlin:20260428T183000
DURATION:PT30M
LOCATION:St. Pius
END:VEVENT
BEGIN:VEVENT
UID:sabre-vobject-f68a3a62-ee6a-4e6b-a412-d5e105b21c60
DTSTAMP:20260425T003030Z
SUMMARY:Ökumenisches Friedensgebet
DESCRIPTION:https://pfarreien-bistum-augsburg.df-preview.de/oekumenisches-f
 riedensgebet_id1720885
DTSTART;TZID=Europe/Berlin:20260429T183000
DURATION:PT30M
LOCATION:St. Pius
END:VEVENT
BEGIN:VEVENT
UID:sabre-vobject-4919b517-4908-47cf-a93c-5776099ba699
DTSTAMP:20260425T003030Z
SUMMARY:Hl. Messe
DESCRIPTION:https://pfarreien-bistum-augsburg.df-preview.de/hl-messe_id1720
 886
DTSTART;TZID=Europe/Berlin:20260430T093000
DURATION:PT30M
LOCATION:St. Pius
END:VEVENT
BEGIN:VEVENT
UID:sabre-vobject-c5c151e6-10d5-4a96-9699-7b367446f3d9
DTSTAMP:20260425T003030Z
SUMMARY:Hl. Messe im Seniorenwohnheim Wetterstein
DESCRIPTION:https://pfarreien-bistum-augsburg.df-preview.de/hl-messe-im-sen
 iorenwohnheim-wetterstein_id1720887
DTSTART;TZID=Europe/Berlin:20260501T150000
DURATION:PT30M
LOCATION:St. Pius
END:VEVENT
BEGIN:VEVENT
UID:sabre-vobject-d196fa81-b57b-47cf-b7ca-9ef215caf6da
DTSTAMP:20260425T003030Z
SUMMARY:1. feierliche Maiandacht mit Kirchenchor
DESCRIPTION:https://pfarreien-bistum-augsburg.df-preview.de/1-feierliche-ma
 iandacht-mit-kirchenchor_id1720888
DTSTART;TZID=Europe/Berlin:20260501T190000
DURATION:PT30M
LOCATION:St. Pius
END:VEVENT
BEGIN:VEVENT
UID:sabre-vobject-edfbad0b-fd85-4ec3-a246-d81764828743
DTSTAMP:20260425T003030Z
SUMMARY:Beichtgelegenheit in der Kapelle
DESCRIPTION:https://pfarreien-bistum-augsburg.df-preview.de/beichtgelegenhe
 it-in-der-kapelle_id1730037
DTSTART;TZID=Europe/Berlin:20260502T174500
DURATION:PT30M
LOCATION:St. Pius
END:VEVENT
BEGIN:VEVENT
UID:sabre-vobject-69578b4d-0cab-4d85-9bde-f1124ffd102a
DTSTAMP:20260425T003030Z
SUMMARY:Erste Sonntagsmesse
DESCRIPTION:https://pfarreien-bistum-augsburg.df-preview.de/erste-sonntagsm
 esse_id1730038
DTSTART;TZID=Europe/Berlin:20260502T183000
DURATION:PT30M
LOCATION:St. Pius
END:VEVENT
BEGIN:VEVENT
UID:sabre-vobject-616d36e7-6766-4b27-84c6-0075f20b048a
DTSTAMP:20260425T003030Z
SUMMARY:Hl. Messe für die Pfarrgemeinde
DESCRIPTION:https://pfarreien-bistum-augsburg.df-preview.de/hl-messe-fuer-d
 ie-pfarrgemeinde_id1730039
DTSTART;TZID=Europe/Berlin:20260503T100000
DURATION:PT30M
LOCATION:St. Pius
END:VEVENT
BEGIN:VEVENT
UID:sabre-vobject-916802fa-1445-42ab-9725-30cb388cee5c
DTSTAMP:20260425T003030Z
SUMMARY:Kinderwortgottesdienst für die Kleinen im Franziskussaal
DESCRIPTION:https://pfarreien-bistum-augsburg.df-preview.de/kinderwortgotte
 sdienst-fuer-die-kleinen-im-franziskussaal_id1730040
DTSTART;TZID=Europe/Berlin:20260503T100000
DURATION:PT30M
LOCATION:St. Pius
END:VEVENT
BEGIN:VEVENT
UID:sabre-vobject-b3c96d94-f63e-410e-a4f2-70d8e41e5014
DTSTAMP:20260425T003030Z
SUMMARY:Maiandacht
DESCRIPTION:https://pfarreien-bistum-augsburg.df-preview.de/maiandacht_id17
 30041
DTSTART;TZID=Europe/Berlin:20260503T190000
DURATION:PT30M
LOCATION:St. Pius
END:VEVENT
BEGIN:VEVENT
UID:sabre-vobject-e7291870-fde6-4713-80f7-37fa051842aa
DTSTAMP:20260425T003030Z
SUMMARY:" Schau hin! - Pius-Welt-Gottesdienst" und Verkauf von Eine-Welt-Wa
 ren\, ebenso am kommenden Wochenende
DESCRIPTION:https://pfarreien-bistum-augsburg.df-preview.de/schau-hin-pius-
 welt-gottesdienst-und-verkauf-von-eine-welt-waren-ebenso-am-kommenden-woch
 enende_id1730056
DTSTART;TZID=Europe/Berlin:20260505T183000
DURATION:PT30M
LOCATION:St. Pius
END:VEVENT
BEGIN:VEVENT
UID:sabre-vobject-f9e3927f-adb9-440b-95b1-be352f6f6ad8
DTSTAMP:20260425T003030Z
SUMMARY:Ökumenisches Friedensgebet
DESCRIPTION:https://pfarreien-bistum-augsburg.df-preview.de/oekumenisches-f
 riedensgebet_id1730057
DTSTART;TZID=Europe/Berlin:20260506T183000
DURATION:PT30M
LOCATION:St. Pius
END:VEVENT
BEGIN:VEVENT
UID:sabre-vobject-d8b966e5-88e7-4f74-9fa0-1a512a539b77
DTSTAMP:20260425T003030Z
SUMMARY:Hl. Messe
DESCRIPTION:https://pfarreien-bistum-augsburg.df-preview.de/hl-messe_id1730
 058
DTSTART;TZID=Europe/Berlin:20260507T093000
DURATION:PT30M
LOCATION:St. Pius
END:VEVENT
BEGIN:VEVENT
UID:sabre-vobject-1382b9f1-6ecb-4da0-a93d-a1c5847df574
DTSTAMP:20260425T003030Z
SUMMARY:Hl. Messe im Seniorenwohnheim Wetterstein
DESCRIPTION:https://pfarreien-bistum-augsburg.df-preview.de/hl-messe-im-sen
 iorenwohnheim-wetterstein_id1730059
DTSTART;TZID=Europe/Berlin:20260508T150000
DURATION:PT30M
LOCATION:St. Pius
END:VEVENT
BEGIN:VEVENT
UID:sabre-vobject-96889a07-8fbc-469e-b124-2253133ab561
DTSTAMP:20260425T003030Z
SUMMARY:Maiandacht
DESCRIPTION:https://pfarreien-bistum-augsburg.df-preview.de/maiandacht_id17
 30060
DTSTART;TZID=Europe/Berlin:20260508T170000
DURATION:PT30M
LOCATION:St. Pius
END:VEVENT
BEGIN:VEVENT
UID:sabre-vobject-98678b65-3415-40a5-98c8-a219cdab472d
DTSTAMP:20260425T003030Z
SUMMARY:Beichtgelegenheit in der Kapelle
DESCRIPTION:https://pfarreien-bistum-augsburg.df-preview.de/beichtgelegenhe
 it-in-der-kapelle_id1730061
DTSTART;TZID=Europe/Berlin:20260509T174500
DURATION:PT30M
LOCATION:St. Pius
END:VEVENT
BEGIN:VEVENT
UID:sabre-vobject-dbb79deb-28f1-4d18-8394-2fc1ecc9cc6f
DTSTAMP:20260425T003030Z
SUMMARY:Erste Sonntagsmesse
DESCRIPTION:https://pfarreien-bistum-augsburg.df-preview.de/erste-sonntagsm
 esse_id1730034
DTSTART;TZID=Europe/Berlin:20260509T183000
DURATION:PT30M
LOCATION:St. Pius
END:VEVENT
BEGIN:VEVENT
UID:sabre-vobject-8a311393-78e8-44a3-aeb5-a96425205420
DTSTAMP:20260425T003030Z
SUMMARY:Hl. Messe für die Pfarrgemeinde
DESCRIPTION:https://pfarreien-bistum-augsburg.df-preview.de/hl-messe-fuer-d
 ie-pfarrgemeinde_id1730035
DTSTART;TZID=Europe/Berlin:20260510T100000
DURATION:PT30M
LOCATION:St. Pius
END:VEVENT
BEGIN:VEVENT
UID:sabre-vobject-73f9b4fa-b203-4d38-bb77-aa1fa98dafed
DTSTAMP:20260425T003030Z
SUMMARY:Maiandacht
DESCRIPTION:https://pfarreien-bistum-augsburg.df-preview.de/maiandacht_id17
 30062
DTSTART;TZID=Europe/Berlin:20260510T190000
DURATION:PT30M
LOCATION:St. Pius
END:VEVENT
BEGIN:VEVENT
UID:sabre-vobject-33d2de09-4983-4bc6-9777-2c5ea43f915d
DTSTAMP:20260425T003030Z
SUMMARY:Gedenkgottesdienst für die Verstorbenen des letzten Halbjahres
DESCRIPTION:https://pfarreien-bistum-augsburg.df-preview.de/gedenkgottesdie
 nst-fuer-die-verstorbenen-des-letzten-halbjahres_id1730075
DTSTART;TZID=Europe/Berlin:20260512T183000
DURATION:PT30M
LOCATION:St. Pius
END:VEVENT
BEGIN:VEVENT
UID:sabre-vobject-c6b52fa9-4281-46a2-aef3-9c1e054ca24b
DTSTAMP:20260425T003030Z
SUMMARY:Sprechstunde Gottes
DESCRIPTION:https://pfarreien-bistum-augsburg.df-preview.de/sprechstunde-go
 ttes_id1730076
DTSTART;TZID=Europe/Berlin:20260513T143000
DURATION:PT30M
LOCATION:St. Pius
END:VEVENT
BEGIN:VEVENT
UID:sabre-vobject-4a56277a-7f12-4b61-8dd0-aa9a564f0773
DTSTAMP:20260425T003030Z
SUMMARY:Maiandacht und Bittmesse in der Muttergotteskapelle
DESCRIPTION:https://pfarreien-bistum-augsburg.df-preview.de/maiandacht-und-
 bittmesse-in-der-muttergotteskapelle_id1730077
DTSTART;TZID=Europe/Berlin:20260513T183000
DURATION:PT30M
LOCATION:St. Pius
END:VEVENT
BEGIN:VEVENT
UID:sabre-vobject-facb47a4-cce2-42dc-9f80-4431a5fd9696
DTSTAMP:20260425T003030Z
SUMMARY:Hl. Messe
DESCRIPTION:https://pfarreien-bistum-augsburg.df-preview.de/hl-messe_id1730
 078
DTSTART;TZID=Europe/Berlin:20260514T100000
DURATION:PT30M
LOCATION:St. Pius
END:VEVENT
BEGIN:VEVENT
UID:sabre-vobject-4afaffff-66d1-4e4c-9a95-ec3befb009ef
DTSTAMP:20260425T003030Z
SUMMARY:Maiandacht
DESCRIPTION:https://pfarreien-bistum-augsburg.df-preview.de/maiandacht_id17
 30079
DTSTART;TZID=Europe/Berlin:20260514T190000
DURATION:PT30M
LOCATION:St. Pius
END:VEVENT
BEGIN:VEVENT
UID:sabre-vobject-2c780fa5-c97a-43af-ad3e-5586081f8ae8
DTSTAMP:20260425T003030Z
SUMMARY:Hl. Messe im Seniorenwohnheim Wetterstein
DESCRIPTION:https://pfarreien-bistum-augsburg.df-preview.de/hl-messe-im-sen
 iorenwohnheim-wetterstein_id1730080
DTSTART;TZID=Europe/Berlin:20260515T150000
DURATION:PT30M
LOCATION:St. Pius
END:VEVENT
BEGIN:VEVENT
UID:sabre-vobject-ffaa2c12-88e6-4b27-8e46-1e03e2b3c3ce
DTSTAMP:20260425T003030Z
SUMMARY:Maiandacht
DESCRIPTION:https://pfarreien-bistum-augsburg.df-preview.de/maiandacht_id17
 30081
DTSTART;TZID=Europe/Berlin:20260515T170000
DURATION:PT30M
LOCATION:St. Pius
END:VEVENT
BEGIN:VEVENT
UID:sabre-vobject-ba19b875-89a6-4f3c-bbdd-5cf493c99f02
DTSTAMP:20260425T003030Z
SUMMARY:Beichtgelegenheit in der Kapelle
DESCRIPTION:https://pfarreien-bistum-augsburg.df-preview.de/beichtgelegenhe
 it-in-der-kapelle_id1746044
DTSTART;TZID=Europe/Berlin:20260516T174500
DURATION:PT30M
LOCATION:St. Pius
END:VEVENT
BEGIN:VEVENT
UID:sabre-vobject-137078f7-66b4-45c8-95ec-fea0c3cddfea
DTSTAMP:20260425T003030Z
SUMMARY:Erste Sonntagsmesse
DESCRIPTION:https://pfarreien-bistum-augsburg.df-preview.de/erste-sonntagsm
 esse_id1746045
DTSTART;TZID=Europe/Berlin:20260516T183000
DURATION:PT30M
LOCATION:St. Pius
END:VEVENT
BEGIN:VEVENT
UID:sabre-vobject-d82f3b30-64c4-4f4b-b6a1-a44a3db0b884
DTSTAMP:20260425T003030Z
SUMMARY:Hl. Messe für die Pfarrgemeinde
DESCRIPTION:https://pfarreien-bistum-augsburg.df-preview.de/hl-messe-fuer-d
 ie-pfarrgemeinde_id1746064
DTSTART;TZID=Europe/Berlin:20260517T100000
DURATION:PT30M
LOCATION:St. Pius
END:VEVENT
BEGIN:VEVENT
UID:sabre-vobject-b03a6465-c00b-407c-b7b1-16ddcdb0c9df
DTSTAMP:20260425T003030Z
SUMMARY:Maiandacht im Pfarrgarten mit der Musikgruppe "Stellaris"
DESCRIPTION:https://pfarreien-bistum-augsburg.df-preview.de/maiandacht-im-p
 farrgarten-mit-der-musikgruppe-stellaris_id1746068
DTSTART;TZID=Europe/Berlin:20260517T190000
DURATION:PT30M
LOCATION:St. Pius
END:VEVENT
BEGIN:VEVENT
UID:sabre-vobject-6afb10bc-aa19-41b1-81f6-0872225dce0c
DTSTAMP:20260425T003030Z
SUMMARY:Hl. Messe
DESCRIPTION:https://pfarreien-bistum-augsburg.df-preview.de/hl-messe_id1746
 070
DTSTART;TZID=Europe/Berlin:20260519T183000
DURATION:PT30M
LOCATION:St. Pius
END:VEVENT
BEGIN:VEVENT
UID:sabre-vobject-f5b74c70-8e19-46bf-a90d-174945c14e84
DTSTAMP:20260425T003030Z
SUMMARY:Ökumenisches Friedensgebet
DESCRIPTION:https://pfarreien-bistum-augsburg.df-preview.de/oekumenisches-f
 riedensgebet_id1746071
DTSTART;TZID=Europe/Berlin:20260520T183000
DURATION:PT30M
LOCATION:St. Pius
END:VEVENT
BEGIN:VEVENT
UID:sabre-vobject-142727af-7677-4f86-a675-e160608f164b
DTSTAMP:20260425T003030Z
SUMMARY:"Frühstückstreff" im Franziskussaal\, anschl.
DESCRIPTION:https://pfarreien-bistum-augsburg.df-preview.de/fruehstueckstre
 ff-im-franziskussaal-anschl_id1746072
DTSTART;TZID=Europe/Berlin:20260521T081500
DURATION:PT30M
LOCATION:St. Pius
END:VEVENT
BEGIN:VEVENT
UID:sabre-vobject-176fc9f2-6039-459e-932b-c3d181f68184
DTSTAMP:20260425T003030Z
SUMMARY:Hl. Messe
DESCRIPTION:https://pfarreien-bistum-augsburg.df-preview.de/hl-messe_id1746
 004
DTSTART;TZID=Europe/Berlin:20260521T093000
DURATION:PT30M
LOCATION:St. Pius
END:VEVENT
BEGIN:VEVENT
UID:sabre-vobject-829f0d2e-8b4b-4d21-8845-d3c9d5b38e0c
DTSTAMP:20260425T003030Z
SUMMARY:Hl. Messe im Seniorenwohnheim Wetterstein
DESCRIPTION:https://pfarreien-bistum-augsburg.df-preview.de/hl-messe-im-sen
 iorenwohnheim-wetterstein_id1746005
DTSTART;TZID=Europe/Berlin:20260522T150000
DURATION:PT30M
LOCATION:St. Pius
END:VEVENT
BEGIN:VEVENT
UID:sabre-vobject-ade18ce7-b27f-4ad2-a503-b8544f068c8a
DTSTAMP:20260425T003030Z
SUMMARY:Maiandacht
DESCRIPTION:https://pfarreien-bistum-augsburg.df-preview.de/maiandacht_id17
 46006
DTSTART;TZID=Europe/Berlin:20260522T170000
DURATION:PT30M
LOCATION:St. Pius
END:VEVENT
BEGIN:VEVENT
UID:sabre-vobject-27acd960-f158-416c-b9f1-8e7ef9e65074
DTSTAMP:20260425T003030Z
SUMMARY:Beichtgelegenheit in der Kapelle
DESCRIPTION:https://pfarreien-bistum-augsburg.df-preview.de/beichtgelegenhe
 it-in-der-kapelle_id1756901
DTSTART;TZID=Europe/Berlin:20260523T174500
DURATION:PT30M
LOCATION:St. Pius
END:VEVENT
BEGIN:VEVENT
UID:sabre-vobject-6ad98d00-934b-412b-95ef-9f1b6f3779a9
DTSTAMP:20260425T003030Z
SUMMARY:Erste Sonntagsmesse
DESCRIPTION:https://pfarreien-bistum-augsburg.df-preview.de/erste-sonntagsm
 esse_id1756902
DTSTART;TZID=Europe/Berlin:20260523T183000
DURATION:PT30M
LOCATION:St. Pius
END:VEVENT
BEGIN:VEVENT
UID:sabre-vobject-9f93930f-f0e5-4e70-aff3-675dd54f5725
DTSTAMP:20260425T003030Z
SUMMARY:Hl. Messe für die Pfarrgemeinde
DESCRIPTION:https://pfarreien-bistum-augsburg.df-preview.de/hl-messe-fuer-d
 ie-pfarrgemeinde_id1756903
DTSTART;TZID=Europe/Berlin:20260524T100000
DURATION:PT30M
LOCATION:St. Pius
END:VEVENT
BEGIN:VEVENT
UID:sabre-vobject-8ae60e8c-daba-42b5-9a66-cb5d5760f367
DTSTAMP:20260425T003030Z
SUMMARY:Maiandacht
DESCRIPTION:https://pfarreien-bistum-augsburg.df-preview.de/maiandacht_id17
 56916
DTSTART;TZID=Europe/Berlin:20260524T190000
DURATION:PT30M
LOCATION:St. Pius
END:VEVENT
BEGIN:VEVENT
UID:sabre-vobject-9a7c14a6-c8a6-4302-9876-730a3c73b06a
DTSTAMP:20260425T003030Z
SUMMARY:Hl. Messe
DESCRIPTION:https://pfarreien-bistum-augsburg.df-preview.de/hl-messe_id1756
 917
DTSTART;TZID=Europe/Berlin:20260525T100000
DURATION:PT30M
LOCATION:St. Pius
END:VEVENT
BEGIN:VEVENT
UID:sabre-vobject-006dfbf9-683c-4d07-bc1d-611e5dfb815d
DTSTAMP:20260425T003030Z
SUMMARY:Hl. Messe
DESCRIPTION:https://pfarreien-bistum-augsburg.df-preview.de/hl-messe_id1756
 918
DTSTART;TZID=Europe/Berlin:20260526T183000
DURATION:PT30M
LOCATION:St. Pius
END:VEVENT
BEGIN:VEVENT
UID:sabre-vobject-d48dc46b-b5a9-415c-bd4a-99fe78ca0e07
DTSTAMP:20260425T003030Z
SUMMARY:Ökumenisches Friedensgebet
DESCRIPTION:https://pfarreien-bistum-augsburg.df-preview.de/oekumenisches-f
 riedensgebet_id1756919
DTSTART;TZID=Europe/Berlin:20260527T183000
DURATION:PT30M
LOCATION:St. Pius
END:VEVENT
BEGIN:VEVENT
UID:sabre-vobject-60e5ae62-aa31-4ec5-b748-26f5ef354b6a
DTSTAMP:20260425T003030Z
SUMMARY:Hl. Messe
DESCRIPTION:https://pfarreien-bistum-augsburg.df-preview.de/hl-messe_id1756
 920
DTSTART;TZID=Europe/Berlin:20260528T093000
DURATION:PT30M
LOCATION:St. Pius
END:VEVENT
BEGIN:VEVENT
UID:sabre-vobject-cbba07c6-7d05-4f78-8a3a-ec4be9c4929e
DTSTAMP:20260425T003030Z
SUMMARY:Hl. Messe im Seniorenwohnheim Wetterstein
DESCRIPTION:https://pfarreien-bistum-augsburg.df-preview.de/hl-messe-im-sen
 iorenwohnheim-wetterstein_id1756922
DTSTART;TZID=Europe/Berlin:20260529T150000
DURATION:PT30M
LOCATION:St. Pius
END:VEVENT
BEGIN:VEVENT
UID:sabre-vobject-2c7df057-6d9d-47c7-82bd-270f0f3f0d59
DTSTAMP:20260425T003030Z
SUMMARY:Maiandacht
DESCRIPTION:https://pfarreien-bistum-augsburg.df-preview.de/maiandacht_id17
 56923
DTSTART;TZID=Europe/Berlin:20260529T170000
DURATION:PT30M
LOCATION:St. Pius
END:VEVENT
END:VCALENDAR
