BEGIN:VCALENDAR
VERSION:2.0
PRODID:-//Sabre//Sabre VObject 4.5.8//EN
CALSCALE:GREGORIAN
NAME:Bistum Augsburg
X-WR-CALNAME:Bistum Augsburg
BEGIN:VEVENT
UID:sabre-vobject-42279397-5385-41aa-8582-b2365966dd53
DTSTAMP:20260422T215746Z
SUMMARY:Dankgottesdienst der Erstkommunionkinder Hl. Messe für
DESCRIPTION:https://pfarreien-bistum-augsburg.df-preview.de/dankgottesdiens
 t-der-erstkommunionkinder-hl-messe-fuer_id1735580
DTSTART;TZID=Europe/Berlin:20260422T180000
DURATION:PT30M
LOCATION:St. Quirinus
END:VEVENT
BEGIN:VEVENT
UID:sabre-vobject-e59abf19-450d-4e89-a3ee-a026825120d5
DTSTAMP:20260422T215746Z
SUMMARY:Hl. Messe mit Ewige Anbetung für
DESCRIPTION:https://pfarreien-bistum-augsburg.df-preview.de/hl-messe-mit-ew
 ige-anbetung-fuer_id1735471
DTSTART;TZID=Europe/Berlin:20260422T190000
DURATION:PT30M
LOCATION:St. Michael
END:VEVENT
BEGIN:VEVENT
UID:sabre-vobject-50d1cd7f-36e6-4da7-a9ec-70b7735b4cb5
DTSTAMP:20260422T215746Z
SUMMARY:Wort - Gottes - Feier der Frauen\, anschließend gemeinsames Frühs
 tück
DESCRIPTION:https://pfarreien-bistum-augsburg.df-preview.de/wort-gottes-fei
 er-der-frauen-anschliessend-gemeinsames-fruehstueck_id1735518
DTSTART;TZID=Europe/Berlin:20260423T083000
DURATION:PT30M
LOCATION:St. Stephan
END:VEVENT
BEGIN:VEVENT
UID:sabre-vobject-06f56821-d424-40d5-8f43-f4d54c572097
DTSTAMP:20260422T215746Z
SUMMARY:Hl. Messe mit Ewige Anbetung für
DESCRIPTION:https://pfarreien-bistum-augsburg.df-preview.de/hl-messe-mit-ew
 ige-anbetung-fuer_id1735535
DTSTART;TZID=Europe/Berlin:20260423T120000
DURATION:PT30M
LOCATION:St. Johannes der Täufer
END:VEVENT
BEGIN:VEVENT
UID:sabre-vobject-f93da599-2e24-4177-9ad7-7c94cb305d44
DTSTAMP:20260422T215746Z
SUMMARY:Rosenkranz
DESCRIPTION:https://pfarreien-bistum-augsburg.df-preview.de/rosenkranz_id17
 35788
DTSTART;TZID=Europe/Berlin:20260423T183000
DURATION:PT30M
LOCATION:St. Valentin
END:VEVENT
BEGIN:VEVENT
UID:sabre-vobject-903ee02d-88e4-40db-9c78-f6ca66b4c5ed
DTSTAMP:20260422T215746Z
SUMMARY:Hl. Messe für
DESCRIPTION:https://pfarreien-bistum-augsburg.df-preview.de/hl-messe-fuer_i
 d1735632
DTSTART;TZID=Europe/Berlin:20260423T190000
DURATION:PT30M
LOCATION:St. Valentin
END:VEVENT
BEGIN:VEVENT
UID:sabre-vobject-900d8f07-e300-49a3-82ab-67a369e5f45d
DTSTAMP:20260422T215746Z
SUMMARY:Rosenkranz
DESCRIPTION:https://pfarreien-bistum-augsburg.df-preview.de/rosenkranz_id17
 35359
DTSTART;TZID=Europe/Berlin:20260424T183000
DURATION:PT30M
LOCATION:Maria Immaculata
END:VEVENT
BEGIN:VEVENT
UID:sabre-vobject-b492657c-1ef5-4580-a947-4c7d0b9688e2
DTSTAMP:20260422T215746Z
SUMMARY:Rosenkranz
DESCRIPTION:https://pfarreien-bistum-augsburg.df-preview.de/rosenkranz_id17
 35741
DTSTART;TZID=Europe/Berlin:20260424T183000
DURATION:PT30M
LOCATION:St. Stephan
END:VEVENT
BEGIN:VEVENT
UID:sabre-vobject-4a7183c0-1ef6-495e-93af-bf0ce831ccc1
DTSTAMP:20260422T215746Z
SUMMARY:Hl. Messe für
DESCRIPTION:https://pfarreien-bistum-augsburg.df-preview.de/hl-messe-fuer_i
 d1735598
DTSTART;TZID=Europe/Berlin:20260424T190000
DURATION:PT30M
LOCATION:St. Laurentius\, Kirchbergstraße 12\, 86676 Ehekirchen Holzkirche
 n
END:VEVENT
BEGIN:VEVENT
UID:sabre-vobject-c1804693-ac83-40dc-81dc-480c29a0b3f6
DTSTAMP:20260422T215746Z
SUMMARY:Hl. Messe für
DESCRIPTION:https://pfarreien-bistum-augsburg.df-preview.de/hl-messe-fuer_i
 d1735774
DTSTART;TZID=Europe/Berlin:20260424T190000
DURATION:PT30M
LOCATION:St. Stephan
END:VEVENT
BEGIN:VEVENT
UID:sabre-vobject-68ad3158-590e-4a6b-b093-c7235a63f214
DTSTAMP:20260422T215746Z
SUMMARY:Hl. Messe für
DESCRIPTION:https://pfarreien-bistum-augsburg.df-preview.de/hl-messe-fuer_i
 d1746439
DTSTART;TZID=Europe/Berlin:20260425T180000
DURATION:PT30M
LOCATION:St. Johannes der Täufer
END:VEVENT
BEGIN:VEVENT
UID:sabre-vobject-a334c14e-7e66-48dd-a29b-0e82d82c2a56
DTSTAMP:20260422T215746Z
SUMMARY:Hl. Messe für
DESCRIPTION:https://pfarreien-bistum-augsburg.df-preview.de/hl-messe-fuer_i
 d1746611
DTSTART;TZID=Europe/Berlin:20260425T180000
DURATION:PT30M
LOCATION:St. Michael
END:VEVENT
BEGIN:VEVENT
UID:sabre-vobject-96879a08-69ec-4256-adaf-4d683f207b00
DTSTAMP:20260422T215746Z
SUMMARY:Rosenkranz
DESCRIPTION:https://pfarreien-bistum-augsburg.df-preview.de/rosenkranz_id17
 46470
DTSTART;TZID=Europe/Berlin:20260425T184500
DURATION:PT30M
LOCATION:St. Quirinus
END:VEVENT
BEGIN:VEVENT
UID:sabre-vobject-fbb6446a-da0a-4d40-949c-8c75965c2202
DTSTAMP:20260422T215746Z
SUMMARY:Hl. Messe für
DESCRIPTION:https://pfarreien-bistum-augsburg.df-preview.de/hl-messe-fuer_i
 d1746392
DTSTART;TZID=Europe/Berlin:20260425T191500
DURATION:PT30M
LOCATION:St. Laurentius\, Kirchbergstraße 12\, 86676 Ehekirchen Holzkirche
 n
END:VEVENT
BEGIN:VEVENT
UID:sabre-vobject-3187628e-1bef-40a4-be07-745fed3e68e4
DTSTAMP:20260422T215746Z
SUMMARY:Hl. Messe für
DESCRIPTION:https://pfarreien-bistum-augsburg.df-preview.de/hl-messe-fuer_i
 d1746473
DTSTART;TZID=Europe/Berlin:20260425T191500
DURATION:PT30M
LOCATION:St. Quirinus
END:VEVENT
BEGIN:VEVENT
UID:sabre-vobject-ac80a6a7-14d8-4e85-8891-75bf9f16ec9d
DTSTAMP:20260422T215746Z
SUMMARY:Rosenkranz
DESCRIPTION:https://pfarreien-bistum-augsburg.df-preview.de/rosenkranz_id17
 46434
DTSTART;TZID=Europe/Berlin:20260426T083000
DURATION:PT30M
LOCATION:St. Stephan
END:VEVENT
BEGIN:VEVENT
UID:sabre-vobject-3cfe119e-5818-4bc3-b581-fe85c3d55ad1
DTSTAMP:20260422T215746Z
SUMMARY:Rosenkranz
DESCRIPTION:https://pfarreien-bistum-augsburg.df-preview.de/rosenkranz_id17
 46508
DTSTART;TZID=Europe/Berlin:20260426T083000
DURATION:PT30M
LOCATION:St. Valentin
END:VEVENT
BEGIN:VEVENT
UID:sabre-vobject-be9048ef-c163-4a5d-b23c-5671547edf8f
DTSTAMP:20260422T215746Z
SUMMARY:Wort-Gottes-Feier
DESCRIPTION:https://pfarreien-bistum-augsburg.df-preview.de/wort-gottes-fei
 er_id1746403
DTSTART;TZID=Europe/Berlin:20260426T090000
DURATION:PT30M
LOCATION:St. Michael
END:VEVENT
BEGIN:VEVENT
UID:sabre-vobject-77f51928-067f-482b-8f58-76332af0802a
DTSTAMP:20260422T215746Z
SUMMARY:Hl. Messe für
DESCRIPTION:https://pfarreien-bistum-augsburg.df-preview.de/hl-messe-fuer_i
 d1746435
DTSTART;TZID=Europe/Berlin:20260426T090000
DURATION:PT30M
LOCATION:St. Stephan
END:VEVENT
BEGIN:VEVENT
UID:sabre-vobject-cd7b2e78-6a8c-4606-8d7c-7ccfde078b55
DTSTAMP:20260422T215746Z
SUMMARY:Hl. Messe für
DESCRIPTION:https://pfarreien-bistum-augsburg.df-preview.de/hl-messe-fuer_i
 d1746509
DTSTART;TZID=Europe/Berlin:20260426T090000
DURATION:PT30M
LOCATION:St. Valentin
END:VEVENT
BEGIN:VEVENT
UID:sabre-vobject-a46e5bf8-ca41-416d-9e50-b2c92007ee1c
DTSTAMP:20260422T215746Z
SUMMARY:Feier der Erstkommunion
DESCRIPTION:https://pfarreien-bistum-augsburg.df-preview.de/feier-der-erstk
 ommunion_id1746610
DTSTART;TZID=Europe/Berlin:20260426T100000
DURATION:PT30M
LOCATION:St. Stephan
END:VEVENT
BEGIN:VEVENT
UID:sabre-vobject-b95c9d9f-f1c4-44d5-adba-ee9dc1a394f3
DTSTAMP:20260422T215746Z
SUMMARY:Hl. Messe für
DESCRIPTION:https://pfarreien-bistum-augsburg.df-preview.de/hl-messe-fuer_i
 d1746407
DTSTART;TZID=Europe/Berlin:20260426T103000
DURATION:PT30M
LOCATION:St. Peter und Paul
END:VEVENT
BEGIN:VEVENT
UID:sabre-vobject-027b0f5e-1a95-45aa-87c6-cd6b4b935dc1
DTSTAMP:20260422T215746Z
SUMMARY:Hl. Messe für
DESCRIPTION:https://pfarreien-bistum-augsburg.df-preview.de/hl-messe-fuer_i
 d1746413
DTSTART;TZID=Europe/Berlin:20260426T103000
DURATION:PT30M
LOCATION:St. Gertrud
END:VEVENT
BEGIN:VEVENT
UID:sabre-vobject-4b30da51-9c28-4ed5-822a-45126214580d
DTSTAMP:20260422T215746Z
SUMMARY:Hl. Messe mit Ewige Anbetung für
DESCRIPTION:https://pfarreien-bistum-augsburg.df-preview.de/hl-messe-mit-ew
 ige-anbetung-fuer_id1746612
DTSTART;TZID=Europe/Berlin:20260427T120000
DURATION:PT30M
LOCATION:St. Michael
END:VEVENT
BEGIN:VEVENT
UID:sabre-vobject-11317988-a06b-48c7-8e7b-7d9a4747b5b9
DTSTAMP:20260422T215746Z
SUMMARY:Gebetskreis
DESCRIPTION:https://pfarreien-bistum-augsburg.df-preview.de/gebetskreis_id1
 746601
DTSTART;TZID=Europe/Berlin:20260427T191500
DURATION:PT30M
LOCATION:St. Stephan
END:VEVENT
BEGIN:VEVENT
UID:sabre-vobject-8b157ac8-4d0c-4747-8ee3-70eb2c19c2d2
DTSTAMP:20260422T215746Z
SUMMARY:Dankgottesdienst der Erstkommunionkinder Hl. Messe für
DESCRIPTION:https://pfarreien-bistum-augsburg.df-preview.de/dankgottesdiens
 t-der-erstkommunionkinder-hl-messe-fuer_id1746619
DTSTART;TZID=Europe/Berlin:20260428T180000
DURATION:PT30M
LOCATION:St. Stephan
END:VEVENT
BEGIN:VEVENT
UID:sabre-vobject-312bcc78-7156-4a4c-99da-b6376d2618b8
DTSTAMP:20260422T215746Z
SUMMARY:Rosenkranz v. ausges. Allerheiligsten um Priester- u. Ordensberufe 
 mit Beichtgelegenheit
DESCRIPTION:https://pfarreien-bistum-augsburg.df-preview.de/rosenkranz-v-au
 sges-allerheiligsten-um-priester-u-ordensberufe-mit-beichtgelegenheit_id17
 46581
DTSTART;TZID=Europe/Berlin:20260428T183000
DURATION:PT30M
LOCATION:Maria Immaculata
END:VEVENT
BEGIN:VEVENT
UID:sabre-vobject-9d8c87ef-27ff-470b-a7e4-43d1692c9ec8
DTSTAMP:20260422T215746Z
SUMMARY:Hl. Messe für
DESCRIPTION:https://pfarreien-bistum-augsburg.df-preview.de/hl-messe-fuer_i
 d1746583
DTSTART;TZID=Europe/Berlin:20260428T190000
DURATION:PT30M
LOCATION:Maria Immaculata
END:VEVENT
BEGIN:VEVENT
UID:sabre-vobject-d1958d11-e2cf-406e-909d-6c71179a2cc8
DTSTAMP:20260422T215746Z
SUMMARY:Hl. Messe mit anschl. Gebet um geistliche Berufungen für
DESCRIPTION:https://pfarreien-bistum-augsburg.df-preview.de/hl-messe-mit-an
 schl-gebet-um-geistliche-berufungen-fuer_id1746408
DTSTART;TZID=Europe/Berlin:20260429T190000
DURATION:PT30M
LOCATION:St. Peter und Paul
END:VEVENT
BEGIN:VEVENT
UID:sabre-vobject-b00dc336-6053-49b9-ad38-8e726ba52ffc
DTSTAMP:20260422T215746Z
SUMMARY:Rosenkranz v. ausges. Allerheiligsten um Priester- u. Ordensberufe
DESCRIPTION:https://pfarreien-bistum-augsburg.df-preview.de/rosenkranz-v-au
 sges-allerheiligsten-um-priester-u-ordensberufe_id1746427
DTSTART;TZID=Europe/Berlin:20260430T183000
DURATION:PT30M
LOCATION:St. Martin
END:VEVENT
BEGIN:VEVENT
UID:sabre-vobject-b27ee9df-3de6-45e0-a52c-a81f91acb195
DTSTAMP:20260422T215746Z
SUMMARY:Hl. Messe für
DESCRIPTION:https://pfarreien-bistum-augsburg.df-preview.de/hl-messe-fuer_i
 d1746603
DTSTART;TZID=Europe/Berlin:20260430T190000
DURATION:PT30M
LOCATION:St. Martin
END:VEVENT
BEGIN:VEVENT
UID:sabre-vobject-ff653938-22a3-42a0-8211-edf38f345128
DTSTAMP:20260422T215746Z
SUMMARY:Hl. Messe für
DESCRIPTION:https://pfarreien-bistum-augsburg.df-preview.de/hl-messe-fuer_i
 d1746404
DTSTART;TZID=Europe/Berlin:20260501T090000
DURATION:PT30M
LOCATION:St. Michael
END:VEVENT
BEGIN:VEVENT
UID:sabre-vobject-5a3ceaff-5c59-463d-8a26-e4c93e708c3a
DTSTAMP:20260422T215746Z
SUMMARY:Hl. Messe für
DESCRIPTION:https://pfarreien-bistum-augsburg.df-preview.de/hl-messe-fuer_i
 d1746414
DTSTART;TZID=Europe/Berlin:20260501T090000
DURATION:PT30M
LOCATION:St. Gertrud
END:VEVENT
BEGIN:VEVENT
UID:sabre-vobject-d0b118a6-af2e-4c04-981b-51b603eb8dcd
DTSTAMP:20260422T215746Z
SUMMARY:Feierliche Maiandacht
DESCRIPTION:https://pfarreien-bistum-augsburg.df-preview.de/feierliche-maia
 ndacht_id1746393
DTSTART;TZID=Europe/Berlin:20260501T190000
DURATION:PT30M
LOCATION:St. Laurentius\, Kirchbergstraße 12\, 86676 Ehekirchen Holzkirche
 n
END:VEVENT
BEGIN:VEVENT
UID:sabre-vobject-74e92316-ddbe-4ae2-b28f-ce1f2d8a26cb
DTSTAMP:20260422T215746Z
SUMMARY:Feierliche Maiandacht
DESCRIPTION:https://pfarreien-bistum-augsburg.df-preview.de/feierliche-maia
 ndacht_id1746590
DTSTART;TZID=Europe/Berlin:20260501T190000
DURATION:PT30M
LOCATION:Maria Immaculata
END:VEVENT
BEGIN:VEVENT
UID:sabre-vobject-8fcf9b0b-05a6-4c10-8f9a-a57ed45c3b61
DTSTAMP:20260422T215746Z
SUMMARY:Taufe von Benedikt Feigl
DESCRIPTION:https://pfarreien-bistum-augsburg.df-preview.de/taufe-von-bened
 ikt-feigl_id1746596
DTSTART;TZID=Europe/Berlin:20260502T140000
DURATION:PT30M
LOCATION:St. Stephan
END:VEVENT
BEGIN:VEVENT
UID:sabre-vobject-9ca1a8fe-c813-4777-89c4-1e42e941f251
DTSTAMP:20260422T215746Z
SUMMARY:Rosenkranz
DESCRIPTION:https://pfarreien-bistum-augsburg.df-preview.de/rosenkranz_id17
 46604
DTSTART;TZID=Europe/Berlin:20260502T173000
DURATION:PT30M
LOCATION:St. Martin
END:VEVENT
BEGIN:VEVENT
UID:sabre-vobject-02e10324-1e97-4236-b104-d4e46b3e9165
DTSTAMP:20260422T215746Z
SUMMARY:Hl. Messe für
DESCRIPTION:https://pfarreien-bistum-augsburg.df-preview.de/hl-messe-fuer_i
 d1746606
DTSTART;TZID=Europe/Berlin:20260502T180000
DURATION:PT30M
LOCATION:St. Martin
END:VEVENT
BEGIN:VEVENT
UID:sabre-vobject-a5eec8f5-23dd-4538-97a6-1c21369e2b49
DTSTAMP:20260422T215746Z
SUMMARY:Hl. Messe für
DESCRIPTION:https://pfarreien-bistum-augsburg.df-preview.de/hl-messe-fuer_i
 d1746609
DTSTART;TZID=Europe/Berlin:20260502T180000
DURATION:PT30M
LOCATION:St. Stephan
END:VEVENT
BEGIN:VEVENT
UID:sabre-vobject-f54b5164-606c-4580-8e84-608f773b4df9
DTSTAMP:20260422T215746Z
SUMMARY:Maiandacht
DESCRIPTION:https://pfarreien-bistum-augsburg.df-preview.de/maiandacht_id17
 46440
DTSTART;TZID=Europe/Berlin:20260502T184500
DURATION:PT30M
LOCATION:St. Johannes der Täufer
END:VEVENT
BEGIN:VEVENT
UID:sabre-vobject-e8d29c95-54fa-4e03-b955-666cd1f7ae63
DTSTAMP:20260422T215746Z
SUMMARY:Hl. Messe für
DESCRIPTION:https://pfarreien-bistum-augsburg.df-preview.de/hl-messe-fuer_i
 d1746613
DTSTART;TZID=Europe/Berlin:20260502T191500
DURATION:PT30M
LOCATION:St. Michael
END:VEVENT
BEGIN:VEVENT
UID:sabre-vobject-34d1242a-0a11-4ac3-894f-633806e7045f
DTSTAMP:20260422T215746Z
SUMMARY:Hl. Messe für
DESCRIPTION:https://pfarreien-bistum-augsburg.df-preview.de/hl-messe-fuer_i
 d1746621
DTSTART;TZID=Europe/Berlin:20260502T191500
DURATION:PT30M
LOCATION:St. Johannes der Täufer
END:VEVENT
BEGIN:VEVENT
UID:sabre-vobject-8c46fefc-11b5-41ef-8c92-47f44bc2b6b8
DTSTAMP:20260422T215746Z
SUMMARY:Rosenkranz
DESCRIPTION:https://pfarreien-bistum-augsburg.df-preview.de/rosenkranz_id17
 46591
DTSTART;TZID=Europe/Berlin:20260503T083000
DURATION:PT30M
LOCATION:Maria Immaculata
END:VEVENT
BEGIN:VEVENT
UID:sabre-vobject-af5606f7-4761-4806-8a2b-90c83a7d6ae6
DTSTAMP:20260422T215746Z
SUMMARY:Hl. Messe für
DESCRIPTION:https://pfarreien-bistum-augsburg.df-preview.de/hl-messe-fuer_i
 d1746395
DTSTART;TZID=Europe/Berlin:20260503T090000
DURATION:PT30M
LOCATION:St. Laurentius\, Kirchbergstraße 12\, 86676 Ehekirchen Holzkirche
 n
END:VEVENT
BEGIN:VEVENT
UID:sabre-vobject-54ca9ac1-6326-4e8b-873c-eed5a0d038a8
DTSTAMP:20260422T215746Z
SUMMARY:Hl. Messe für
DESCRIPTION:https://pfarreien-bistum-augsburg.df-preview.de/hl-messe-fuer_i
 d1746580
DTSTART;TZID=Europe/Berlin:20260503T090000
DURATION:PT30M
LOCATION:Maria Immaculata
END:VEVENT
BEGIN:VEVENT
UID:sabre-vobject-f59fb7fb-0509-4967-be0d-2748d567f287
DTSTAMP:20260422T215746Z
SUMMARY:Feier der Erstkommunion
DESCRIPTION:https://pfarreien-bistum-augsburg.df-preview.de/feier-der-erstk
 ommunion_id1746597
DTSTART;TZID=Europe/Berlin:20260503T100000
DURATION:PT30M
LOCATION:St. Stephan
END:VEVENT
BEGIN:VEVENT
UID:sabre-vobject-fb2d4163-5273-474c-9a11-02ae368a913a
DTSTAMP:20260422T215746Z
SUMMARY:Hl. Messe für
DESCRIPTION:https://pfarreien-bistum-augsburg.df-preview.de/hl-messe-fuer_i
 d1746405
DTSTART;TZID=Europe/Berlin:20260503T103000
DURATION:PT30M
LOCATION:St. Michael
END:VEVENT
BEGIN:VEVENT
UID:sabre-vobject-94771bae-4b2a-4cbc-b149-9df4c3aed5e5
DTSTAMP:20260422T215746Z
SUMMARY:Hl. Messe für
DESCRIPTION:https://pfarreien-bistum-augsburg.df-preview.de/hl-messe-fuer_i
 d1746415
DTSTART;TZID=Europe/Berlin:20260503T103000
DURATION:PT30M
LOCATION:St. Gertrud
END:VEVENT
BEGIN:VEVENT
UID:sabre-vobject-30de5725-9156-4949-b550-2e97fb3eb5ab
DTSTAMP:20260422T215746Z
SUMMARY:Feierliche Maiandacht
DESCRIPTION:https://pfarreien-bistum-augsburg.df-preview.de/feierliche-maia
 ndacht_id1746409
DTSTART;TZID=Europe/Berlin:20260503T190000
DURATION:PT30M
LOCATION:St. Peter und Paul
END:VEVENT
BEGIN:VEVENT
UID:sabre-vobject-d9a86b5b-833b-4248-addd-aef68089e7cf
DTSTAMP:20260422T215746Z
SUMMARY:Feierliche Maiandacht
DESCRIPTION:https://pfarreien-bistum-augsburg.df-preview.de/feierliche-maia
 ndacht_id1746510
DTSTART;TZID=Europe/Berlin:20260503T190000
DURATION:PT30M
LOCATION:St. Valentin
END:VEVENT
BEGIN:VEVENT
UID:sabre-vobject-267acf30-68b0-474d-a56e-fff52183994a
DTSTAMP:20260422T215746Z
SUMMARY:Gebetskreis
DESCRIPTION:https://pfarreien-bistum-augsburg.df-preview.de/gebetskreis_id1
 746598
DTSTART;TZID=Europe/Berlin:20260504T191500
DURATION:PT30M
LOCATION:St. Stephan
END:VEVENT
BEGIN:VEVENT
UID:sabre-vobject-2fc6191c-261c-48af-8c0f-9b7442ca3be1
DTSTAMP:20260422T215746Z
SUMMARY:Dankgottesdienst der Erstkommunionkinder Hl. Messe für
DESCRIPTION:https://pfarreien-bistum-augsburg.df-preview.de/dankgottesdiens
 t-der-erstkommunionkinder-hl-messe-fuer_id1746599
DTSTART;TZID=Europe/Berlin:20260505T180000
DURATION:PT30M
LOCATION:St. Stephan
END:VEVENT
BEGIN:VEVENT
UID:sabre-vobject-0049e584-8e78-4932-8771-a6d0f12f0fc6
DTSTAMP:20260422T215746Z
SUMMARY:Rosenkranz
DESCRIPTION:https://pfarreien-bistum-augsburg.df-preview.de/rosenkranz_id17
 46582
DTSTART;TZID=Europe/Berlin:20260505T183000
DURATION:PT30M
LOCATION:Maria Immaculata
END:VEVENT
BEGIN:VEVENT
UID:sabre-vobject-55c1af27-7131-4376-8666-51fd1dbe6f24
DTSTAMP:20260422T215746Z
SUMMARY:Hl. Messe für
DESCRIPTION:https://pfarreien-bistum-augsburg.df-preview.de/hl-messe-fuer_i
 d1746550
DTSTART;TZID=Europe/Berlin:20260505T190000
DURATION:PT30M
LOCATION:Maria Immaculata
END:VEVENT
BEGIN:VEVENT
UID:sabre-vobject-824cfccb-31ce-41a7-82a4-4f59219dac9e
DTSTAMP:20260422T215746Z
SUMMARY:Rosenkranz
DESCRIPTION:https://pfarreien-bistum-augsburg.df-preview.de/rosenkranz_id17
 46479
DTSTART;TZID=Europe/Berlin:20260506T183000
DURATION:PT30M
LOCATION:St. Quirinus
END:VEVENT
BEGIN:VEVENT
UID:sabre-vobject-ba2cb59d-b6e7-48aa-baa4-e48768f62494
DTSTAMP:20260422T215746Z
SUMMARY:Hl. Messe für
DESCRIPTION:https://pfarreien-bistum-augsburg.df-preview.de/hl-messe-fuer_i
 d1746396
DTSTART;TZID=Europe/Berlin:20260506T190000
DURATION:PT30M
LOCATION:St. Laurentius\, Kirchbergstraße 12\, 86676 Ehekirchen Holzkirche
 n
END:VEVENT
BEGIN:VEVENT
UID:sabre-vobject-f47b7ed1-0fc4-4cb7-998d-e92c271b9530
DTSTAMP:20260422T215746Z
SUMMARY:Hl. Messe für
DESCRIPTION:https://pfarreien-bistum-augsburg.df-preview.de/hl-messe-fuer_i
 d1746471
DTSTART;TZID=Europe/Berlin:20260506T190000
DURATION:PT30M
LOCATION:St. Quirinus
END:VEVENT
BEGIN:VEVENT
UID:sabre-vobject-d7e61e48-1d27-43ae-b2a5-a962e942b7de
DTSTAMP:20260422T215746Z
SUMMARY:Maiandacht
DESCRIPTION:https://pfarreien-bistum-augsburg.df-preview.de/maiandacht_id17
 46481
DTSTART;TZID=Europe/Berlin:20260507T183000
DURATION:PT30M
LOCATION:St. Johannes der Täufer
END:VEVENT
BEGIN:VEVENT
UID:sabre-vobject-97e2bb20-f57e-4602-b1d6-885136dc5a93
DTSTAMP:20260422T215746Z
SUMMARY:Rosenkranz
DESCRIPTION:https://pfarreien-bistum-augsburg.df-preview.de/rosenkranz_id17
 46511
DTSTART;TZID=Europe/Berlin:20260507T183000
DURATION:PT30M
LOCATION:St. Valentin
END:VEVENT
BEGIN:VEVENT
UID:sabre-vobject-7cbcfb62-a47e-4d82-a528-84fa25091dfa
DTSTAMP:20260422T215746Z
SUMMARY:Hl. Messe für
DESCRIPTION:https://pfarreien-bistum-augsburg.df-preview.de/hl-messe-fuer_i
 d1746482
DTSTART;TZID=Europe/Berlin:20260507T190000
DURATION:PT30M
LOCATION:St. Johannes der Täufer
END:VEVENT
BEGIN:VEVENT
UID:sabre-vobject-989c0140-727b-4ad4-9be3-4e89b80445da
DTSTAMP:20260422T215746Z
SUMMARY:Hl. Messe für
DESCRIPTION:https://pfarreien-bistum-augsburg.df-preview.de/hl-messe-fuer_i
 d1746514
DTSTART;TZID=Europe/Berlin:20260507T190000
DURATION:PT30M
LOCATION:St. Valentin
END:VEVENT
BEGIN:VEVENT
UID:sabre-vobject-969c045f-df9d-4515-9d1a-d59c29f5e380
DTSTAMP:20260422T215746Z
SUMMARY:Rosenkranz
DESCRIPTION:https://pfarreien-bistum-augsburg.df-preview.de/rosenkranz_id17
 46394
DTSTART;TZID=Europe/Berlin:20260508T183000
DURATION:PT30M
LOCATION:St. Stephan
END:VEVENT
BEGIN:VEVENT
UID:sabre-vobject-7ba018ee-86ec-423e-a02c-bb656b564e21
DTSTAMP:20260422T215746Z
SUMMARY:Maiandacht
DESCRIPTION:https://pfarreien-bistum-augsburg.df-preview.de/maiandacht_id17
 46552
DTSTART;TZID=Europe/Berlin:20260508T183000
DURATION:PT30M
LOCATION:Maria Immaculata
END:VEVENT
BEGIN:VEVENT
UID:sabre-vobject-b6800c6f-0a0c-41e3-a252-102ca35f3d86
DTSTAMP:20260422T215746Z
SUMMARY:Hl. Messe für
DESCRIPTION:https://pfarreien-bistum-augsburg.df-preview.de/hl-messe-fuer_i
 d1746411
DTSTART;TZID=Europe/Berlin:20260508T190000
DURATION:PT30M
LOCATION:St. Stephan
END:VEVENT
BEGIN:VEVENT
UID:sabre-vobject-962cc006-3e7b-4c4e-a7bc-0cdd5aa51f30
DTSTAMP:20260422T215746Z
SUMMARY:Hl. Messe für
DESCRIPTION:https://pfarreien-bistum-augsburg.df-preview.de/hl-messe-fuer_i
 d1746416
DTSTART;TZID=Europe/Berlin:20260508T190000
DURATION:PT30M
LOCATION:St. Gertrud
END:VEVENT
BEGIN:VEVENT
UID:sabre-vobject-7b555404-20ed-4337-b97d-9b8c5c3de48b
DTSTAMP:20260422T215746Z
SUMMARY:Hl. Messe für
DESCRIPTION:https://pfarreien-bistum-augsburg.df-preview.de/hl-messe-fuer_i
 d1746410
DTSTART;TZID=Europe/Berlin:20260509T180000
DURATION:PT30M
LOCATION:St. Peter und Paul
END:VEVENT
BEGIN:VEVENT
UID:sabre-vobject-c616e0fd-e017-4143-895b-32835ae4237e
DTSTAMP:20260422T215746Z
SUMMARY:Hl. Messe für
DESCRIPTION:https://pfarreien-bistum-augsburg.df-preview.de/hl-messe-fuer_i
 d1746553
DTSTART;TZID=Europe/Berlin:20260509T180000
DURATION:PT30M
LOCATION:Maria Immaculata
END:VEVENT
BEGIN:VEVENT
UID:sabre-vobject-86ab9ded-5a94-4ae7-a714-fc5d2e70a923
DTSTAMP:20260422T215746Z
SUMMARY:Rosenkranz
DESCRIPTION:https://pfarreien-bistum-augsburg.df-preview.de/rosenkranz_id17
 46515
DTSTART;TZID=Europe/Berlin:20260509T184500
DURATION:PT30M
LOCATION:St. Valentin
END:VEVENT
BEGIN:VEVENT
UID:sabre-vobject-0ca62284-edd1-4d2a-8a96-5f73aebbecb7
DTSTAMP:20260422T215746Z
SUMMARY:Hl. Messe für
DESCRIPTION:https://pfarreien-bistum-augsburg.df-preview.de/hl-messe-fuer_i
 d1746391
DTSTART;TZID=Europe/Berlin:20260509T191500
DURATION:PT30M
LOCATION:St. Valentin
END:VEVENT
BEGIN:VEVENT
UID:sabre-vobject-d71bc8b9-1d91-4ab8-8610-f3432404edec
DTSTAMP:20260422T215746Z
SUMMARY:Hl. Messe für
DESCRIPTION:https://pfarreien-bistum-augsburg.df-preview.de/hl-messe-fuer_i
 d1746406
DTSTART;TZID=Europe/Berlin:20260509T191500
DURATION:PT30M
LOCATION:St. Michael
END:VEVENT
BEGIN:VEVENT
UID:sabre-vobject-bef03f92-762f-459e-8245-e03068ad686b
DTSTAMP:20260422T215746Z
SUMMARY:Rosenkranz
DESCRIPTION:https://pfarreien-bistum-augsburg.df-preview.de/rosenkranz_id17
 46600
DTSTART;TZID=Europe/Berlin:20260510T083000
DURATION:PT30M
LOCATION:St. Stephan
END:VEVENT
BEGIN:VEVENT
UID:sabre-vobject-fd3c67e5-f394-41d4-8561-3f33ae32c35f
DTSTAMP:20260422T215746Z
SUMMARY:Rosenkranz
DESCRIPTION:https://pfarreien-bistum-augsburg.df-preview.de/rosenkranz_id17
 46607
DTSTART;TZID=Europe/Berlin:20260510T083000
DURATION:PT30M
LOCATION:St. Martin
END:VEVENT
BEGIN:VEVENT
UID:sabre-vobject-10ee9f7d-71c8-4ade-8c7a-b2916e88878f
DTSTAMP:20260422T215746Z
SUMMARY:Wort-Gottes-Feier
DESCRIPTION:https://pfarreien-bistum-augsburg.df-preview.de/wort-gottes-fei
 er_id1746397
DTSTART;TZID=Europe/Berlin:20260510T090000
DURATION:PT30M
LOCATION:St. Laurentius\, Kirchbergstraße 12\, 86676 Ehekirchen Holzkirche
 n
END:VEVENT
BEGIN:VEVENT
UID:sabre-vobject-30e0efff-d5ca-4b6c-a6e3-5f3231989b46
DTSTAMP:20260422T215746Z
SUMMARY:Hl. Messe für
DESCRIPTION:https://pfarreien-bistum-augsburg.df-preview.de/hl-messe-fuer_i
 d1746605
DTSTART;TZID=Europe/Berlin:20260510T090000
DURATION:PT30M
LOCATION:St. Martin
END:VEVENT
BEGIN:VEVENT
UID:sabre-vobject-81febf7f-4aea-4f62-a252-54919330cda6
DTSTAMP:20260422T215746Z
SUMMARY:Hl. Messe für
DESCRIPTION:https://pfarreien-bistum-augsburg.df-preview.de/hl-messe-fuer_i
 d1746608
DTSTART;TZID=Europe/Berlin:20260510T090000
DURATION:PT30M
LOCATION:St. Stephan
END:VEVENT
BEGIN:VEVENT
UID:sabre-vobject-738a4f0d-f71a-42c4-8252-72d3d50922a1
DTSTAMP:20260422T215746Z
SUMMARY:Rosenkranz
DESCRIPTION:https://pfarreien-bistum-augsburg.df-preview.de/rosenkranz_id17
 46472
DTSTART;TZID=Europe/Berlin:20260510T100000
DURATION:PT30M
LOCATION:St. Quirinus
END:VEVENT
BEGIN:VEVENT
UID:sabre-vobject-644259b0-0b62-4ebd-9404-5af63a27c1c6
DTSTAMP:20260422T215746Z
SUMMARY:Maiandacht
DESCRIPTION:https://pfarreien-bistum-augsburg.df-preview.de/maiandacht_id17
 46491
DTSTART;TZID=Europe/Berlin:20260510T100000
DURATION:PT30M
LOCATION:St. Johannes der Täufer
END:VEVENT
BEGIN:VEVENT
UID:sabre-vobject-f108f4f2-0665-49ec-864a-d3ff5235c70c
DTSTAMP:20260422T215746Z
SUMMARY:Familiengottesdienst Hl. Messe für
DESCRIPTION:https://pfarreien-bistum-augsburg.df-preview.de/familiengottesd
 ienst-hl-messe-fuer_id1746480
DTSTART;TZID=Europe/Berlin:20260510T103000
DURATION:PT30M
LOCATION:St. Quirinus
END:VEVENT
BEGIN:VEVENT
UID:sabre-vobject-c5b4a045-8ac4-4ed7-8d01-4cd4b121ca8a
DTSTAMP:20260422T215746Z
SUMMARY:Hl. Messe für
DESCRIPTION:https://pfarreien-bistum-augsburg.df-preview.de/hl-messe-fuer_i
 d1746483
DTSTART;TZID=Europe/Berlin:20260510T103000
DURATION:PT30M
LOCATION:St. Johannes der Täufer
END:VEVENT
BEGIN:VEVENT
UID:sabre-vobject-20aa5aa9-6ad0-4f33-b862-cbf376e985b6
DTSTAMP:20260422T215746Z
SUMMARY:Songandacht
DESCRIPTION:https://pfarreien-bistum-augsburg.df-preview.de/songandacht_id1
 746602
DTSTART;TZID=Europe/Berlin:20260510T180000
DURATION:PT30M
LOCATION:St. Michael
END:VEVENT
BEGIN:VEVENT
UID:sabre-vobject-3ac14729-8f70-41dd-bfa2-f84ef711f075
DTSTAMP:20260422T215746Z
SUMMARY:Feierliche Maiandacht
DESCRIPTION:https://pfarreien-bistum-augsburg.df-preview.de/feierliche-maia
 ndacht_id1746412
DTSTART;TZID=Europe/Berlin:20260510T190000
DURATION:PT30M
LOCATION:St. Stephan
END:VEVENT
BEGIN:VEVENT
UID:sabre-vobject-010e3455-de13-4c73-a2ad-b1c37d0448bf
DTSTAMP:20260422T215746Z
SUMMARY:Feierliche Maiandacht
DESCRIPTION:https://pfarreien-bistum-augsburg.df-preview.de/feierliche-maia
 ndacht_id1746459
DTSTART;TZID=Europe/Berlin:20260510T190000
DURATION:PT30M
LOCATION:St. Gertrud
END:VEVENT
END:VCALENDAR
