BEGIN:VCALENDAR
VERSION:2.0
PRODID:-//Sabre//Sabre VObject 4.5.8//EN
CALSCALE:GREGORIAN
NAME:Bistum Augsburg
X-WR-CALNAME:Bistum Augsburg
BEGIN:VEVENT
UID:sabre-vobject-09216f95-4ece-4744-8346-87afa36cc53e
DTSTAMP:20260421T210642Z
SUMMARY:Hausfrauenmesse
DESCRIPTION:https://pfarreien-bistum-augsburg.df-preview.de/hausfrauenmesse
 _id1743332
DTSTART;TZID=Europe/Berlin:20260422T090000
DURATION:PT30M
LOCATION:St. Michael
END:VEVENT
BEGIN:VEVENT
UID:sabre-vobject-1337a385-47af-4564-a443-b8f5677ce8ae
DTSTAMP:20260421T210643Z
SUMMARY:Rosenkranz
DESCRIPTION:https://pfarreien-bistum-augsburg.df-preview.de/rosenkranz_id17
 43333
DTSTART;TZID=Europe/Berlin:20260424T183000
DURATION:PT30M
LOCATION:St. Michael
END:VEVENT
BEGIN:VEVENT
UID:sabre-vobject-3a5360cd-b3ee-47cd-af02-67315856627e
DTSTAMP:20260421T210643Z
SUMMARY:Gebet für den Frieden
DESCRIPTION:https://pfarreien-bistum-augsburg.df-preview.de/gebet-fuer-den-
 frieden_id1749566
DTSTART;TZID=Europe/Berlin:20260425T100000
DURATION:PT30M
LOCATION:St. Michael
END:VEVENT
BEGIN:VEVENT
UID:sabre-vobject-02d482d8-1c3e-4a1e-81d6-0a490ef8c143
DTSTAMP:20260421T210643Z
SUMMARY:Taufe: Julia Sophie Frison
DESCRIPTION:https://pfarreien-bistum-augsburg.df-preview.de/taufe-julia-sop
 hie-frison_id1749567
DTSTART;TZID=Europe/Berlin:20260425T140000
DURATION:PT30M
LOCATION:St. Michael
END:VEVENT
BEGIN:VEVENT
UID:sabre-vobject-11797541-5623-49df-b162-2c214ec8527f
DTSTAMP:20260421T210643Z
SUMMARY:Heilige Messe  (Opfer für die eigene Kirche)
DESCRIPTION:https://pfarreien-bistum-augsburg.df-preview.de/heilige-messe-o
 pfer-fuer-die-eigene-kirche_id1749568
DTSTART;TZID=Europe/Berlin:20260426T100000
DURATION:PT30M
LOCATION:St. Michael
END:VEVENT
BEGIN:VEVENT
UID:sabre-vobject-38b5b746-9046-4e36-9624-c40e692bae8d
DTSTAMP:20260421T210643Z
SUMMARY:Hausfrauenmesse
DESCRIPTION:https://pfarreien-bistum-augsburg.df-preview.de/hausfrauenmesse
 _id1749569
DTSTART;TZID=Europe/Berlin:20260429T090000
DURATION:PT30M
LOCATION:St. Michael
END:VEVENT
BEGIN:VEVENT
UID:sabre-vobject-8df1bf6a-6757-48be-bdc1-02e61b553fbc
DTSTAMP:20260421T210643Z
SUMMARY:Gebet um geistliche Berufungen
DESCRIPTION:https://pfarreien-bistum-augsburg.df-preview.de/gebet-um-geistl
 iche-berufungen_id1749570
DTSTART;TZID=Europe/Berlin:20260430T180000
DURATION:PT30M
LOCATION:St. Michael
END:VEVENT
BEGIN:VEVENT
UID:sabre-vobject-073f892f-b204-49bb-8a22-e11d79619ece
DTSTAMP:20260421T210643Z
SUMMARY:Heilige Messe
DESCRIPTION:https://pfarreien-bistum-augsburg.df-preview.de/heilige-messe_i
 d1749571
DTSTART;TZID=Europe/Berlin:20260501T100000
DURATION:PT30M
LOCATION:St. Michael
END:VEVENT
BEGIN:VEVENT
UID:sabre-vobject-bda13963-ff14-461c-bdc3-29fa95ec7016
DTSTAMP:20260421T210643Z
SUMMARY:Taufe: Elias Gabriel Baran
DESCRIPTION:https://pfarreien-bistum-augsburg.df-preview.de/taufe-elias-gab
 riel-baran_id1747105
DTSTART;TZID=Europe/Berlin:20260502T110000
DURATION:PT30M
LOCATION:St. Michael
END:VEVENT
BEGIN:VEVENT
UID:sabre-vobject-df55a74d-dedf-45d8-ae4a-8c6f08f22e9b
DTSTAMP:20260421T210643Z
SUMMARY:Taufe: Ilias Rudek
DESCRIPTION:https://pfarreien-bistum-augsburg.df-preview.de/taufe-ilias-rud
 ek_id1747060
DTSTART;TZID=Europe/Berlin:20260502T140000
DURATION:PT30M
LOCATION:St. Michael
END:VEVENT
BEGIN:VEVENT
UID:sabre-vobject-0c349791-0c86-43af-a86d-304cb84be7d1
DTSTAMP:20260421T210643Z
SUMMARY:Heilige Messe  (Opfer für die eigene Kirche)
DESCRIPTION:https://pfarreien-bistum-augsburg.df-preview.de/heilige-messe-o
 pfer-fuer-die-eigene-kirche_id1747061
DTSTART;TZID=Europe/Berlin:20260503T100000
DURATION:PT30M
LOCATION:St. Michael
END:VEVENT
BEGIN:VEVENT
UID:sabre-vobject-cf281405-f210-4de5-bf4d-be12089f01e2
DTSTAMP:20260421T210643Z
SUMMARY:Kinderkirche als Tauferinnerungsfeier im Pfarrheim Adolph Kolping
DESCRIPTION:https://pfarreien-bistum-augsburg.df-preview.de/kinderkirche-al
 s-tauferinnerungsfeier-im-pfarrheim-adolph-kolping_id1747062
DTSTART;TZID=Europe/Berlin:20260503T110000
DURATION:PT30M
LOCATION:St. Michael
END:VEVENT
BEGIN:VEVENT
UID:sabre-vobject-704c538f-9ab6-489f-850d-ffb1c9b5bb1b
DTSTAMP:20260421T210643Z
SUMMARY:Maiandacht (gestaltet von der Kolpingsfamilie Fischach)
DESCRIPTION:https://pfarreien-bistum-augsburg.df-preview.de/maiandacht-gest
 altet-von-der-kolpingsfamilie-fischach_id1747063
DTSTART;TZID=Europe/Berlin:20260503T190000
DURATION:PT30M
LOCATION:St. Michael
END:VEVENT
BEGIN:VEVENT
UID:sabre-vobject-7e5f8e1c-7ee9-4a97-a884-2b55e68b4d19
DTSTAMP:20260421T210643Z
SUMMARY:Hausfrauenmesse
DESCRIPTION:https://pfarreien-bistum-augsburg.df-preview.de/hausfrauenmesse
 _id1747064
DTSTART;TZID=Europe/Berlin:20260506T090000
DURATION:PT30M
LOCATION:St. Michael
END:VEVENT
BEGIN:VEVENT
UID:sabre-vobject-a81036f2-28da-4630-8339-40d9ce55f7cc
DTSTAMP:20260421T210643Z
SUMMARY:Rosenkranz
DESCRIPTION:https://pfarreien-bistum-augsburg.df-preview.de/rosenkranz_id17
 47066
DTSTART;TZID=Europe/Berlin:20260508T183000
DURATION:PT30M
LOCATION:St. Michael
END:VEVENT
BEGIN:VEVENT
UID:sabre-vobject-8699dc31-7f0a-455c-b384-bb4dde2a0a66
DTSTAMP:20260421T210643Z
SUMMARY:Feier der Erstkommunion
DESCRIPTION:https://pfarreien-bistum-augsburg.df-preview.de/feier-der-erstk
 ommunion_id1747067
DTSTART;TZID=Europe/Berlin:20260509T100000
DURATION:PT30M
LOCATION:St. Michael
END:VEVENT
BEGIN:VEVENT
UID:sabre-vobject-52fef948-cc7c-46c3-906a-1bdb0ba84978
DTSTAMP:20260421T210643Z
SUMMARY:(Kollekte: Katholikentag Würzburg)Heilige Messe
DESCRIPTION:https://pfarreien-bistum-augsburg.df-preview.de/kollekte-kathol
 ikentag-wuerzburg-heilige-messe_id1747068
DTSTART;TZID=Europe/Berlin:20260510T084500
DURATION:PT30M
LOCATION:St. Michael
END:VEVENT
BEGIN:VEVENT
UID:sabre-vobject-0e955895-be53-407f-8b7f-adc39c1ea75f
DTSTAMP:20260421T210643Z
SUMMARY:Bittgang nach Wollmetshofen dort um 19.00 Uhr Heilige Messe
DESCRIPTION:https://pfarreien-bistum-augsburg.df-preview.de/bittgang-nach-w
 ollmetshofen-dort-um-19-00-uhr-heilige-messe_id1747075
DTSTART;TZID=Europe/Berlin:20260511T180000
DURATION:PT30M
LOCATION:St. Michael
END:VEVENT
BEGIN:VEVENT
UID:sabre-vobject-f1a8fe55-0291-43d4-bc12-433bd13c67ab
DTSTAMP:20260421T210643Z
SUMMARY:Bittgang nach Willmatshofen 18.45 Statio am Kreuz - Heilige Messe
DESCRIPTION:https://pfarreien-bistum-augsburg.df-preview.de/bittgang-nach-w
 illmatshofen-18-45-statio-am-kreuz-heilige-messe_id1747076
DTSTART;TZID=Europe/Berlin:20260512T181500
DURATION:PT30M
LOCATION:St. Michael
END:VEVENT
BEGIN:VEVENT
UID:sabre-vobject-ba8bb0a6-4cd2-4565-b3d5-66e0fc72fcc0
DTSTAMP:20260421T210643Z
SUMMARY:Hausfrauenmesse
DESCRIPTION:https://pfarreien-bistum-augsburg.df-preview.de/hausfrauenmesse
 _id1747077
DTSTART;TZID=Europe/Berlin:20260513T090000
DURATION:PT30M
LOCATION:St. Michael
END:VEVENT
BEGIN:VEVENT
UID:sabre-vobject-20ce629e-4538-406d-802e-7709f3c60669
DTSTAMP:20260421T210643Z
SUMMARY:Bittgang nach Heimberg dort um 09.00 Uhr Heilige Messe (Bei schlech
 ter Witterung findet die Heilige Messe um 09.00 Uhr in St. Pankratius\, Ar
 etsried statt)
DESCRIPTION:https://pfarreien-bistum-augsburg.df-preview.de/bittgang-nach-h
 eimberg-dort-um-09-00-uhr-heilige-messe-bei-schlechter-witterung-findet-di
 e-heilige-messe-um-09-00-uhr-in-st-pankratius-aretsried-statt_id1747078
DTSTART;TZID=Europe/Berlin:20260514T081500
DURATION:PT30M
LOCATION:St. Michael
END:VEVENT
BEGIN:VEVENT
UID:sabre-vobject-7f6dc37c-0e05-436d-a19c-c7afb6a2f8fe
DTSTAMP:20260421T210643Z
SUMMARY:Rosenkranz
DESCRIPTION:https://pfarreien-bistum-augsburg.df-preview.de/rosenkranz_id17
 47079
DTSTART;TZID=Europe/Berlin:20260515T183000
DURATION:PT30M
LOCATION:St. Michael
END:VEVENT
BEGIN:VEVENT
UID:sabre-vobject-76ab7861-a22f-421f-8a81-a3f3f91acc20
DTSTAMP:20260421T210643Z
SUMMARY:Taufe: Milo Scicchitano
DESCRIPTION:https://pfarreien-bistum-augsburg.df-preview.de/taufe-milo-scic
 chitano_id1747080
DTSTART;TZID=Europe/Berlin:20260516T110000
DURATION:PT30M
LOCATION:St. Michael
END:VEVENT
BEGIN:VEVENT
UID:sabre-vobject-aa473155-8708-45cc-8966-0e603dec3b2a
DTSTAMP:20260421T210643Z
SUMMARY:Heilige Messe im Festzelt   (anschließend Fahrzeugsegnung)
DESCRIPTION:https://pfarreien-bistum-augsburg.df-preview.de/heilige-messe-i
 m-festzelt-anschliessend-fahrzeugsegnung_id1747081
DTSTART;TZID=Europe/Berlin:20260517T100000
DURATION:PT30M
LOCATION:St. Michael
END:VEVENT
BEGIN:VEVENT
UID:sabre-vobject-5cdf8308-3081-4987-9443-2945c5f8f967
DTSTAMP:20260421T210643Z
SUMMARY:Maiandacht an der Grotte beim Friedhof\n(gestaltet vom Pfarrgemeind
 erat Fischach und MGV )
DESCRIPTION:https://pfarreien-bistum-augsburg.df-preview.de/maiandacht-an-d
 er-grotte-beim-friedhof-gestaltet-vom-pfarrgemeinderat-fischach-und-mgv_id
 1747082
DTSTART;TZID=Europe/Berlin:20260517T190000
DURATION:PT30M
LOCATION:St. Michael
END:VEVENT
BEGIN:VEVENT
UID:sabre-vobject-c6596d1d-b087-45b2-9ae9-263c6a4ad2d5
DTSTAMP:20260421T210643Z
SUMMARY:Hausfrauenmesse
DESCRIPTION:https://pfarreien-bistum-augsburg.df-preview.de/hausfrauenmesse
 _id1747083
DTSTART;TZID=Europe/Berlin:20260520T090000
DURATION:PT30M
LOCATION:St. Michael
END:VEVENT
BEGIN:VEVENT
UID:sabre-vobject-ecab7898-7855-49a3-8e28-e6a1a9d92fd0
DTSTAMP:20260421T210643Z
SUMMARY:Maiandachtsausflug für die Pfarreiengemeinschaft
DESCRIPTION:https://pfarreien-bistum-augsburg.df-preview.de/maiandachtsausf
 lug-fuer-die-pfarreiengemeinschaft_id1747085
DTSTART;TZID=Europe/Berlin:20260522T000000
DURATION:PT30M
LOCATION:St. Michael
END:VEVENT
BEGIN:VEVENT
UID:sabre-vobject-15d55b61-f040-4f37-abcb-c90ab4167d4b
DTSTAMP:20260421T210643Z
SUMMARY:Festgottesdienst  (Renovabis Kolekte für Mittel- und Osteuropa)
DESCRIPTION:https://pfarreien-bistum-augsburg.df-preview.de/festgottesdiens
 t-renovabis-kolekte-fuer-mittel-und-osteuropa_id1747086
DTSTART;TZID=Europe/Berlin:20260524T100000
DURATION:PT30M
LOCATION:St. Michael
END:VEVENT
BEGIN:VEVENT
UID:sabre-vobject-d5799843-b28c-42ee-8507-2563c74d7071
DTSTAMP:20260421T210643Z
SUMMARY:feierliche Maiandacht
DESCRIPTION:https://pfarreien-bistum-augsburg.df-preview.de/feierliche-maia
 ndacht_id1747087
DTSTART;TZID=Europe/Berlin:20260525T190000
DURATION:PT30M
LOCATION:St. Michael
END:VEVENT
BEGIN:VEVENT
UID:sabre-vobject-e8d45efe-4325-4ff5-902f-5f1f75d4ad4e
DTSTAMP:20260421T210643Z
SUMMARY:Hausfrauenmesse
DESCRIPTION:https://pfarreien-bistum-augsburg.df-preview.de/hausfrauenmesse
 _id1747088
DTSTART;TZID=Europe/Berlin:20260527T090000
DURATION:PT30M
LOCATION:St. Michael
END:VEVENT
BEGIN:VEVENT
UID:sabre-vobject-4914e7db-fc4a-4fd6-b626-d72e47308a8a
DTSTAMP:20260421T210643Z
SUMMARY:Rosenkranz
DESCRIPTION:https://pfarreien-bistum-augsburg.df-preview.de/rosenkranz_id17
 47089
DTSTART;TZID=Europe/Berlin:20260529T183000
DURATION:PT30M
LOCATION:St. Michael
END:VEVENT
BEGIN:VEVENT
UID:sabre-vobject-18736dc9-74d6-4581-a693-312a7b4ae250
DTSTAMP:20260421T210643Z
SUMMARY:Gebet für den Frieden
DESCRIPTION:https://pfarreien-bistum-augsburg.df-preview.de/gebet-fuer-den-
 frieden_id1747090
DTSTART;TZID=Europe/Berlin:20260530T100000
DURATION:PT30M
LOCATION:St. Michael
END:VEVENT
BEGIN:VEVENT
UID:sabre-vobject-06540605-cb9e-4101-875c-6eb51b3cfed6
DTSTAMP:20260421T210643Z
SUMMARY:Heilige Messe  (Opfer für die eigene Kirche)
DESCRIPTION:https://pfarreien-bistum-augsburg.df-preview.de/heilige-messe-o
 pfer-fuer-die-eigene-kirche_id1747097
DTSTART;TZID=Europe/Berlin:20260531T100000
DURATION:PT30M
LOCATION:St. Michael
END:VEVENT
BEGIN:VEVENT
UID:sabre-vobject-cb50e8a8-acfe-43da-9867-e14c954835f4
DTSTAMP:20260421T210643Z
SUMMARY:Hausfrauenmesse
DESCRIPTION:https://pfarreien-bistum-augsburg.df-preview.de/hausfrauenmesse
 _id1747098
DTSTART;TZID=Europe/Berlin:20260603T090000
DURATION:PT30M
LOCATION:St. Michael
END:VEVENT
BEGIN:VEVENT
UID:sabre-vobject-1cf89a2f-87d6-4f9a-aa69-d8379dfa3023
DTSTAMP:20260421T210643Z
SUMMARY:Heilige Messe anschließend Fronleichnamsprozession
DESCRIPTION:https://pfarreien-bistum-augsburg.df-preview.de/heilige-messe-a
 nschliessend-fronleichnamsprozession_id1747099
DTSTART;TZID=Europe/Berlin:20260604T090000
DURATION:PT30M
LOCATION:St. Michael
END:VEVENT
BEGIN:VEVENT
UID:sabre-vobject-a344ab8d-19e8-48b1-8f3a-4ebaae1c8754
DTSTAMP:20260421T210643Z
SUMMARY:Abendmesse mit Anbetungsstunde der Corpus-Christ-Bruderschaft\n(Kol
 lekte:Päpstliches Hilfswerk)
DESCRIPTION:https://pfarreien-bistum-augsburg.df-preview.de/abendmesse-mit-
 anbetungsstunde-der-corpus-christ-bruderschaft-kollekte-paepstliches-hilfs
 werk_id1747521
DTSTART;TZID=Europe/Berlin:20260605T190000
DURATION:PT30M
LOCATION:St. Michael
END:VEVENT
END:VCALENDAR
