BEGIN:VCALENDAR
VERSION:2.0
PRODID:-//Sabre//Sabre VObject 4.5.8//EN
CALSCALE:GREGORIAN
NAME:Bistum Augsburg
X-WR-CALNAME:Bistum Augsburg
BEGIN:VEVENT
UID:sabre-vobject-f083b9a0-691f-4c8d-b850-9126e8b3ac5a
DTSTAMP:20260420T095106Z
SUMMARY:Offenes Ohr
DESCRIPTION:https://pfarreien-bistum-augsburg.df-preview.de/offenes-ohr_id1
 719067
DTSTART;TZID=Europe/Berlin:20260420T170000
DURATION:PT30M
LOCATION:St. Johann Baptist
END:VEVENT
BEGIN:VEVENT
UID:sabre-vobject-b730931a-362c-4cd7-85ef-f24dc274da93
DTSTAMP:20260420T095106Z
SUMMARY:Go Spiritual - Firmkurs für Erwachsene (mit Anmeldung)
DESCRIPTION:https://pfarreien-bistum-augsburg.df-preview.de/go-spiritual-fi
 rmkurs-fuer-erwachsene-mit-anmeldung_id1719068
DTSTART;TZID=Europe/Berlin:20260420T190000
DURATION:PT30M
LOCATION:St. Johann Baptist
END:VEVENT
BEGIN:VEVENT
UID:sabre-vobject-5fc93785-d0a6-46c2-be9d-d90dc92063d0
DTSTAMP:20260420T095106Z
SUMMARY:Rosenkranz
DESCRIPTION:https://pfarreien-bistum-augsburg.df-preview.de/rosenkranz_id17
 19069
DTSTART;TZID=Europe/Berlin:20260421T113000
DURATION:PT30M
LOCATION:St. Johann Baptist
END:VEVENT
BEGIN:VEVENT
UID:sabre-vobject-ed85d696-2797-4c21-a001-9a5f4dc12e5d
DTSTAMP:20260420T095106Z
SUMMARY:Heilige Messe
DESCRIPTION:https://pfarreien-bistum-augsburg.df-preview.de/heilige-messe_i
 d1719070
DTSTART;TZID=Europe/Berlin:20260421T121500
DURATION:PT30M
LOCATION:St. Johann Baptist
END:VEVENT
BEGIN:VEVENT
UID:sabre-vobject-cb8fe17d-45c7-4d23-b2d6-82cc5005c601
DTSTAMP:20260420T095106Z
SUMMARY:Offenes Ohr
DESCRIPTION:https://pfarreien-bistum-augsburg.df-preview.de/offenes-ohr_id1
 719071
DTSTART;TZID=Europe/Berlin:20260421T170000
DURATION:PT30M
LOCATION:St. Johann Baptist
END:VEVENT
BEGIN:VEVENT
UID:sabre-vobject-71c5be5e-bf96-4a68-8323-1469801078bf
DTSTAMP:20260420T095106Z
SUMMARY:Offenes Ohr
DESCRIPTION:https://pfarreien-bistum-augsburg.df-preview.de/offenes-ohr_id1
 719072
DTSTART;TZID=Europe/Berlin:20260422T170000
DURATION:PT30M
LOCATION:St. Johann Baptist
END:VEVENT
BEGIN:VEVENT
UID:sabre-vobject-c16f58dd-3094-4068-87a0-b99dcd1545ec
DTSTAMP:20260420T095106Z
SUMMARY:Offenes Ohr
DESCRIPTION:https://pfarreien-bistum-augsburg.df-preview.de/offenes-ohr_id1
 719073
DTSTART;TZID=Europe/Berlin:20260423T170000
DURATION:PT30M
LOCATION:St. Johann Baptist
END:VEVENT
BEGIN:VEVENT
UID:sabre-vobject-9af27e71-f318-46be-b254-7ce3a55942b6
DTSTAMP:20260420T095106Z
SUMMARY:Offenes Ohr
DESCRIPTION:https://pfarreien-bistum-augsburg.df-preview.de/offenes-ohr_id1
 719074
DTSTART;TZID=Europe/Berlin:20260424T170000
DURATION:PT30M
LOCATION:St. Johann Baptist
END:VEVENT
END:VCALENDAR
