BEGIN:VCALENDAR
VERSION:2.0
PRODID:-//Sabre//Sabre VObject 4.5.8//EN
CALSCALE:GREGORIAN
NAME:Bistum Augsburg
X-WR-CALNAME:Bistum Augsburg
BEGIN:VEVENT
UID:sabre-vobject-b44649f9-2761-4857-9da3-0fef0324b040
DTSTAMP:20260421T011614Z
SUMMARY:Hl. Messe
DESCRIPTION:https://pfarreien-bistum-augsburg.df-preview.de/hl-messe_id1743
 593
DTSTART;TZID=Europe/Berlin:20260424T180000
DURATION:PT30M
LOCATION:St. Johannes Baptist
END:VEVENT
BEGIN:VEVENT
UID:sabre-vobject-fa055716-6fd0-4a54-96c4-05e64f12cdd1
DTSTAMP:20260421T011614Z
SUMMARY:Maiandacht \n(musik. gest. v. Kirchenchor)
DESCRIPTION:https://pfarreien-bistum-augsburg.df-preview.de/maiandacht-musi
 k-gest-v-kirchenchor_id1743594
DTSTART;TZID=Europe/Berlin:20260503T190000
DURATION:PT30M
LOCATION:St. Johannes Baptist
END:VEVENT
END:VCALENDAR
