BEGIN:VCALENDAR
VERSION:2.0
PRODID:-//Sabre//Sabre VObject 4.5.8//EN
CALSCALE:GREGORIAN
NAME:Bistum Augsburg
X-WR-CALNAME:Bistum Augsburg
BEGIN:VEVENT
UID:sabre-vobject-f22d85e0-269e-4b34-943a-64dcd1f68a7d
DTSTAMP:20260422T014621Z
SUMMARY:Rosenkranz
DESCRIPTION:https://pfarreien-bistum-augsburg.df-preview.de/rosenkranz_id17
 37413
DTSTART;TZID=Europe/Berlin:20260422T170000
DURATION:PT30M
LOCATION:St. Anna
END:VEVENT
BEGIN:VEVENT
UID:sabre-vobject-000052ea-85b3-4ed1-b36f-e032e21ff903
DTSTAMP:20260422T014621Z
SUMMARY:Messfeier
DESCRIPTION:https://pfarreien-bistum-augsburg.df-preview.de/messfeier_id173
 7407
DTSTART;TZID=Europe/Berlin:20260422T191500
DURATION:PT30M
LOCATION:St. Margaretha\, St.-Margaretha-Str. 4\, 86875 Waal
END:VEVENT
BEGIN:VEVENT
UID:sabre-vobject-1b7a6795-9616-4578-a864-5a5c060480ac
DTSTAMP:20260422T014621Z
SUMMARY:Messfeier
DESCRIPTION:https://pfarreien-bistum-augsburg.df-preview.de/messfeier_id173
 7459
DTSTART;TZID=Europe/Berlin:20260422T191500
DURATION:PT30M
LOCATION:St. Martin
END:VEVENT
BEGIN:VEVENT
UID:sabre-vobject-b9122add-759d-4fbd-9fa0-021dba11a785
DTSTAMP:20260422T014621Z
SUMMARY:Messfeier
DESCRIPTION:https://pfarreien-bistum-augsburg.df-preview.de/messfeier_id173
 7429
DTSTART;TZID=Europe/Berlin:20260423T191500
DURATION:PT30M
LOCATION:St. Vitus
END:VEVENT
BEGIN:VEVENT
UID:sabre-vobject-724a23b0-d3c6-4b5f-8543-a07fdb819698
DTSTAMP:20260422T014621Z
SUMMARY:Messfeier
DESCRIPTION:https://pfarreien-bistum-augsburg.df-preview.de/messfeier_id173
 7457
DTSTART;TZID=Europe/Berlin:20260423T191500
DURATION:PT30M
LOCATION:St. Dionysius
END:VEVENT
BEGIN:VEVENT
UID:sabre-vobject-49358b7e-4dd9-41d1-9d44-007e1af74715
DTSTAMP:20260422T014621Z
SUMMARY:Messfeier
DESCRIPTION:https://pfarreien-bistum-augsburg.df-preview.de/messfeier_id173
 7414
DTSTART;TZID=Europe/Berlin:20260424T083000
DURATION:PT30M
LOCATION:St. Anna
END:VEVENT
BEGIN:VEVENT
UID:sabre-vobject-fe60647e-b075-4d48-9318-d7ddda65c66f
DTSTAMP:20260422T014621Z
SUMMARY:Probe der Erstkommunionkinder
DESCRIPTION:https://pfarreien-bistum-augsburg.df-preview.de/probe-der-erstk
 ommunionkinder_id1737415
DTSTART;TZID=Europe/Berlin:20260424T160000
DURATION:PT30M
LOCATION:St. Anna
END:VEVENT
BEGIN:VEVENT
UID:sabre-vobject-5c318ead-08f8-410a-905c-0e15a0200136
DTSTAMP:20260422T014621Z
SUMMARY:Messfeier
DESCRIPTION:https://pfarreien-bistum-augsburg.df-preview.de/messfeier_id173
 7439
DTSTART;TZID=Europe/Berlin:20260424T191500
DURATION:PT30M
LOCATION:St. Felizitas
END:VEVENT
BEGIN:VEVENT
UID:sabre-vobject-f6125814-f8a5-4b1b-b1ce-d40962a3d08c
DTSTAMP:20260422T014621Z
SUMMARY:Beichtgelegenheit
DESCRIPTION:https://pfarreien-bistum-augsburg.df-preview.de/beichtgelegenhe
 it_id1737460
DTSTART;TZID=Europe/Berlin:20260425T184500
DURATION:PT30M
LOCATION:St. Martin
END:VEVENT
BEGIN:VEVENT
UID:sabre-vobject-ecc6f2a2-24b7-459d-a7e7-e2999307b65a
DTSTAMP:20260422T014621Z
SUMMARY:Vorabendmesse
DESCRIPTION:https://pfarreien-bistum-augsburg.df-preview.de/vorabendmesse_i
 d1737446
DTSTART;TZID=Europe/Berlin:20260425T191500
DURATION:PT30M
LOCATION:St. Margaretha\, St.-Margaretha-Str. 4\, 86875 Waal
END:VEVENT
BEGIN:VEVENT
UID:sabre-vobject-1954ebc2-732d-43a1-b3b4-d18e370fc89c
DTSTAMP:20260422T014621Z
SUMMARY:Vorabendmesse
DESCRIPTION:https://pfarreien-bistum-augsburg.df-preview.de/vorabendmesse_i
 d1737461
DTSTART;TZID=Europe/Berlin:20260425T191500
DURATION:PT30M
LOCATION:St. Martin
END:VEVENT
BEGIN:VEVENT
UID:sabre-vobject-e70fc163-a7dd-4493-a05e-8972ea9bb993
DTSTAMP:20260422T014621Z
SUMMARY:Pfarrgottesdienst
DESCRIPTION:https://pfarreien-bistum-augsburg.df-preview.de/pfarrgottesdien
 st_id1737416
DTSTART;TZID=Europe/Berlin:20260426T083000
DURATION:PT30M
LOCATION:Mariä Schmerzen\, Kirchweg 3\, 86875 Waal
END:VEVENT
BEGIN:VEVENT
UID:sabre-vobject-99c4c29a-ece8-4a0b-b95b-1e6def7aec27
DTSTAMP:20260422T014621Z
SUMMARY:Wortgottesfeier
DESCRIPTION:https://pfarreien-bistum-augsburg.df-preview.de/wortgottesfeier
 _id1737404
DTSTART;TZID=Europe/Berlin:20260426T093000
DURATION:PT30M
LOCATION:St. Agatha
END:VEVENT
BEGIN:VEVENT
UID:sabre-vobject-4be2f1cc-1418-4e9b-966c-97f4bd3fea10
DTSTAMP:20260422T014621Z
SUMMARY:Wortgottesfeier
DESCRIPTION:https://pfarreien-bistum-augsburg.df-preview.de/wortgottesfeier
 _id1737408
DTSTART;TZID=Europe/Berlin:20260426T093000
DURATION:PT30M
LOCATION:St. Dionysius
END:VEVENT
BEGIN:VEVENT
UID:sabre-vobject-63abc078-215a-45b0-b137-05a647377f09
DTSTAMP:20260422T014621Z
SUMMARY:Pfarrgottesdienst
DESCRIPTION:https://pfarreien-bistum-augsburg.df-preview.de/pfarrgottesdien
 st_id1737430
DTSTART;TZID=Europe/Berlin:20260426T100000
DURATION:PT30M
LOCATION:St. Vitus
END:VEVENT
BEGIN:VEVENT
UID:sabre-vobject-2d484140-673d-4e54-bb8d-b75436a2f018
DTSTAMP:20260422T014621Z
SUMMARY:Feierliche Erstkommunion
DESCRIPTION:https://pfarreien-bistum-augsburg.df-preview.de/feierliche-erst
 kommunion_id1737431
DTSTART;TZID=Europe/Berlin:20260426T100000
DURATION:PT30M
LOCATION:St. Anna
END:VEVENT
BEGIN:VEVENT
UID:sabre-vobject-014b8c27-8370-496e-a574-200e1db03c88
DTSTAMP:20260422T014621Z
SUMMARY:Taufe Johann Rohrmoser
DESCRIPTION:https://pfarreien-bistum-augsburg.df-preview.de/taufe-johann-ro
 hrmoser_id1737447
DTSTART;TZID=Europe/Berlin:20260426T140000
DURATION:PT30M
LOCATION:St. Margaretha\, St.-Margaretha-Str. 4\, 86875 Waal
END:VEVENT
BEGIN:VEVENT
UID:sabre-vobject-b9777d9b-d26d-459d-89a4-4a8392c79da4
DTSTAMP:20260422T014621Z
SUMMARY:Rosenkranz
DESCRIPTION:https://pfarreien-bistum-augsburg.df-preview.de/rosenkranz_id17
 37462
DTSTART;TZID=Europe/Berlin:20260427T170000
DURATION:PT30M
LOCATION:St. Martin
END:VEVENT
BEGIN:VEVENT
UID:sabre-vobject-d221fc6f-2b46-4251-b2da-ced535b6b370
DTSTAMP:20260422T014621Z
SUMMARY:Bibelgespräch
DESCRIPTION:https://pfarreien-bistum-augsburg.df-preview.de/bibelgespraech_
 id1737432
DTSTART;TZID=Europe/Berlin:20260427T193000
DURATION:PT30M
LOCATION:St. Anna
END:VEVENT
BEGIN:VEVENT
UID:sabre-vobject-4109f91b-475a-4983-96a6-328f0fdd1c54
DTSTAMP:20260422T014621Z
SUMMARY:Bibelgespräch
DESCRIPTION:https://pfarreien-bistum-augsburg.df-preview.de/bibelgespraech_
 id1737463
DTSTART;TZID=Europe/Berlin:20260427T193000
DURATION:PT30M
LOCATION:St. Martin
END:VEVENT
BEGIN:VEVENT
UID:sabre-vobject-86122085-17d4-4948-a57f-e4168065c033
DTSTAMP:20260422T014621Z
SUMMARY:Messfeier
DESCRIPTION:https://pfarreien-bistum-augsburg.df-preview.de/messfeier_id173
 7433
DTSTART;TZID=Europe/Berlin:20260428T163000
DURATION:PT30M
LOCATION:St. Anna
END:VEVENT
BEGIN:VEVENT
UID:sabre-vobject-b2d2caed-2774-4b4b-89af-deb9933afff0
DTSTAMP:20260422T014621Z
SUMMARY:Messfeier
DESCRIPTION:https://pfarreien-bistum-augsburg.df-preview.de/messfeier_id173
 7405
DTSTART;TZID=Europe/Berlin:20260428T191500
DURATION:PT30M
LOCATION:St. Agatha
END:VEVENT
BEGIN:VEVENT
UID:sabre-vobject-9301fee9-389e-400f-8b88-e47f9a6afe26
DTSTAMP:20260422T014621Z
SUMMARY:Rosenkranz
DESCRIPTION:https://pfarreien-bistum-augsburg.df-preview.de/rosenkranz_id17
 37434
DTSTART;TZID=Europe/Berlin:20260429T170000
DURATION:PT30M
LOCATION:St. Anna
END:VEVENT
BEGIN:VEVENT
UID:sabre-vobject-c7ba70eb-74f3-471d-b129-ce57a5c1e4c5
DTSTAMP:20260422T014621Z
SUMMARY:Messfeier
DESCRIPTION:https://pfarreien-bistum-augsburg.df-preview.de/messfeier_id173
 7448
DTSTART;TZID=Europe/Berlin:20260429T191500
DURATION:PT30M
LOCATION:St. Margaretha\, St.-Margaretha-Str. 4\, 86875 Waal
END:VEVENT
BEGIN:VEVENT
UID:sabre-vobject-45495219-34ed-4a07-87cd-7117147c29b6
DTSTAMP:20260422T014621Z
SUMMARY:Messfeier
DESCRIPTION:https://pfarreien-bistum-augsburg.df-preview.de/messfeier_id173
 7464
DTSTART;TZID=Europe/Berlin:20260429T191500
DURATION:PT30M
LOCATION:St. Martin
END:VEVENT
BEGIN:VEVENT
UID:sabre-vobject-3d746052-b1d4-486b-a3bc-8705641ecc3c
DTSTAMP:20260422T014621Z
SUMMARY:Messfeier
DESCRIPTION:https://pfarreien-bistum-augsburg.df-preview.de/messfeier_id173
 7409
DTSTART;TZID=Europe/Berlin:20260430T191500
DURATION:PT30M
LOCATION:St. Dionysius
END:VEVENT
BEGIN:VEVENT
UID:sabre-vobject-3712791b-d9c9-49fc-8232-2da979d799e4
DTSTAMP:20260422T014621Z
SUMMARY:Messfeier
DESCRIPTION:https://pfarreien-bistum-augsburg.df-preview.de/messfeier_id173
 7427
DTSTART;TZID=Europe/Berlin:20260430T191500
DURATION:PT30M
LOCATION:St. Vitus
END:VEVENT
BEGIN:VEVENT
UID:sabre-vobject-83805786-55ba-4c18-be0d-69990fc28a58
DTSTAMP:20260422T014621Z
SUMMARY:Festgottesdienst und Marienlob "Maria Schutzfrau von Bayern"
DESCRIPTION:https://pfarreien-bistum-augsburg.df-preview.de/festgottesdiens
 t-und-marienlob-maria-schutzfrau-von-bayern_id1737435
DTSTART;TZID=Europe/Berlin:20260501T100000
DURATION:PT30M
LOCATION:St. Anna
END:VEVENT
BEGIN:VEVENT
UID:sabre-vobject-6c5c4283-38c8-4b40-949d-0fac631ccc4b
DTSTAMP:20260422T014621Z
SUMMARY:Festgottesdienst und Marienlob "Maria Schutzfrau von Bayern"
DESCRIPTION:https://pfarreien-bistum-augsburg.df-preview.de/festgottesdiens
 t-und-marienlob-maria-schutzfrau-von-bayern_id1737440
DTSTART;TZID=Europe/Berlin:20260501T191500
DURATION:PT30M
LOCATION:St. Felizitas
END:VEVENT
BEGIN:VEVENT
UID:sabre-vobject-72bec670-eca0-4d48-8377-7815e96d20ed
DTSTAMP:20260422T014621Z
SUMMARY:Maiandacht
DESCRIPTION:https://pfarreien-bistum-augsburg.df-preview.de/maiandacht_id17
 37449
DTSTART;TZID=Europe/Berlin:20260501T191500
DURATION:PT30M
LOCATION:St. Margaretha\, St.-Margaretha-Str. 4\, 86875 Waal
END:VEVENT
BEGIN:VEVENT
UID:sabre-vobject-4a12b39a-6faf-4e8c-9d36-5c2503698db0
DTSTAMP:20260422T014621Z
SUMMARY:Maiandacht
DESCRIPTION:https://pfarreien-bistum-augsburg.df-preview.de/maiandacht_id17
 37465
DTSTART;TZID=Europe/Berlin:20260501T191500
DURATION:PT30M
LOCATION:St. Martin
END:VEVENT
BEGIN:VEVENT
UID:sabre-vobject-617d29b0-2e17-4490-9438-ab61b1515c00
DTSTAMP:20260422T014621Z
SUMMARY:Taufe Paulina Marie Frai
DESCRIPTION:https://pfarreien-bistum-augsburg.df-preview.de/taufe-paulina-m
 arie-frai_id1737436
DTSTART;TZID=Europe/Berlin:20260502T140000
DURATION:PT30M
LOCATION:St. Anna
END:VEVENT
BEGIN:VEVENT
UID:sabre-vobject-097e0f1a-e6fe-4d7c-a158-456ebab883d1
DTSTAMP:20260422T014621Z
SUMMARY:Rosenkranz
DESCRIPTION:https://pfarreien-bistum-augsburg.df-preview.de/rosenkranz_id17
 37466
DTSTART;TZID=Europe/Berlin:20260502T160000
DURATION:PT30M
LOCATION:St. Martin
END:VEVENT
BEGIN:VEVENT
UID:sabre-vobject-72c6b09a-cc5f-423a-84f5-db0a2a2cfd13
DTSTAMP:20260422T014621Z
SUMMARY:Vorabendmesse
DESCRIPTION:https://pfarreien-bistum-augsburg.df-preview.de/vorabendmesse_i
 d1737406
DTSTART;TZID=Europe/Berlin:20260502T191500
DURATION:PT30M
LOCATION:St. Agatha
END:VEVENT
BEGIN:VEVENT
UID:sabre-vobject-3b2f624d-c065-4481-8697-88ab3f74ed7f
DTSTAMP:20260422T014621Z
SUMMARY:Vorabendmesse
DESCRIPTION:https://pfarreien-bistum-augsburg.df-preview.de/vorabendmesse_i
 d1737428
DTSTART;TZID=Europe/Berlin:20260502T191500
DURATION:PT30M
LOCATION:St. Vitus
END:VEVENT
BEGIN:VEVENT
UID:sabre-vobject-4dd083c5-7e4e-4c33-9de4-7904f40be1eb
DTSTAMP:20260422T014621Z
SUMMARY:Pfarrgottesdienst - Ehrung ausgeschiedene PGR-Mitglieder
DESCRIPTION:https://pfarreien-bistum-augsburg.df-preview.de/pfarrgottesdien
 st-ehrung-ausgeschiedene-pgr-mitglieder_id1737453
DTSTART;TZID=Europe/Berlin:20260503T083000
DURATION:PT30M
LOCATION:St. Anna
END:VEVENT
BEGIN:VEVENT
UID:sabre-vobject-fdd39006-8b85-49ee-be88-9c4c015f4124
DTSTAMP:20260422T014621Z
SUMMARY:Pfarrgottesdienst
DESCRIPTION:https://pfarreien-bistum-augsburg.df-preview.de/pfarrgottesdien
 st_id1737467
DTSTART;TZID=Europe/Berlin:20260503T083000
DURATION:PT30M
LOCATION:St. Martin
END:VEVENT
BEGIN:VEVENT
UID:sabre-vobject-0b884a7e-7d68-4c31-bb42-3d247a69ff2e
DTSTAMP:20260422T014621Z
SUMMARY:Pfarrgottesdienst
DESCRIPTION:https://pfarreien-bistum-augsburg.df-preview.de/pfarrgottesdien
 st_id1737410
DTSTART;TZID=Europe/Berlin:20260503T100000
DURATION:PT30M
LOCATION:St. Dionysius
END:VEVENT
BEGIN:VEVENT
UID:sabre-vobject-29cc9e71-96f1-4be0-bd1c-a199665dd2ad
DTSTAMP:20260422T014621Z
SUMMARY:Pfarrgottesdienst
DESCRIPTION:https://pfarreien-bistum-augsburg.df-preview.de/pfarrgottesdien
 st_id1737417
DTSTART;TZID=Europe/Berlin:20260503T100000
DURATION:PT30M
LOCATION:Mariä Schmerzen\, Kirchweg 3\, 86875 Waal
END:VEVENT
BEGIN:VEVENT
UID:sabre-vobject-a68d04e0-882b-4d1e-be96-80afe270097e
DTSTAMP:20260422T014621Z
SUMMARY:Maiandacht
DESCRIPTION:https://pfarreien-bistum-augsburg.df-preview.de/maiandacht_id17
 37402
DTSTART;TZID=Europe/Berlin:20260503T191500
DURATION:PT30M
LOCATION:St. Agatha
END:VEVENT
BEGIN:VEVENT
UID:sabre-vobject-09785df7-2075-42ef-90aa-f30b20f72d16
DTSTAMP:20260422T014621Z
SUMMARY:Maiandacht
DESCRIPTION:https://pfarreien-bistum-augsburg.df-preview.de/maiandacht_id17
 37411
DTSTART;TZID=Europe/Berlin:20260503T191500
DURATION:PT30M
LOCATION:St. Dionysius
END:VEVENT
BEGIN:VEVENT
UID:sabre-vobject-5abe6df2-b643-47b8-89b0-f1155d3c3060
DTSTAMP:20260422T014621Z
SUMMARY:Große Maiandacht - 18:45 Uhr Aufstellung an der Pfarrkirche Mariä
  Schmerzen Waalhaupten - 19:00 Uhr Abmarsch
DESCRIPTION:https://pfarreien-bistum-augsburg.df-preview.de/grosse-maiandac
 ht-18-45-uhr-aufstellung-an-der-pfarrkirche-mariae-schmerzen-waalhaupten-1
 9-00-uhr-abmarsch_id1737418
DTSTART;TZID=Europe/Berlin:20260503T191500
DURATION:PT30M
LOCATION:Mariä Schmerzen\, Kirchweg 3\, 86875 Waal
END:VEVENT
BEGIN:VEVENT
UID:sabre-vobject-fef9d572-10c6-4b3c-9d3f-0c286868b962
DTSTAMP:20260422T014621Z
SUMMARY:Bruderschaftsgebet
DESCRIPTION:https://pfarreien-bistum-augsburg.df-preview.de/bruderschaftsge
 bet_id1737468
DTSTART;TZID=Europe/Berlin:20260503T191500
DURATION:PT30M
LOCATION:St. Martin
END:VEVENT
END:VCALENDAR
