BEGIN:VCALENDAR
VERSION:2.0
PRODID:-//Sabre//Sabre VObject 4.5.8//EN
CALSCALE:GREGORIAN
NAME:Bistum Augsburg
X-WR-CALNAME:Bistum Augsburg
BEGIN:VEVENT
UID:sabre-vobject-aba8694f-0ed9-4bbd-8bbc-8a2a86212261
DTSTAMP:20260422T073833Z
SUMMARY:Vesper m. Anbetung
DESCRIPTION:https://pfarreien-bistum-augsburg.df-preview.de/vesper-m-anbetu
 ng_id1713784
DTSTART;TZID=Europe/Berlin:20260423T183000
DURATION:PT30M
LOCATION:St. Matthäus
END:VEVENT
BEGIN:VEVENT
UID:sabre-vobject-c72266ae-f808-4221-8a2a-21c63fb5f552
DTSTAMP:20260422T073833Z
SUMMARY:Rosenkranz
DESCRIPTION:https://pfarreien-bistum-augsburg.df-preview.de/rosenkranz_id17
 13785
DTSTART;TZID=Europe/Berlin:20260425T163000
DURATION:PT30M
LOCATION:St. Matthäus
END:VEVENT
BEGIN:VEVENT
UID:sabre-vobject-15423249-170f-4a3d-b46f-ede7dd6e39e5
DTSTAMP:20260422T073833Z
SUMMARY:Abendmesse
DESCRIPTION:https://pfarreien-bistum-augsburg.df-preview.de/abendmesse_id17
 13786
DTSTART;TZID=Europe/Berlin:20260427T190000
DURATION:PT30M
LOCATION:St. Matthäus
END:VEVENT
BEGIN:VEVENT
UID:sabre-vobject-5f083932-9f2d-4014-b74a-88f7bebd8a7e
DTSTAMP:20260422T073833Z
SUMMARY:Probe zur Erstkommunion
DESCRIPTION:https://pfarreien-bistum-augsburg.df-preview.de/probe-zur-erstk
 ommunion_id1713787
DTSTART;TZID=Europe/Berlin:20260430T170000
DURATION:PT30M
LOCATION:St. Matthäus
END:VEVENT
BEGIN:VEVENT
UID:sabre-vobject-fe276d4b-f04f-4172-91d8-7870781c9344
DTSTAMP:20260422T073833Z
SUMMARY:Maiandacht
DESCRIPTION:https://pfarreien-bistum-augsburg.df-preview.de/maiandacht_id17
 13788
DTSTART;TZID=Europe/Berlin:20260501T190000
DURATION:PT30M
LOCATION:St. Matthäus
END:VEVENT
END:VCALENDAR
