BEGIN:VCALENDAR
VERSION:2.0
PRODID:-//Sabre//Sabre VObject 4.5.8//EN
CALSCALE:GREGORIAN
NAME:Bistum Augsburg
X-WR-CALNAME:Bistum Augsburg
BEGIN:VEVENT
UID:sabre-vobject-eda735c9-dd5a-4921-95b3-acb5ae8458ff
DTSTAMP:20260422T010133Z
SUMMARY:Rosenkranz und Osterbeichtgelegenheit
DESCRIPTION:https://pfarreien-bistum-augsburg.df-preview.de/gottesdienste/r
 osenkranz-und-osterbeichtgelegenheit_id1742758
DTSTART;TZID=Europe/Berlin:20260422T153000
DURATION:PT30M
LOCATION:Zu den Hl. fünf Wunden
END:VEVENT
BEGIN:VEVENT
UID:sabre-vobject-acd43f80-df1b-4414-9d0b-50d18465a0e8
DTSTAMP:20260422T010133Z
SUMMARY:Hl. Messe
DESCRIPTION:https://pfarreien-bistum-augsburg.df-preview.de/gottesdienste/h
 l-messe_id1742759
DTSTART;TZID=Europe/Berlin:20260422T160000
DURATION:PT30M
LOCATION:Zu den Hl. fünf Wunden
END:VEVENT
BEGIN:VEVENT
UID:sabre-vobject-a7dbde03-ab3b-4d38-8ba8-dd9042e61379
DTSTAMP:20260422T010133Z
SUMMARY:Rosenkranz
DESCRIPTION:https://pfarreien-bistum-augsburg.df-preview.de/rosenkranz_id17
 42717
DTSTART;TZID=Europe/Berlin:20260422T163000
DURATION:PT30M
LOCATION:St. Andreas
END:VEVENT
BEGIN:VEVENT
UID:sabre-vobject-ff895b76-d21f-4c8b-8f81-4f4f4e56b205
DTSTAMP:20260422T010133Z
SUMMARY:Gelegenheit zur stillen Anbetung bis 21.00 Uhr. 17.00 Uhr Aussetzun
 g des allerheiligsten Altarsakramentes und Barmherzigkeitsrosenkranz\, 18.
 00-18.30 Uhr Beichtgelegenheit\, 20.00-20.30 Uhr Je
DESCRIPTION:https://pfarreien-bistum-augsburg.df-preview.de/gelegenheit-zur
 -stillen-anbetung-bis-21-00-uhr-17-00-uhr-aussetzung-des-allerheiligsten-a
 ltarsakramentes-und-barmherzigkeitsrosenkranz-18-00-18-30-uhr-beichtgelege
 nheit-20-00-20-30-uhr-je_id1742707
DTSTART;TZID=Europe/Berlin:20260423T170000
DURATION:PT30M
LOCATION:St. Andreas
END:VEVENT
BEGIN:VEVENT
UID:sabre-vobject-23b60c74-8b6b-43e7-a4df-a1700c2d581d
DTSTAMP:20260422T010133Z
SUMMARY:Rosenkranz und Osterbeichtgelegenheit in Sameister
DESCRIPTION:https://pfarreien-bistum-augsburg.df-preview.de/rosenkranz-und-
 osterbeichtgelegenheit-in-sameister_id1742736
DTSTART;TZID=Europe/Berlin:20260423T190000
DURATION:PT30M
LOCATION:Kapelle Mariä Sieben Schmerzen\, Sameister 10\, 87672 Roßhaupten
END:VEVENT
BEGIN:VEVENT
UID:sabre-vobject-7318fa25-5089-49e2-acde-44972d3a9ec8
DTSTAMP:20260422T010133Z
SUMMARY:Hl. Messe in Sameister
DESCRIPTION:https://pfarreien-bistum-augsburg.df-preview.de/hl-messe-in-sam
 eister_id1742737
DTSTART;TZID=Europe/Berlin:20260423T193000
DURATION:PT30M
LOCATION:Kapelle Mariä Sieben Schmerzen\, Sameister 10\, 87672 Roßhaupten
END:VEVENT
BEGIN:VEVENT
UID:sabre-vobject-9be92a00-e933-4343-bf9e-29afcca74bfc
DTSTAMP:20260422T010133Z
SUMMARY:Hl. Messe\, anschl. Osterbeichtgelegenheit
DESCRIPTION:https://pfarreien-bistum-augsburg.df-preview.de/hl-messe-anschl
 -osterbeichtgelegenheit_id1742747
DTSTART;TZID=Europe/Berlin:20260424T083000
DURATION:PT30M
LOCATION:Mariä Heimsuchung
END:VEVENT
BEGIN:VEVENT
UID:sabre-vobject-760d019f-6e63-4286-8877-9992f56b40b5
DTSTAMP:20260422T010133Z
SUMMARY:Rosenkranz
DESCRIPTION:https://pfarreien-bistum-augsburg.df-preview.de/rosenkranz_id17
 42748
DTSTART;TZID=Europe/Berlin:20260424T150000
DURATION:PT30M
LOCATION:Mariä Heimsuchung
END:VEVENT
BEGIN:VEVENT
UID:sabre-vobject-41eb88b3-799d-4c4c-8a0a-3e3cf9f6fb70
DTSTAMP:20260422T010133Z
SUMMARY:Rosenkranz und Osterbeichtgelegenheit
DESCRIPTION:https://pfarreien-bistum-augsburg.df-preview.de/rosenkranz-und-
 osterbeichtgelegenheit_id1742721
DTSTART;TZID=Europe/Berlin:20260424T183000
DURATION:PT30M
LOCATION:St. Andreas
END:VEVENT
BEGIN:VEVENT
UID:sabre-vobject-252c7ecb-9a92-431f-b7ce-2e961cf707e7
DTSTAMP:20260422T010133Z
SUMMARY:Hl. Messe
DESCRIPTION:https://pfarreien-bistum-augsburg.df-preview.de/hl-messe_id1742
 722
DTSTART;TZID=Europe/Berlin:20260424T190000
DURATION:PT30M
LOCATION:St. Andreas
END:VEVENT
BEGIN:VEVENT
UID:sabre-vobject-45080d1d-0bd5-4ec8-b0e0-d959251c8c28
DTSTAMP:20260422T010133Z
SUMMARY:Rosenkranz
DESCRIPTION:https://pfarreien-bistum-augsburg.df-preview.de/rosenkranz_id17
 42724
DTSTART;TZID=Europe/Berlin:20260425T163000
DURATION:PT30M
LOCATION:St. Andreas
END:VEVENT
BEGIN:VEVENT
UID:sabre-vobject-3a6d89d2-5133-450c-b623-266436d02335
DTSTAMP:20260422T010133Z
SUMMARY:Rosenkranz und Osterbeichtgelegenheit
DESCRIPTION:https://pfarreien-bistum-augsburg.df-preview.de/gottesdienste/r
 osenkranz-und-osterbeichtgelegenheit_id1742760
DTSTART;TZID=Europe/Berlin:20260425T183000
DURATION:PT30M
LOCATION:Zu den Hl. fünf Wunden
END:VEVENT
BEGIN:VEVENT
UID:sabre-vobject-61698e5d-bb46-4ef5-a0ff-e3b6b009d325
DTSTAMP:20260422T010133Z
SUMMARY:Vorabendmesse
DESCRIPTION:https://pfarreien-bistum-augsburg.df-preview.de/gottesdienste/v
 orabendmesse_id1742708
DTSTART;TZID=Europe/Berlin:20260425T190000
DURATION:PT30M
LOCATION:Zu den Hl. fünf Wunden
END:VEVENT
BEGIN:VEVENT
UID:sabre-vobject-6c324276-d546-4951-bc0f-75f55db8a16b
DTSTAMP:20260422T010133Z
SUMMARY:Rosenkranz und Osterbeichtgelegenheit
DESCRIPTION:https://pfarreien-bistum-augsburg.df-preview.de/rosenkranz-und-
 osterbeichtgelegenheit_id1742725
DTSTART;TZID=Europe/Berlin:20260426T081500
DURATION:PT30M
LOCATION:St. Andreas
END:VEVENT
BEGIN:VEVENT
UID:sabre-vobject-ecebd958-90f0-4309-8d19-39d0ba3da26a
DTSTAMP:20260422T010133Z
SUMMARY:Pfarrgottesdienst
DESCRIPTION:https://pfarreien-bistum-augsburg.df-preview.de/pfarrgottesdien
 st_id1742726
DTSTART;TZID=Europe/Berlin:20260426T084500
DURATION:PT30M
LOCATION:St. Andreas
END:VEVENT
BEGIN:VEVENT
UID:sabre-vobject-f835909a-29ce-41b2-91dd-cbafe5e4302f
DTSTAMP:20260422T010133Z
SUMMARY:Rosenkranz für die Erstkommunionkinder
DESCRIPTION:https://pfarreien-bistum-augsburg.df-preview.de/rosenkranz-fuer
 -die-erstkommunionkinder_id1742749
DTSTART;TZID=Europe/Berlin:20260426T090000
DURATION:PT30M
LOCATION:Mariä Heimsuchung
END:VEVENT
BEGIN:VEVENT
UID:sabre-vobject-7a18cfee-331f-45aa-9b8a-59886a2aa7f7
DTSTAMP:20260422T010133Z
SUMMARY:Feier der Erstkommunion für die lebenden und verstorbenen Angehör
 igen der Erstkommunionkinder
DESCRIPTION:https://pfarreien-bistum-augsburg.df-preview.de/feier-der-erstk
 ommunion-fuer-die-lebenden-und-verstorbenen-angehoerigen-der-erstkommunion
 kinder_id1742750
DTSTART;TZID=Europe/Berlin:20260426T093000
DURATION:PT30M
LOCATION:Mariä Heimsuchung
END:VEVENT
BEGIN:VEVENT
UID:sabre-vobject-48bc5711-b69f-4101-99d0-20b438d19935
DTSTAMP:20260422T010133Z
SUMMARY:Dankandacht der Erstkommunionkinder
DESCRIPTION:https://pfarreien-bistum-augsburg.df-preview.de/dankandacht-der
 -erstkommunionkinder_id1742752
DTSTART;TZID=Europe/Berlin:20260426T143000
DURATION:PT30M
LOCATION:Mariä Heimsuchung
END:VEVENT
BEGIN:VEVENT
UID:sabre-vobject-1c8cd86d-1725-48a4-9b04-0ba9feb2ac4d
DTSTAMP:20260422T010133Z
SUMMARY:Rosenkranz und Osterbeichtgelegenheit
DESCRIPTION:https://pfarreien-bistum-augsburg.df-preview.de/rosenkranz-und-
 osterbeichtgelegenheit_id1742727
DTSTART;TZID=Europe/Berlin:20260428T083000
DURATION:PT30M
LOCATION:St. Andreas
END:VEVENT
BEGIN:VEVENT
UID:sabre-vobject-bfbcfad9-4851-491c-8643-c34a34c3e936
DTSTAMP:20260422T010133Z
SUMMARY:Hl. Messe
DESCRIPTION:https://pfarreien-bistum-augsburg.df-preview.de/hl-messe_id1742
 728
DTSTART;TZID=Europe/Berlin:20260428T090000
DURATION:PT30M
LOCATION:St. Andreas
END:VEVENT
BEGIN:VEVENT
UID:sabre-vobject-6adc69d1-3f90-436e-9191-f7af51cd9b25
DTSTAMP:20260422T010133Z
SUMMARY:Rosenkranz
DESCRIPTION:https://pfarreien-bistum-augsburg.df-preview.de/rosenkranz_id17
 42720
DTSTART;TZID=Europe/Berlin:20260429T163000
DURATION:PT30M
LOCATION:St. Andreas
END:VEVENT
BEGIN:VEVENT
UID:sabre-vobject-005f5034-e3fa-47eb-aed6-19a70bda314c
DTSTAMP:20260422T010133Z
SUMMARY:Hl. Messe in Ussenburg\, anschl. Rosenkranz
DESCRIPTION:https://pfarreien-bistum-augsburg.df-preview.de/gottesdienste/h
 l-messe-in-ussenburg-anschl-rosenkranz_id1742709
DTSTART;TZID=Europe/Berlin:20260429T193000
DURATION:PT30M
LOCATION:Zu den Hl. fünf Wunden
END:VEVENT
BEGIN:VEVENT
UID:sabre-vobject-181e8d07-dc3c-4130-bbf2-45e9a8a505e4
DTSTAMP:20260422T010133Z
SUMMARY:Gelegenheit zur stillen Anbetung bis 21.00 Uhr. 17.00 Uhr Aussetzun
 g des allerheiligsten Altarsakramentes und Barmherzigkeitsrosenkranz\, 18.
 00-18.30 Uhr Beichtgelegenheit\, 20.00-20.30 Uhr Je
DESCRIPTION:https://pfarreien-bistum-augsburg.df-preview.de/gelegenheit-zur
 -stillen-anbetung-bis-21-00-uhr-17-00-uhr-aussetzung-des-allerheiligsten-a
 ltarsakramentes-und-barmherzigkeitsrosenkranz-18-00-18-30-uhr-beichtgelege
 nheit-20-00-20-30-uhr-je_id1742723
DTSTART;TZID=Europe/Berlin:20260430T170000
DURATION:PT30M
LOCATION:St. Andreas
END:VEVENT
BEGIN:VEVENT
UID:sabre-vobject-b57ca495-29c9-410e-a97d-43ec69e2c8de
DTSTAMP:20260422T010133Z
SUMMARY:Rosenkranz und Osterbeichtgelegenheit in Sameister
DESCRIPTION:https://pfarreien-bistum-augsburg.df-preview.de/rosenkranz-und-
 osterbeichtgelegenheit-in-sameister_id1742735
DTSTART;TZID=Europe/Berlin:20260430T190000
DURATION:PT30M
LOCATION:Kapelle Mariä Sieben Schmerzen\, Sameister 10\, 87672 Roßhaupten
END:VEVENT
BEGIN:VEVENT
UID:sabre-vobject-dcaebe0a-2a34-4a15-8c35-aef27052fa0b
DTSTAMP:20260422T010133Z
SUMMARY:Hl. Messe in Sameister
DESCRIPTION:https://pfarreien-bistum-augsburg.df-preview.de/hl-messe-in-sam
 eister_id1742742
DTSTART;TZID=Europe/Berlin:20260430T193000
DURATION:PT30M
LOCATION:Kapelle Mariä Sieben Schmerzen\, Sameister 10\, 87672 Roßhaupten
END:VEVENT
BEGIN:VEVENT
UID:sabre-vobject-9c5131c6-c316-41ee-9f18-c42f37436d5f
DTSTAMP:20260422T010133Z
SUMMARY:Fußwallfahrt nach "Maria Hilf" Speiden\, dort 10.00 Uhr hl. Messe
DESCRIPTION:https://pfarreien-bistum-augsburg.df-preview.de/fusswallfahrt-n
 ach-maria-hilf-speiden-dort-10-00-uhr-hl-messe_id1742731
DTSTART;TZID=Europe/Berlin:20260501T070000
DURATION:PT30M
LOCATION:St. Andreas
END:VEVENT
BEGIN:VEVENT
UID:sabre-vobject-456f16a3-0d62-4c53-9eb0-12a12d048a8a
DTSTAMP:20260422T010133Z
SUMMARY:Rosenkranz und Osterbeichtgelegenheit
DESCRIPTION:https://pfarreien-bistum-augsburg.df-preview.de/rosenkranz-und-
 osterbeichtgelegenheit_id1742753
DTSTART;TZID=Europe/Berlin:20260501T080500
DURATION:PT30M
LOCATION:Mariä Heimsuchung
END:VEVENT
BEGIN:VEVENT
UID:sabre-vobject-16733182-a00f-4c54-9e85-e7144a9d6ecd
DTSTAMP:20260422T010133Z
SUMMARY:Festgottesdienst zu Ehren Maria Patrona Bavariae
DESCRIPTION:https://pfarreien-bistum-augsburg.df-preview.de/festgottesdiens
 t-zu-ehren-maria-patrona-bavariae_id1742754
DTSTART;TZID=Europe/Berlin:20260501T084500
DURATION:PT30M
LOCATION:Mariä Heimsuchung
END:VEVENT
BEGIN:VEVENT
UID:sabre-vobject-7a5e7e8d-d794-429e-bdce-024303d1e013
DTSTAMP:20260422T010133Z
SUMMARY:Rosenkranz und Osterbeichtgelegenheit
DESCRIPTION:https://pfarreien-bistum-augsburg.df-preview.de/gottesdienste/r
 osenkranz-und-osterbeichtgelegenheit_id1742710
DTSTART;TZID=Europe/Berlin:20260501T183000
DURATION:PT30M
LOCATION:Zu den Hl. fünf Wunden
END:VEVENT
BEGIN:VEVENT
UID:sabre-vobject-e4e2fc5e-9c40-453e-a8ca-a30d51a070f0
DTSTAMP:20260422T010133Z
SUMMARY:Festgottesdienst zu Ehren Maria Patrona Bavariae
DESCRIPTION:https://pfarreien-bistum-augsburg.df-preview.de/gottesdienste/f
 estgottesdienst-zu-ehren-maria-patrona-bavariae_id1742711
DTSTART;TZID=Europe/Berlin:20260501T190000
DURATION:PT30M
LOCATION:Zu den Hl. fünf Wunden
END:VEVENT
BEGIN:VEVENT
UID:sabre-vobject-50cd3adf-efcb-420b-b09b-2dc9a53bcf74
DTSTAMP:20260422T010133Z
SUMMARY:Rosenkranz und Beichtgelegenheit
DESCRIPTION:https://pfarreien-bistum-augsburg.df-preview.de/rosenkranz-und-
 beichtgelegenheit_id1742732
DTSTART;TZID=Europe/Berlin:20260502T183000
DURATION:PT30M
LOCATION:St. Andreas
END:VEVENT
BEGIN:VEVENT
UID:sabre-vobject-15853b5d-eedf-478c-a3a7-b9322cd260b9
DTSTAMP:20260422T010133Z
SUMMARY:Vorabendmesse
DESCRIPTION:https://pfarreien-bistum-augsburg.df-preview.de/vorabendmesse_i
 d1742733
DTSTART;TZID=Europe/Berlin:20260502T190000
DURATION:PT30M
LOCATION:St. Andreas
END:VEVENT
BEGIN:VEVENT
UID:sabre-vobject-7a61b547-4340-49c5-924f-407718e80ca6
DTSTAMP:20260422T010133Z
SUMMARY:Rosenkranz und Osterbeichtgelegenheit
DESCRIPTION:https://pfarreien-bistum-augsburg.df-preview.de/rosenkranz-und-
 osterbeichtgelegenheit_id1742755
DTSTART;TZID=Europe/Berlin:20260503T080500
DURATION:PT30M
LOCATION:Mariä Heimsuchung
END:VEVENT
BEGIN:VEVENT
UID:sabre-vobject-d3d08bba-a47a-42b6-ac08-c70476e9d56b
DTSTAMP:20260422T010133Z
SUMMARY:Pfarrgottesdienst - Kollekte für die Pfarrkirche
DESCRIPTION:https://pfarreien-bistum-augsburg.df-preview.de/pfarrgottesdien
 st-kollekte-fuer-die-pfarrkirche_id1742756
DTSTART;TZID=Europe/Berlin:20260503T084500
DURATION:PT30M
LOCATION:Mariä Heimsuchung
END:VEVENT
BEGIN:VEVENT
UID:sabre-vobject-d2895daf-f11e-4845-8bdf-5d6090d54c9c
DTSTAMP:20260422T010133Z
SUMMARY:Rosenkranz
DESCRIPTION:https://pfarreien-bistum-augsburg.df-preview.de/gottesdienste/r
 osenkranz_id1742712
DTSTART;TZID=Europe/Berlin:20260503T100000
DURATION:PT30M
LOCATION:Zu den Hl. fünf Wunden
END:VEVENT
BEGIN:VEVENT
UID:sabre-vobject-9a8e5799-003d-49fc-819a-505c3ad07d12
DTSTAMP:20260422T010133Z
SUMMARY:Pfarrgottesdienst
DESCRIPTION:https://pfarreien-bistum-augsburg.df-preview.de/gottesdienste/p
 farrgottesdienst_id1742713
DTSTART;TZID=Europe/Berlin:20260503T103000
DURATION:PT30M
LOCATION:Zu den Hl. fünf Wunden
END:VEVENT
BEGIN:VEVENT
UID:sabre-vobject-200290dc-652b-406f-96b2-0b3a494312cc
DTSTAMP:20260422T010133Z
SUMMARY:Rosenkranz
DESCRIPTION:https://pfarreien-bistum-augsburg.df-preview.de/rosenkranz_id17
 42734
DTSTART;TZID=Europe/Berlin:20260503T163000
DURATION:PT30M
LOCATION:St. Andreas
END:VEVENT
BEGIN:VEVENT
UID:sabre-vobject-a57f7b2a-c1ac-4a32-a2ab-ed86c656011b
DTSTAMP:20260422T010133Z
SUMMARY:Maiandacht
DESCRIPTION:https://pfarreien-bistum-augsburg.df-preview.de/gottesdienste/m
 aiandacht_id1742714
DTSTART;TZID=Europe/Berlin:20260503T190000
DURATION:PT30M
LOCATION:Zu den Hl. fünf Wunden
END:VEVENT
BEGIN:VEVENT
UID:sabre-vobject-7e8efb14-fb23-42e1-a095-a52b18c47d54
DTSTAMP:20260422T010133Z
SUMMARY:Maiandacht
DESCRIPTION:https://pfarreien-bistum-augsburg.df-preview.de/maiandacht_id17
 42757
DTSTART;TZID=Europe/Berlin:20260503T190000
DURATION:PT30M
LOCATION:Mariä Heimsuchung
END:VEVENT
END:VCALENDAR
