BEGIN:VCALENDAR
VERSION:2.0
PRODID:-//Sabre//Sabre VObject 4.5.8//EN
CALSCALE:GREGORIAN
NAME:Bistum Augsburg
X-WR-CALNAME:Bistum Augsburg
BEGIN:VEVENT
UID:sabre-vobject-bf0ae019-f826-4c42-afe8-45b949a8b638
DTSTAMP:20260421T201022Z
SUMMARY:Rosenkranz und Beichtgelegenheit
DESCRIPTION:https://pfarreien-bistum-augsburg.df-preview.de/rosenkranz-und-
 beichtgelegenheit_id1708857
DTSTART;TZID=Europe/Berlin:20260425T173000
DURATION:PT30M
LOCATION:St. Martin\, Kirchplatz 8\, 85107 Baar-Ebenhausen
END:VEVENT
BEGIN:VEVENT
UID:sabre-vobject-0d389195-5893-4de9-8227-c1984eafd798
DTSTAMP:20260421T201022Z
SUMMARY:Vorabendmesse zum Sonntag - Wir beten auch für unsere Geburtstags-
 Jubilare (April).
DESCRIPTION:https://pfarreien-bistum-augsburg.df-preview.de/vorabendmesse-z
 um-sonntag-wir-beten-auch-fuer-unsere-geburtstags-jubilare-april_id1708892
DTSTART;TZID=Europe/Berlin:20260425T180000
DURATION:PT30M
LOCATION:St. Martin\, Kirchplatz 8\, 85107 Baar-Ebenhausen
END:VEVENT
BEGIN:VEVENT
UID:sabre-vobject-7a09417c-9bc6-4214-a44c-294e56462b6b
DTSTAMP:20260421T201022Z
SUMMARY:Heilige Messe
DESCRIPTION:https://pfarreien-bistum-augsburg.df-preview.de/heilige-messe_i
 d1708894
DTSTART;TZID=Europe/Berlin:20260426T100000
DURATION:PT30M
LOCATION:St. Martin\, Kirchplatz 8\, 85107 Baar-Ebenhausen
END:VEVENT
BEGIN:VEVENT
UID:sabre-vobject-223ffaf9-45b5-42ac-b545-5965c5c11f01
DTSTAMP:20260421T201022Z
SUMMARY:Heilige Messe
DESCRIPTION:https://pfarreien-bistum-augsburg.df-preview.de/heilige-messe_i
 d1745467
DTSTART;TZID=Europe/Berlin:20260426T100000
DURATION:PT30M
LOCATION:St. Martin\, Kirchplatz 8\, 85107 Baar-Ebenhausen
END:VEVENT
BEGIN:VEVENT
UID:sabre-vobject-be713987-a5c0-4e9e-80a4-8de133590b91
DTSTAMP:20260421T201022Z
SUMMARY:Heilige Messe
DESCRIPTION:https://pfarreien-bistum-augsburg.df-preview.de/heilige-messe_i
 d1745073
DTSTART;TZID=Europe/Berlin:20260501T090000
DURATION:PT30M
LOCATION:St. Martin\, Kirchplatz 8\, 85107 Baar-Ebenhausen
END:VEVENT
BEGIN:VEVENT
UID:sabre-vobject-7ef6a0d4-a2b3-4812-9ad6-d88fe40c045b
DTSTAMP:20260421T201022Z
SUMMARY:Heilige Messe
DESCRIPTION:https://pfarreien-bistum-augsburg.df-preview.de/heilige-messe_i
 d1745074
DTSTART;TZID=Europe/Berlin:20260503T100000
DURATION:PT30M
LOCATION:St. Martin\, Kirchplatz 8\, 85107 Baar-Ebenhausen
END:VEVENT
BEGIN:VEVENT
UID:sabre-vobject-10a51162-99d4-4f4c-bc77-057609b93a57
DTSTAMP:20260421T201022Z
SUMMARY:Maiandacht
DESCRIPTION:https://pfarreien-bistum-augsburg.df-preview.de/maiandacht_id17
 45107
DTSTART;TZID=Europe/Berlin:20260503T180000
DURATION:PT30M
LOCATION:St. Martin\, Kirchplatz 8\, 85107 Baar-Ebenhausen
END:VEVENT
BEGIN:VEVENT
UID:sabre-vobject-6dd1eca2-e9d9-4f78-b48a-f19603e73b75
DTSTAMP:20260421T201022Z
SUMMARY:Rosenkranz und Beichtgelegenheit
DESCRIPTION:https://pfarreien-bistum-augsburg.df-preview.de/rosenkranz-und-
 beichtgelegenheit_id1745108
DTSTART;TZID=Europe/Berlin:20260509T173000
DURATION:PT30M
LOCATION:St. Martin\, Kirchplatz 8\, 85107 Baar-Ebenhausen
END:VEVENT
BEGIN:VEVENT
UID:sabre-vobject-1e23b4e9-5770-40e6-8d35-74e56c33b86e
DTSTAMP:20260421T201022Z
SUMMARY:Vorabendmesse zum Sonntag
DESCRIPTION:https://pfarreien-bistum-augsburg.df-preview.de/vorabendmesse-z
 um-sonntag_id1745116
DTSTART;TZID=Europe/Berlin:20260509T180000
DURATION:PT30M
LOCATION:St. Martin\, Kirchplatz 8\, 85107 Baar-Ebenhausen
END:VEVENT
BEGIN:VEVENT
UID:sabre-vobject-fccb0af6-3b89-4088-8aaf-1eb251ecd7b3
DTSTAMP:20260421T201022Z
SUMMARY:Heilige Messe
DESCRIPTION:https://pfarreien-bistum-augsburg.df-preview.de/heilige-messe_i
 d1745117
DTSTART;TZID=Europe/Berlin:20260510T100000
DURATION:PT30M
LOCATION:St. Martin\, Kirchplatz 8\, 85107 Baar-Ebenhausen
END:VEVENT
BEGIN:VEVENT
UID:sabre-vobject-515c2b0d-a621-4566-ba90-558fc29baf89
DTSTAMP:20260421T201022Z
SUMMARY:Fahrrad-Bittgang nach Pichl\, Treffpunkt: Kirche Ebenhausen
DESCRIPTION:https://pfarreien-bistum-augsburg.df-preview.de/fahrrad-bittgan
 g-nach-pichl-treffpunkt-kirche-ebenhausen_id1745133
DTSTART;TZID=Europe/Berlin:20260512T183000
DURATION:PT30M
LOCATION:St. Martin\, Kirchplatz 8\, 85107 Baar-Ebenhausen
END:VEVENT
BEGIN:VEVENT
UID:sabre-vobject-d593dc04-503c-4a8e-9a34-41fb9cf2f62a
DTSTAMP:20260421T201022Z
SUMMARY:Hochamt
DESCRIPTION:https://pfarreien-bistum-augsburg.df-preview.de/hochamt_id17452
 25
DTSTART;TZID=Europe/Berlin:20260514T100000
DURATION:PT30M
LOCATION:St. Martin\, Kirchplatz 8\, 85107 Baar-Ebenhausen
END:VEVENT
BEGIN:VEVENT
UID:sabre-vobject-7838bd66-e59a-449d-80d1-d5abb5ccab9c
DTSTAMP:20260421T201022Z
SUMMARY:Bittgang nach St. Kastulus\, Treffpunkt: Kirche Ebenhausen
DESCRIPTION:https://pfarreien-bistum-augsburg.df-preview.de/bittgang-nach-s
 t-kastulus-treffpunkt-kirche-ebenhausen_id1745109
DTSTART;TZID=Europe/Berlin:20260515T073000
DURATION:PT30M
LOCATION:St. Martin\, Kirchplatz 8\, 85107 Baar-Ebenhausen
END:VEVENT
BEGIN:VEVENT
UID:sabre-vobject-10fc405d-8dab-44c2-8fb0-47372d06551a
DTSTAMP:20260421T201022Z
SUMMARY:Bittmesse in der Kirche St. Kastulus (Bittgang)
DESCRIPTION:https://pfarreien-bistum-augsburg.df-preview.de/bittmesse-in-de
 r-kirche-st-kastulus-bittgang_id1745110
DTSTART;TZID=Europe/Berlin:20260515T100000
DURATION:PT30M
LOCATION:St. Martin\, Kirchplatz 8\, 85107 Baar-Ebenhausen
END:VEVENT
BEGIN:VEVENT
UID:sabre-vobject-e6b0d9ac-f11b-43d2-bd4c-d0285332ef7c
DTSTAMP:20260421T201022Z
SUMMARY:Rosenkranz und Beichtgelegenheit
DESCRIPTION:https://pfarreien-bistum-augsburg.df-preview.de/rosenkranz-und-
 beichtgelegenheit_id1745111
DTSTART;TZID=Europe/Berlin:20260516T173000
DURATION:PT30M
LOCATION:St. Martin\, Kirchplatz 8\, 85107 Baar-Ebenhausen
END:VEVENT
BEGIN:VEVENT
UID:sabre-vobject-012d1801-9c6b-4d14-b1aa-0297120a93a5
DTSTAMP:20260421T201022Z
SUMMARY:Vorabendmesse zum Sonntag
DESCRIPTION:https://pfarreien-bistum-augsburg.df-preview.de/vorabendmesse-z
 um-sonntag_id1745123
DTSTART;TZID=Europe/Berlin:20260516T180000
DURATION:PT30M
LOCATION:St. Martin\, Kirchplatz 8\, 85107 Baar-Ebenhausen
END:VEVENT
BEGIN:VEVENT
UID:sabre-vobject-392e3e90-7e40-443c-985f-b7254d5b6636
DTSTAMP:20260421T201022Z
SUMMARY:Familienmesse für die Pfarreien Baar und Ebenhausen mit anschließ
 endem Flurumgang (Baarer Flur) - Die Erstkommunionkinder kommen bitte im F
 estgewand ohne Kerze.
DESCRIPTION:https://pfarreien-bistum-augsburg.df-preview.de/familienmesse-f
 uer-die-pfarreien-baar-und-ebenhausen-mit-anschliessendem-flurumgang-baare
 r-flur-die-erstkommunionkinder-kommen-bitte-im-festgewand-ohne-kerze_id174
 5124
DTSTART;TZID=Europe/Berlin:20260517T090000
DURATION:PT30M
LOCATION:St. Martin\, Kirchplatz 8\, 85107 Baar-Ebenhausen
END:VEVENT
BEGIN:VEVENT
UID:sabre-vobject-9a5ed89c-973d-4bdd-af76-7eafc9b35626
DTSTAMP:20260421T201022Z
SUMMARY:Maiandacht
DESCRIPTION:https://pfarreien-bistum-augsburg.df-preview.de/maiandacht_id17
 45138
DTSTART;TZID=Europe/Berlin:20260517T180000
DURATION:PT30M
LOCATION:St. Martin\, Kirchplatz 8\, 85107 Baar-Ebenhausen
END:VEVENT
BEGIN:VEVENT
UID:sabre-vobject-38f1bd79-dec6-4012-93cb-e24e0349f860
DTSTAMP:20260421T201022Z
SUMMARY:Rosenkranz und Beichtgelegenheit
DESCRIPTION:https://pfarreien-bistum-augsburg.df-preview.de/rosenkranz-und-
 beichtgelegenheit_id1745158
DTSTART;TZID=Europe/Berlin:20260523T173000
DURATION:PT30M
LOCATION:St. Martin\, Kirchplatz 8\, 85107 Baar-Ebenhausen
END:VEVENT
BEGIN:VEVENT
UID:sabre-vobject-a401fec0-6a21-4b2a-986f-a9763f2936cf
DTSTAMP:20260421T201022Z
SUMMARY:Vorabendmesse zum Sonntag
DESCRIPTION:https://pfarreien-bistum-augsburg.df-preview.de/vorabendmesse-z
 um-sonntag_id1745159
DTSTART;TZID=Europe/Berlin:20260523T180000
DURATION:PT30M
LOCATION:St. Martin\, Kirchplatz 8\, 85107 Baar-Ebenhausen
END:VEVENT
BEGIN:VEVENT
UID:sabre-vobject-b60e1d35-f944-4935-9d24-18889676f27e
DTSTAMP:20260421T201022Z
SUMMARY:Heilige Messe
DESCRIPTION:https://pfarreien-bistum-augsburg.df-preview.de/heilige-messe_i
 d1745003
DTSTART;TZID=Europe/Berlin:20260524T100000
DURATION:PT30M
LOCATION:St. Martin\, Kirchplatz 8\, 85107 Baar-Ebenhausen
END:VEVENT
BEGIN:VEVENT
UID:sabre-vobject-1c03c446-2a4f-40e9-87b5-07c208d06572
DTSTAMP:20260421T201022Z
SUMMARY:Heilige Messe
DESCRIPTION:https://pfarreien-bistum-augsburg.df-preview.de/heilige-messe_i
 d1745004
DTSTART;TZID=Europe/Berlin:20260525T100000
DURATION:PT30M
LOCATION:St. Martin\, Kirchplatz 8\, 85107 Baar-Ebenhausen
END:VEVENT
BEGIN:VEVENT
UID:sabre-vobject-0e3f2547-e2f6-4a14-bd00-7116c0e411f2
DTSTAMP:20260421T201022Z
SUMMARY:Rosenkranz und Beichtgelegenheit
DESCRIPTION:https://pfarreien-bistum-augsburg.df-preview.de/rosenkranz-und-
 beichtgelegenheit_id1745005
DTSTART;TZID=Europe/Berlin:20260530T173000
DURATION:PT30M
LOCATION:St. Martin\, Kirchplatz 8\, 85107 Baar-Ebenhausen
END:VEVENT
BEGIN:VEVENT
UID:sabre-vobject-62faac12-559e-4820-bf66-1672dd2d6db5
DTSTAMP:20260421T201022Z
SUMMARY:Vorabendmesse zum Sonntag - Wir beten auch für unsere Geburtstags-
 Jubilare (Mai).
DESCRIPTION:https://pfarreien-bistum-augsburg.df-preview.de/vorabendmesse-z
 um-sonntag-wir-beten-auch-fuer-unsere-geburtstags-jubilare-mai_id1745226
DTSTART;TZID=Europe/Berlin:20260530T180000
DURATION:PT30M
LOCATION:St. Martin\, Kirchplatz 8\, 85107 Baar-Ebenhausen
END:VEVENT
BEGIN:VEVENT
UID:sabre-vobject-74c7b397-f182-4289-b175-1cd25e851c10
DTSTAMP:20260421T201022Z
SUMMARY:Heilige Messe
DESCRIPTION:https://pfarreien-bistum-augsburg.df-preview.de/heilige-messe_i
 d1745228
DTSTART;TZID=Europe/Berlin:20260531T100000
DURATION:PT30M
LOCATION:St. Martin\, Kirchplatz 8\, 85107 Baar-Ebenhausen
END:VEVENT
BEGIN:VEVENT
UID:sabre-vobject-47e2c514-2d79-4e00-9e01-871bdb8f1e02
DTSTAMP:20260421T201022Z
SUMMARY:Letzte feierliche Maiandacht
DESCRIPTION:https://pfarreien-bistum-augsburg.df-preview.de/letzte-feierlic
 he-maiandacht_id1745227
DTSTART;TZID=Europe/Berlin:20260531T180000
DURATION:PT30M
LOCATION:St. Martin\, Kirchplatz 8\, 85107 Baar-Ebenhausen
END:VEVENT
END:VCALENDAR
