BEGIN:VCALENDAR
VERSION:2.0
PRODID:-//Sabre//Sabre VObject 4.5.8//EN
CALSCALE:GREGORIAN
NAME:Bistum Augsburg
X-WR-CALNAME:Bistum Augsburg
BEGIN:VEVENT
UID:sabre-vobject-b3be70d2-277e-47f3-b229-d398a5401cf2
DTSTAMP:20260422T005852Z
SUMMARY:Hl. Messe
DESCRIPTION:https://pfarreien-bistum-augsburg.df-preview.de/hl-messe_id1744
 568
DTSTART;TZID=Europe/Berlin:20260422T173000
DURATION:PT30M
LOCATION:St. Alexander
END:VEVENT
BEGIN:VEVENT
UID:sabre-vobject-f3075bc5-aa7a-411e-af25-64c6e8ce59a3
DTSTAMP:20260422T005852Z
SUMMARY:Hl. Messe
DESCRIPTION:https://pfarreien-bistum-augsburg.df-preview.de/hl-messe_id1743
 269
DTSTART;TZID=Europe/Berlin:20260426T090000
DURATION:PT30M
LOCATION:St. Alexander
END:VEVENT
BEGIN:VEVENT
UID:sabre-vobject-dce45941-5960-443c-99db-ee7eb1daa805
DTSTAMP:20260422T005852Z
SUMMARY:Hl. Messe
DESCRIPTION:https://pfarreien-bistum-augsburg.df-preview.de/hl-messe_id1743
 270
DTSTART;TZID=Europe/Berlin:20260429T173000
DURATION:PT30M
LOCATION:St. Alexander
END:VEVENT
BEGIN:VEVENT
UID:sabre-vobject-1ce9a70d-4e87-47a3-9cba-717afb7fb8ea
DTSTAMP:20260422T005852Z
SUMMARY:Festgottesdienst zur Erstkommunion\, St. Georgs-Chor
DESCRIPTION:https://pfarreien-bistum-augsburg.df-preview.de/festgottesdiens
 t-zur-erstkommunion-st-georgs-chor_id1743271
DTSTART;TZID=Europe/Berlin:20260503T103000
DURATION:PT30M
LOCATION:St. Alexander
END:VEVENT
BEGIN:VEVENT
UID:sabre-vobject-f40f9c5d-ca4c-40d1-a18a-4995bc35e2c6
DTSTAMP:20260422T005852Z
SUMMARY:Hl. Messe
DESCRIPTION:https://pfarreien-bistum-augsburg.df-preview.de/hl-messe_id1743
 273
DTSTART;TZID=Europe/Berlin:20260506T173000
DURATION:PT30M
LOCATION:St. Alexander
END:VEVENT
END:VCALENDAR
