BEGIN:VCALENDAR
VERSION:2.0
PRODID:-//Sabre//Sabre VObject 4.5.8//EN
CALSCALE:GREGORIAN
NAME:Bistum Augsburg
X-WR-CALNAME:Bistum Augsburg
BEGIN:VEVENT
UID:sabre-vobject-270210ae-f8c7-4bc0-8626-a62587b49e3b
DTSTAMP:20260420T214541Z
SUMMARY:Heilige Messe
DESCRIPTION:https://pfarreien-bistum-augsburg.df-preview.de/heilige-messe_i
 d1736330
DTSTART;TZID=Europe/Berlin:20260424T190000
DURATION:PT30M
LOCATION:Heilig Kreuz\, Haupeltshofer Straße 2\, 86480 Aletshausen
END:VEVENT
BEGIN:VEVENT
UID:sabre-vobject-b862c2b4-86a4-4b1d-8eda-245ed871ecc0
DTSTAMP:20260420T214541Z
SUMMARY:Feier der Erstkommunion - Festgottesdienst
DESCRIPTION:https://pfarreien-bistum-augsburg.df-preview.de/feier-der-erstk
 ommunion-festgottesdienst_id1736333
DTSTART;TZID=Europe/Berlin:20260426T101500
DURATION:PT30M
LOCATION:Heilig Kreuz\, Haupeltshofer Straße 2\, 86480 Aletshausen
END:VEVENT
BEGIN:VEVENT
UID:sabre-vobject-3d020600-5bdb-4aae-986a-1bc39656df64
DTSTAMP:20260420T214541Z
SUMMARY:Maiandacht (an der Grotte)
DESCRIPTION:https://pfarreien-bistum-augsburg.df-preview.de/maiandacht-an-d
 er-grotte_id1736334
DTSTART;TZID=Europe/Berlin:20260501T180000
DURATION:PT30M
LOCATION:Heilig Kreuz\, Haupeltshofer Straße 2\, 86480 Aletshausen
END:VEVENT
END:VCALENDAR
